Workbook

Sheet Overall
A1: Consolidated Trade Values — Week 6 (2026) — Overall
A3: QB — 1QB / 2QB
A4: Rank | B4: Player | C4: 1QB | D4: # Sources | E4: 2QB | F4: # Sources
A5: 1 | B5: =QB!B6 -> Josh Allen | C5: =QB!C6 -> 32.1 | D5: =QB!D6 -> 5 | E5: =QB!V6 -> 71.9 | F5: =QB!W6 -> 4
A6: 2 | B6: =QB!B7 -> Brock Purdy | C6: =QB!C7 -> 20.1 | D6: =QB!D7 -> 5 | E6: =QB!V7 -> 56.9 | F6: =QB!W7 -> 4
A7: 3 | B7: =QB!B8 -> Lamar Jackson | C7: =QB!C8 -> 19.9 | D7: =QB!D8 -> 5 | E7: =QB!V8 -> 56.1 | F7: =QB!W8 -> 4
A8: 4 | B8: =QB!B9 -> Drake Maye | C8: =QB!C9 -> 17.4 | D8: =QB!D9 -> 5 | E8: =QB!V9 -> 54 | F8: =QB!W9 -> 4
A9: 5 | B9: =QB!B10 -> Patrick Mahomes II | C9: =QB!C10 -> 15.3 | D9: =QB!D10 -> 5 | E9: =QB!V10 -> 52.5 | F9: =QB!W10 -> 4
A10: 6 | B10: =QB!B11 -> Joe Burrow | C10: =QB!C11 -> 14.6 | D10: =QB!D11 -> 5 | E10: =QB!V11 -> 53.4 | F10: =QB!W11 -> 4
A11: 7 | B11: =QB!B12 -> Trevor Lawrence | C11: =QB!C12 -> 13.9 | D11: =QB!D12 -> 5 | E11: =QB!V12 -> 49 | F11: =QB!W12 -> 4
A12: 8 | B12: =QB!B13 -> Jared Goff | C12: =QB!C13 -> 12 | D12: =QB!D13 -> 5 | E12: =QB!V13 -> 49.5 | F12: =QB!W13 -> 4
A13: 9 | B13: =QB!B14 -> Caleb Williams | C13: =QB!C14 -> 11.5 | D13: =QB!D14 -> 5 | E13: =QB!V14 -> 50.7 | F13: =QB!W14 -> 4
A14: 10 | B14: =QB!B15 -> Dak Prescott | C14: =QB!C15 -> 11 | D14: =QB!D15 -> 5 | E14: =QB!V15 -> 48.9 | F14: =QB!W15 -> 4
A15: 11 | B15: =QB!B16 -> Jayden Daniels | C15: =QB!C16 -> 8.9 | D15: =QB!D16 -> 5 | E15: =QB!V16 -> 47.2 | F15: =QB!W16 -> 4
A16: 12 | B16: =QB!B17 -> Bryce Young | C16: =QB!C17 -> 8.2 | D16: =QB!D17 -> 5 | E16: =QB!V17 -> 45.2 | F16: =QB!W17 -> 4
... A36: 32 | B36: =QB!B37 -> Michael Penix Jr. | C36: =QB!C37 -> 0.6 | D36: =QB!D37 -> 4 | E36: =QB!V37 -> 31.5 | F36: =QB!W37 -> 4
A39: RB — PPR / HALF / STD
A40: Rank | B40: Player | C40: PPR | D40: # Sources | E40: HALF | F40: # Sources | G40: STD | H40: # Sources
A41: 1 | B41: =RB!B6 -> Jahmyr Gibbs | C41: =RB!C6 -> 81.8 | D41: =RB!D6 -> 5 | E41: =RB!V6 -> 79.3 | F41: =RB!W6 -> 5 | G41: =RB!AO6 -> 59.7 | H41: =RB!AP6 -> 2
A42: 2 | B42: =RB!B7 -> Bijan Robinson | C42: =RB!C7 -> 75.8 | D42: =RB!D7 -> 5 | E42: =RB!V7 -> 73.8 | F42: =RB!W7 -> 5 | G42: =RB!AO7 -> 56.9 | H42: =RB!AP7 -> 2
A43: 3 | B43: =RB!B8 -> Kenneth Walker III | C43: =RB!C8 -> 73.1 | D43: =RB!D8 -> 5 | E43: =RB!V8 -> 71.1 | F43: =RB!W8 -> 5 | G43: =RB!AO8 -> 55 | H43: =RB!AP8 -> 2
A44: 4 | B44: =RB!B9 -> Jonathan Taylor | C44: =RB!C9 -> 59.4 | D44: =RB!D9 -> 5 | E44: =RB!V9 -> 58.2 | F44: =RB!W9 -> 5 | G44: =RB!AO11 -> 43.4 | H44: =RB!AP11 -> 2
A45: 5 | B45: =RB!B10 -> James Cook III | C45: =RB!C10 -> 59.2 | D45: =RB!D10 -> 5 | E45: =RB!V10 -> 58.6 | F45: =RB!W10 -> 5 | G45: =RB!AO10 -> 44.8 | H45: =RB!AP10 -> 2
A46: 6 | B46: =RB!B11 -> Derrick Henry | C46: =RB!C11 -> 58.2 | D46: =RB!D11 -> 5 | E46: =RB!V11 -> 58.1 | F46: =RB!W11 -> 5 | G46: =RB!AO9 -> 45.2 | H46: =RB!AP9 -> 2
A47: 7 | B47: =RB!B12 -> Christian McCaffrey | C47: =RB!C12 -> 57.7 | D47: =RB!D12 -> 5 | E47: =RB!V12 -> 55.5 | F47: =RB!W12 -> 5 | G47: =RB!AO12 -> 41.4 | H47: =RB!AP12 -> 2
A48: 8 | B48: =RB!B13 -> Kyren Williams | C48: =RB!C13 -> 52.8 | D48: =RB!D13 -> 5 | E48: =RB!V13 -> 51.2 | F48: =RB!W13 -> 5 | G48: =RB!AO13 -> 37.7 | H48: =RB!AP13 -> 2
A49: 9 | B49: =RB!B14 -> Javonte Williams | C49: =RB!C14 -> 47.1 | D49: =RB!D14 -> 5 | E49: =RB!V14 -> 45.8 | F49: =RB!W14 -> 5 | G49: =RB!AO14 -> 33.9 | H49: =RB!AP14 -> 2
A50: 10 | B50: =RB!B15 -> Jaylen Warren | C50: =RB!C15 -> 45.9 | D50: =RB!D15 -> 5 | E50: =RB!V15 -> 43.5 | F50: =RB!W15 -> 5 | G50: =RB!AO16 -> 26.4 | H50: =RB!AP16 -> 2
A51: 11 | B51: =RB!B16 -> Ashton Jeanty | C51: =RB!C16 -> 43.9 | D51: =RB!D16 -> 5 | E51: =RB!V16 -> 42.1 | F51: =RB!W16 -> 5 | G51: =RB!AO19 -> 24.1 | H51: =RB!AP19 -> 2
A52: 12 | B52: =RB!B17 -> Chuba Hubbard | C52: =RB!C17 -> 43.5 | D52: =RB!D17 -> 5 | E52: =RB!V17 -> 42.1 | F52: =RB!W17 -> 5 | G52: =RB!AO15 -> 32.1 | H52: =RB!AP15 -> 2
A53: 13 | B53: =RB!B18 -> Chase Brown | C53: =RB!C18 -> 42.4 | D53: =RB!D18 -> 5 | E53: =RB!V18 -> 40.6 | F53: =RB!W18 -> 5 | G53: =RB!AO20 -> 23.3 | H53: =RB!AP20 -> 2
A54: 14 | B54: =RB!B19 -> D'Andre Swift | C54: =RB!C19 -> 40 | D54: =RB!D19 -> 5 | E54: =RB!V19 -> 38.7 | F54: =RB!W19 -> 5 | G54: =RB!AO17 -> 26 | H54: =RB!AP17 -> 2
A55: 15 | B55: =RB!B20 -> Breece Hall | C55: =RB!C20 -> 36.8 | D55: =RB!D20 -> 5 | E55: =RB!V20 -> 35.4 | F55: =RB!W20 -> 5 | G55: =RB!AO18 -> 24.9 | H55: =RB!AP18 -> 2
A56: 16 | B56: =RB!B21 -> Bhayshul Tuten | C56: =RB!C21 -> 36.6 | D56: =RB!D21 -> 5 | E56: =RB!V21 -> 35.9 | F56: =RB!W21 -> 5 | G56: =RB!AO22 -> 20.6 | H56: =RB!AP22 -> 2
A57: 17 | B57: =RB!B22 -> Bucky Irving | C57: =RB!C22 -> 36 | D57: =RB!D22 -> 5 | E57: =RB!V22 -> 34.5 | F57: =RB!W22 -> 5 | G57: =RB!AO21 -> 23.3 | H57: =RB!AP21 -> 2
A58: 18 | B58: =RB!B23 -> Saquon Barkley | C58: =RB!C23 -> 33.3 | D58: =RB!D23 -> 5 | E58: =RB!V23 -> 32.4 | F58: =RB!W23 -> 5 | G58: =RB!AO24 -> 18.3 | H58: =RB!AP24 -> 2
A59: 19 | B59: =RB!B24 -> Jeremiyah Love | C59: =RB!C24 -> 31.1 | D59: =RB!D24 -> 5 | E59: =RB!V24 -> 29.8 | F59: =RB!W24 -> 5 | G59: =RB!AO25 -> 14.1 | H59: =RB!AP25 -> 2
A60: 20 | B60: =RB!B25 -> Rhamondre Stevenson | C60: =RB!C25 -> 30.1 | D60: =RB!D25 -> 5 | E60: =RB!V25 -> 28.8 | F60: =RB!W25 -> 5 | G60: =RB!AO23 -> 19.6 | H60: =RB!AP23 -> 2
A61: 21 | B61: =RB!B26 -> Cam Skattebo | C61: =RB!C26 -> 26.9 | D61: =RB!D26 -> 5 | E61: =RB!V26 -> 26.1 | F61: =RB!W26 -> 5 | G61: =RB!AO26 -> 13.4 | H61: =RB!AP26 -> 2
A62: 22 | B62: =RB!B27 -> Quinshon Judkins | C62: =RB!C27 -> 26.7 | D62: =RB!D27 -> 5 | E62: =RB!V27 -> 25.8 | F62: =RB!W27 -> 5 | G62: =RB!AO27 -> 12.3 | H62: =RB!AP27 -> 2
...

Sheet QB
A1: QB — 1QB | P1: Site stats (this week) | T1: QB — 2QB | AI1: Site stats (this week)
T2: RSJ does not publish 2QB/Superflex values — left blank, excluded from the average.
A5: POS | B5: Player | C5: AVG (Normalized) | D5: # Sources | E5: YAH (C) | F5: YAH (Norm) | G5: CBS (C) | H5: CBS (Norm) | I5: FP (C) | J5: FP (Norm) | K5: RSJ (C) | L5: RSJ (Norm) | M5: USA (C) | N5: USA (Norm) | T5: POS | U5: Player | V5: AVG (Normalized) | W5: # Sources | X5: YAH (C) | Y5: YAH (Norm) | Z5: CBS (C) | AA5: CBS (Norm) | AB5: FP (C) | AC5: FP (Norm) | AD5: USA (C) | AE5: USA (Norm)
A6: QB | B6: Josh Allen | C6: =IFERROR(ROUND(MAX(0,AVERAGE(F6,H6,J6,L6,N6)),1),"") -> 32.1 | D6: =COUNT(E6,G6,I6,K6,M6) -> 5 | E6: 32 | F6: =IF(E6="","",ROUND(((E6-Q$7)/Q$8)*Q$18+Q$17,1)) -> 36.3 | G6: 22 | H6: =IF(G6="","",ROUND(((G6-Q$9)/Q$10)*Q$18+Q$17,1)) -> 32.1 | I6: 29.1 | J6: =IF(I6="","",ROUND(((I6-Q$11)/Q$12)*Q$18+Q$17,1)) -> 29.3 | K6: 1831 | L6: =IF(K6="","",ROUND(((K6-Q$13)/Q$14)*Q$18+Q$17,1)) -> 31 | M6: 40 | N6: =IF(M6="","",ROUND(((M6-Q$15)/Q$16)*Q$18+Q$17,1)) -> 31.7 | T6: QB | U6: Josh Allen | V6: =IFERROR(ROUND(MAX(0,AVERAGE(Y6,AA6,AC6,AE6)),1),"") -> 71.9 | W6: =COUNT(X6,Z6,AB6,AD6) -> 4 | X6: 81 | Y6: =IF(X6="","",ROUND(((X6-AJ$7)/AJ$8)*AJ$16+AJ$15,1)) -> 69.7 | Z6: 48 | AA6: =IF(Z6="","",ROUND(((Z6-AJ$9)/AJ$10)*AJ$16+AJ$15,1)) -> 80.3 | AB6: 69.5 | AC6: =IF(AB6="","",ROUND(((AB6-AJ$11)/AJ$12)*AJ$16+AJ$15,1)) -> 63.6 | AD6: 75 | AE6: =IF(AD6="","",ROUND(((AD6-AJ$13)/AJ$14)*AJ$16+AJ$15,1)) -> 73.8
A7: QB | B7: Brock Purdy | C7: =IFERROR(ROUND(MAX(0,AVERAGE(F7,H7,J7,L7,N7)),1),"") -> 20.1 | D7: =COUNT(E7,G7,I7,K7,M7) -> 5 | E7: 21 | F7: =IF(E7="","",ROUND(((E7-Q$7)/Q$8)*Q$18+Q$17,1)) -> 24.4 | G7: 12 | H7: =IF(G7="","",ROUND(((G7-Q$9)/Q$10)*Q$18+Q$17,1)) -> 12 | I7: 24.7 | J7: =IF(I7="","",ROUND(((I7-Q$11)/Q$12)*Q$18+Q$17,1)) -> 25.2 | K7: 1290 | L7: =IF(K7="","",ROUND(((K7-Q$13)/Q$14)*Q$18+Q$17,1)) -> 20.2 | M7: 24 | N7: =IF(M7="","",ROUND(((M7-Q$15)/Q$16)*Q$18+Q$17,1)) -> 18.7 | P7: YAH Mean | Q7: =IFERROR(AVERAGE(E6:E400),"") -> 6.25 | T7: QB | U7: Brock Purdy | V7: =IFERROR(ROUND(MAX(0,AVERAGE(Y7,AA7,AC7,AE7)),1),"") -> 56.9 | W7: =COUNT(X7,Z7,AB7,AD7) -> 4 | X7: 70 | Y7: =IF(X7="","",ROUND(((X7-AJ$7)/AJ$8)*AJ$16+AJ$15,1)) -> 62 | Z7: 30 | AA7: =IF(Z7="","",ROUND(((Z7-AJ$9)/AJ$10)*AJ$16+AJ$15,1)) -> 57.8 | AB7: 55.5 | AC7: =IF(AB7="","",ROUND(((AB7-AJ$11)/AJ$12)*AJ$16+AJ$15,1)) -> 51.9 | AD7: 61 | AE7: =IF(AD7="","",ROUND(((AD7-AJ$13)/AJ$14)*AJ$16+AJ$15,1)) -> 55.8 | AI7: YAH Mean | AJ7: =IFERROR(AVERAGE(X6:X400),"") -> 39.3125
A8: QB | B8: Lamar Jackson | C8: =IFERROR(ROUND(MAX(0,AVERAGE(F8,H8,J8,L8,N8)),1),"") -> 19.9 | D8: =COUNT(E8,G8,I8,K8,M8) -> 5 | E8: 16 | F8: =IF(E8="","",ROUND(((E8-Q$7)/Q$8)*Q$18+Q$17,1)) -> 19 | G8: 13 | H8: =IF(G8="","",ROUND(((G8-Q$9)/Q$10)*Q$18+Q$17,1)) -> 14 | I8: 28.6 | J8: =IF(I8="","",ROUND(((I8-Q$11)/Q$12)*Q$18+Q$17,1)) -> 28.8 | K8: 1161 | L8: =IF(K8="","",ROUND(((K8-Q$13)/Q$14)*Q$18+Q$17,1)) -> 17.6 | M8: 26 | N8: =IF(M8="","",ROUND(((M8-Q$15)/Q$16)*Q$18+Q$17,1)) -> 20.3 | P8: YAH StDev | Q8: =IFERROR(STDEVP(E6:E400),"") -> 7.570502 | T8: QB | U8: Lamar Jackson | V8: =IFERROR(ROUND(MAX(0,AVERAGE(Y8,AA8,AC8,AE8)),1),"") -> 56.1 | W8: =COUNT(X8,Z8,AB8,AD8) -> 4 | X8: 61 | Y8: =IF(X8="","",ROUND(((X8-AJ$7)/AJ$8)*AJ$16+AJ$15,1)) -> 55.8 | Z8: 30 | AA8: =IF(Z8="","",ROUND(((Z8-AJ$9)/AJ$10)*AJ$16+AJ$15,1)) -> 57.8 | AB8: 56.2 | AC8: =IF(AB8="","",ROUND(((AB8-AJ$11)/AJ$12)*AJ$16+AJ$15,1)) -> 52.5 | AD8: 63 | AE8: =IF(AD8="","",ROUND(((AD8-AJ$13)/AJ$14)*AJ$16+AJ$15,1)) -> 58.4 | AI8: YAH StDev | AJ8: =IFERROR(STDEVP(X6:X400),"") -> 17.375337
A9: QB | B9: Drake Maye | C9: =IFERROR(ROUND(MAX(0,AVERAGE(F9,H9,J9,L9,N9)),1),"") -> 17.4 | D9: =COUNT(E9,G9,I9,K9,M9) -> 5 | E9: 16 | F9: =IF(E9="","",ROUND(((E9-Q$7)/Q$8)*Q$18+Q$17,1)) -> 19 | G9: 10 | H9: =IF(G9="","",ROUND(((G9-Q$9)/Q$10)*Q$18+Q$17,1)) -> 8 | I9: 19 | J9: =IF(I9="","",ROUND(((I9-Q$11)/Q$12)*Q$18+Q$17,1)) -> 19.9 | K9: 1274 | L9: =IF(K9="","",ROUND(((K9-Q$13)/Q$14)*Q$18+Q$17,1)) -> 19.9 | M9: 26 | N9: =IF(M9="","",ROUND(((M9-Q$15)/Q$16)*Q$18+Q$17,1)) -> 20.3 | P9: CBS Mean | Q9: =IFERROR(AVERAGE(G6:G400),"") -> 10.214286 | T9: QB | U9: Drake Maye | V9: =IFERROR(ROUND(MAX(0,AVERAGE(Y9,AA9,AC9,AE9)),1),"") -> 54 | W9: =COUNT(X9,Z9,AB9,AD9) -> 4 | X9: 61 | Y9: =IF(X9="","",ROUND(((X9-AJ$7)/AJ$8)*AJ$16+AJ$15,1)) -> 55.8 | Z9: 24 | AA9: =IF(Z9="","",ROUND(((Z9-AJ$9)/AJ$10)*AJ$16+AJ$15,1)) -> 50.3 | AB9: 54.9 | AC9: =IF(AB9="","",ROUND(((AB9-AJ$11)/AJ$12)*AJ$16+AJ$15,1)) -> 51.4 | AD9: 63 | AE9: =IF(AD9="","",ROUND(((AD9-AJ$13)/AJ$14)*AJ$16+AJ$15,1)) -> 58.4 | AI9: CBS Mean | AJ9: =IFERROR(AVERAGE(Z6:Z400),"") -> 16.3125
A10: QB | B10: Patrick Mahomes II | C10: =IFERROR(ROUND(MAX(0,AVERAGE(F10,H10,J10,L10,N10)),1),"") -> 15.3 | D10: =COUNT(E10,G10,I10,K10,M10) -> 5 | E10: 14 | F10: =IF(E10="","",ROUND(((E10-Q$7)/Q$8)*Q$18+Q$17,1)) -> 16.8 | G10: 12 | H10: =IF(G10="","",ROUND(((G10-Q$9)/Q$10)*Q$18+Q$17,1)) -> 12 | I10: 12.8 | J10: =IF(I10="","",ROUND(((I10-Q$11)/Q$12)*Q$18+Q$17,1)) -> 14.1 | K10: 1226 | L10: =IF(K10="","",ROUND(((K10-Q$13)/Q$14)*Q$18+Q$17,1)) -> 18.9 | M10: 19 | N10: =IF(M10="","",ROUND(((M10-Q$15)/Q$16)*Q$18+Q$17,1)) -> 14.6 | P10: CBS StDev | Q10: =IFERROR(STDEVP(G6:G400),"") -> 4.0739341 | T10: QB | U10: Patrick Mahomes II | V10: =IFERROR(ROUND(MAX(0,AVERAGE(Y10,AA10,AC10,AE10)),1),"") -> 52.5 | W10: =COUNT(X10,Z10,AB10,AD10) -> 4 | X10: 58 | Y10: =IF(X10="","",ROUND(((X10-AJ$7)/AJ$8)*AJ$16+AJ$15,1)) -> 53.7 | Z10: 30 | AA10: =IF(Z10="","",ROUND(((Z10-AJ$9)/AJ$10)*AJ$16+AJ$15,1)) -> 57.8 | AB10: 52.1 | AC10: =IF(AB10="","",ROUND(((AB10-AJ$11)/AJ$12)*AJ$16+AJ$15,1)) -> 49.1 | AD10: 56 | AE10: =IF(AD10="","",ROUND(((AD10-AJ$13)/AJ$14)*AJ$16+AJ$15,1)) -> 49.3 | AI10: CBS StDev | AJ10: =IFERROR(STDEVP(Z6:Z400),"") -> 9.6806427
A11: QB | B11: Joe Burrow | C11: =IFERROR(ROUND(MAX(0,AVERAGE(F11,H11,J11,L11,N11)),1),"") -> 14.6 | D11: =COUNT(E11,G11,I11,K11,M11) -> 5 | E11: 13 | F11: =IF(E11="","",ROUND(((E11-Q$7)/Q$8)*Q$18+Q$17,1)) -> 15.8 | G11: 12 | H11: =IF(G11="","",ROUND(((G11-Q$9)/Q$10)*Q$18+Q$17,1)) -> 12 | I11: 10 | J11: =IF(I11="","",ROUND(((I11-Q$11)/Q$12)*Q$18+Q$17,1)) -> 11.5 | K11: 1061 | L11: =IF(K11="","",ROUND(((K11-Q$13)/Q$14)*Q$18+Q$17,1)) -> 15.7 | M11: 23 | N11: =IF(M11="","",ROUND(((M11-Q$15)/Q$16)*Q$18+Q$17,1)) -> 17.9 | P11: FP Mean | Q11: =IFERROR(AVERAGE(I6:I400),"") -> 6.678125 | T11: QB | U11: Joe Burrow | V11: =IFERROR(ROUND(MAX(0,AVERAGE(Y11,AA11,AC11,AE11)),1),"") -> 53.4 | W11: =COUNT(X11,Z11,AB11,AD11) -> 4 | X11: 57 | Y11: =IF(X11="","",ROUND(((X11-AJ$7)/AJ$8)*AJ$16+AJ$15,1)) -> 53 | Z11: 30 | AA11: =IF(Z11="","",ROUND(((Z11-AJ$9)/AJ$10)*AJ$16+AJ$15,1)) -> 57.8 | AB11: 50.9 | AC11: =IF(AB11="","",ROUND(((AB11-AJ$11)/AJ$12)*AJ$16+AJ$15,1)) -> 48.1 | AD11: 60 | AE11: =IF(AD11="","",ROUND(((AD11-AJ$13)/AJ$14)*AJ$16+AJ$15,1)) -> 54.5 | AI11: FP Mean | AJ11: =IFERROR(AVERAGE(AB6:AB400),"") -> 41.965625
A12: QB | B12: Trevor Lawrence | C12: =IFERROR(ROUND(MAX(0,AVERAGE(F12,H12,J12,L12,N12)),1),"") -> 13.9 | D12: =COUNT(E12,G12,I12,K12,M12) -> 5 | E12: 12 | F12: =IF(E12="","",ROUND(((E12-Q$7)/Q$8)*Q$18+Q$17,1)) -> 14.7 | G12: 9 | H12: =IF(G12="","",ROUND(((G12-Q$9)/Q$10)*Q$18+Q$17,1)) -> 6 | I12: 24.5 | J12: =IF(I12="","",ROUND(((I12-Q$11)/Q$12)*Q$18+Q$17,1)) -> 25 | K12: 890 | L12: =IF(K12="","",ROUND(((K12-Q$13)/Q$14)*Q$18+Q$17,1)) -> 12.3 | M12: 15 | N12: =IF(M12="","",ROUND(((M12-Q$15)/Q$16)*Q$18+Q$17,1)) -> 11.4 | P12: FP StDev | Q12: =IFERROR(STDEVP(I6:I400),"") -> 8.8150345 | T12: QB | U12: Trevor Lawrence | V12: =IFERROR(ROUND(MAX(0,AVERAGE(Y12,AA12,AC12,AE12)),1),"") -> 49 | W12: =COUNT(X12,Z12,AB12,AD12) -> 4 | X12: 56 | Y12: =IF(X12="","",ROUND(((X12-AJ$7)/AJ$8)*AJ$16+AJ$15,1)) -> 52.3 | Z12: 22 | AA12: =IF(Z12="","",ROUND(((Z12-AJ$9)/AJ$10)*AJ$16+AJ$15,1)) -> 47.8 | AB12: 55.1 | AC12: =IF(AB12="","",ROUND(((AB12-AJ$11)/AJ$12)*AJ$16+AJ$15,1)) -> 51.6 | AD12: 52 | AE12: =IF(AD12="","",ROUND(((AD12-AJ$13)/AJ$14)*AJ$16+AJ$15,1)) -> 44.2 | AI12: FP StDev | AJ12: =IFERROR(STDEVP(AB6:AB400),"") -> 14.557915
A13: QB | B13: Jared Goff | C13: =IFERROR(ROUND(MAX(0,AVERAGE(F13,H13,J13,L13,N13)),1),"") -> 12 | D13: =COUNT(E13,G13,I13,K13,M13) -> 5 | E13: 9 | F13: =IF(E13="","",ROUND(((E13-Q$7)/Q$8)*Q$18+Q$17,1)) -> 11.4 | G13: 8 | H13: =IF(G13="","",ROUND(((G13-Q$9)/Q$10)*Q$18+Q$17,1)) -> 4 | I13: 12 | J13: =IF(I13="","",ROUND(((I13-Q$11)/Q$12)*Q$18+Q$17,1)) -> 13.4 | K13: 981 | L13: =IF(K13="","",ROUND(((K13-Q$13)/Q$14)*Q$18+Q$17,1)) -> 14.1 | M13: 22 | N13: =IF(M13="","",ROUND(((M13-Q$15)/Q$16)*Q$18+Q$17,1)) -> 17.1 | P13: RSJ Mean | Q13: =IFERROR(AVERAGE(K6:K400),"") -> 698.55556 | T13: QB | U13: Jared Goff | V13: =IFERROR(ROUND(MAX(0,AVERAGE(Y13,AA13,AC13,AE13)),1),"") -> 49.5 | W13: =COUNT(X13,Z13,AB13,AD13) -> 4 | X13: 50 | Y13: =IF(X13="","",ROUND(((X13-AJ$7)/AJ$8)*AJ$16+AJ$15,1)) -> 48.1 | Z13: 22 | AA13: =IF(Z13="","",ROUND(((Z13-AJ$9)/AJ$10)*AJ$16+AJ$15,1)) -> 47.8 | AB13: 51.8 | AC13: =IF(AB13="","",ROUND(((AB13-AJ$11)/AJ$12)*AJ$16+AJ$15,1)) -> 48.8 | AD13: 59 | AE13: =IF(AD13="","",ROUND(((AD13-AJ$13)/AJ$14)*AJ$16+AJ$15,1)) -> 53.2 | AI13: USA Mean | AJ13: =IFERROR(AVERAGE(AD6:AD400),"") -> 49.25
A14: QB | B14: Caleb Williams | C14: =IFERROR(ROUND(MAX(0,AVERAGE(F14,H14,J14,L14,N14)),1),"") -> 11.5 | D14: =COUNT(E14,G14,I14,K14,M14) -> 5 | E14: 13 | F14: =IF(E14="","",ROUND(((E14-Q$7)/Q$8)*Q$18+Q$17,1)) -> 15.8 | G14: 10 | H14: =IF(G14="","",ROUND(((G14-Q$9)/Q$10)*Q$18+Q$17,1)) -> 8 | I14: 8 | J14: =IF(I14="","",ROUND(((I14-Q$11)/Q$12)*Q$18+Q$17,1)) -> 9.7 | K14: 667 | L14: =IF(K14="","",ROUND(((K14-Q$13)/Q$14)*Q$18+Q$17,1)) -> 7.8 | M14: 21 | N14: =IF(M14="","",ROUND(((M14-Q$15)/Q$16)*Q$18+Q$17,1)) -> 16.3 | P14: RSJ StDev | Q14: =IFERROR(STDEVP(K6:K400),"") -> 411.80644 | T14: QB | U14: Caleb Williams | V14: =IFERROR(ROUND(MAX(0,AVERAGE(Y14,AA14,AC14,AE14)),1),"") -> 50.7 | W14: =COUNT(X14,Z14,AB14,AD14) -> 4 | X14: 57 | Y14: =IF(X14="","",ROUND(((X14-AJ$7)/AJ$8)*AJ$16+AJ$15,1)) -> 53 | Z14: 24 | AA14: =IF(Z14="","",ROUND(((Z14-AJ$9)/AJ$10)*AJ$16+AJ$15,1)) -> 50.3 | AB14: 50.5 | AC14: =IF(AB14="","",ROUND(((AB14-AJ$11)/AJ$12)*AJ$16+AJ$15,1)) -> 47.7 | AD14: 58 | AE14: =IF(AD14="","",ROUND(((AD14-AJ$13)/AJ$14)*AJ$16+AJ$15,1)) -> 51.9 | AI14: USA StDev | AJ14: =IFERROR(STDEVP(AD6:AD400),"") -> 9.4041214
A15: QB | B15: Dak Prescott | C15: =IFERROR(ROUND(MAX(0,AVERAGE(F15,H15,J15,L15,N15)),1),"") -> 11 | D15: =COUNT(E15,G15,I15,K15,M15) -> 5 | E15: 9 | F15: =IF(E15="","",ROUND(((E15-Q$7)/Q$8)*Q$18+Q$17,1)) -> 11.4 | G15: 10 | H15: =IF(G15="","",ROUND(((G15-Q$9)/Q$10)*Q$18+Q$17,1)) -> 8 | I15: 9.2 | J15: =IF(I15="","",ROUND(((I15-Q$11)/Q$12)*Q$18+Q$17,1)) -> 10.8 | K15: 879 | L15: =IF(K15="","",ROUND(((K15-Q$13)/Q$14)*Q$18+Q$17,1)) -> 12 | M15: 17 | N15: =IF(M15="","",ROUND(((M15-Q$15)/Q$16)*Q$18+Q$17,1)) -> 13 | P15: USA Mean | Q15: =IFERROR(AVERAGE(M6:M400),"") -> 11.40625 | T15: QB | U15: Dak Prescott | V15: =IFERROR(ROUND(MAX(0,AVERAGE(Y15,AA15,AC15,AE15)),1),"") -> 48.9 | W15: =COUNT(X15,Z15,AB15,AD15) -> 4 | X15: 50 | Y15: =IF(X15="","",ROUND(((X15-AJ$7)/AJ$8)*AJ$16+AJ$15,1)) -> 48.1 | Z15: 26 | AA15: =IF(Z15="","",ROUND(((Z15-AJ$9)/AJ$10)*AJ$16+AJ$15,1)) -> 52.8 | AB15: 50.7 | AC15: =IF(AB15="","",ROUND(((AB15-AJ$11)/AJ$12)*AJ$16+AJ$15,1)) -> 47.9 | AD15: 54 | AE15: =IF(AD15="","",ROUND(((AD15-AJ$13)/AJ$14)*AJ$16+AJ$15,1)) -> 46.8 | AI15: Target Mean (anchor sites, median) | AJ15: =MEDIAN(AJ$7,AJ$9,AJ$11,AJ$13) -> 40.639063
A16: QB | B16: Jayden Daniels | C16: =IFERROR(ROUND(MAX(0,AVERAGE(F16,H16,J16,L16,N16)),1),"") -> 8.9 | D16: =COUNT(E16,G16,I16,K16,M16) -> 5 | E16: 10 | F16: =IF(E16="","",ROUND(((E16-Q$7)/Q$8)*Q$18+Q$17,1)) -> 12.5 | G16: 5 | H16: =IF(G16="","",ROUND(((G16-Q$9)/Q$10)*Q$18+Q$17,1)) -> -2 | I16: 7.6 | J16: =IF(I16="","",ROUND(((I16-Q$11)/Q$12)*Q$18+Q$17,1)) -> 9.3 | K16: 705 | L16: =IF(K16="","",ROUND(((K16-Q$13)/Q$14)*Q$18+Q$17,1)) -> 8.6 | M16: 21 | N16: =IF(M16="","",ROUND(((M16-Q$15)/Q$16)*Q$18+Q$17,1)) -> 16.3 | P16: USA StDev | Q16: =IFERROR(STDEVP(M6:M400),"") -> 10.052547 | T16: QB | U16: Jayden Daniels | V16: =IFERROR(ROUND(MAX(0,AVERAGE(Y16,AA16,AC16,AE16)),1),"") -> 47.2 | W16: =COUNT(X16,Z16,AB16,AD16) -> 4 | X16: 52 | Y16: =IF(X16="","",ROUND(((X16-AJ$7)/AJ$8)*AJ$16+AJ$15,1)) -> 49.5 | Z16: 16 | AA16: =IF(Z16="","",ROUND(((Z16-AJ$9)/AJ$10)*AJ$16+AJ$15,1)) -> 40.2 | AB16: 49.7 | AC16: =IF(AB16="","",ROUND(((AB16-AJ$11)/AJ$12)*AJ$16+AJ$15,1)) -> 47.1 | AD16: 58 | AE16: =IF(AD16="","",ROUND(((AD16-AJ$13)/AJ$14)*AJ$16+AJ$15,1)) -> 51.9 | AI16: Target StDev (anchor sites, median) | AJ16: =MEDIAN(AJ$8,AJ$10,AJ$12,AJ$14) -> 12.119279
A17: QB | B17: Bryce Young | C17: =IFERROR(ROUND(MAX(0,AVERAGE(F17,H17,J17,L17,N17)),1),"") -> 8.2 | D17: =COUNT(E17,G17,I17,K17,M17) -> 5 | E17: 7 | F17: =IF(E17="","",ROUND(((E17-Q$7)/Q$8)*Q$18+Q$17,1)) -> 9.3 | G17: 7 | H17: =IF(G17="","",ROUND(((G17-Q$9)/Q$10)*Q$18+Q$17,1)) -> 2 | I17: 3.6 | J17: =IF(I17="","",ROUND(((I17-Q$11)/Q$12)*Q$18+Q$17,1)) -> 5.6 | K17: 867 | L17: =IF(K17="","",ROUND(((K17-Q$13)/Q$14)*Q$18+Q$17,1)) -> 11.8 | M17: 16 | N17: =IF(M17="","",ROUND(((M17-Q$15)/Q$16)*Q$18+Q$17,1)) -> 12.2 | P17: Target Mean (anchor sites, median) | Q17: =MEDIAN(Q$7,Q$9,Q$11,Q$15) -> 8.4462054 | T17: QB | U17: Bryce Young | V17: =IFERROR(ROUND(MAX(0,AVERAGE(Y17,AA17,AC17,AE17)),1),"") -> 45.2 | W17: =COUNT(X17,Z17,AB17,AD17) -> 4 | X17: 47 | Y17: =IF(X17="","",ROUND(((X17-AJ$7)/AJ$8)*AJ$16+AJ$15,1)) -> 46 | Z17: 18 | AA17: =IF(Z17="","",ROUND(((Z17-AJ$9)/AJ$10)*AJ$16+AJ$15,1)) -> 42.8 | AB17: 48.9 | AC17: =IF(AB17="","",ROUND(((AB17-AJ$11)/AJ$12)*AJ$16+AJ$15,1)) -> 46.4 | AD17: 53 | AE17: =IF(AD17="","",ROUND(((AD17-AJ$13)/AJ$14)*AJ$16+AJ$15,1)) -> 45.5
A18: QB | B18: Jalen Hurts | C18: =IFERROR(ROUND(MAX(0,AVERAGE(F18,H18,J18,L18,N18)),1),"") -> 7.6 | D18: =COUNT(E18,G18,I18,K18,M18) -> 4 | E18: 5 | F18: =IF(E18="","",ROUND(((E18-Q$7)/Q$8)*Q$18+Q$17,1)) -> 7.1 | H18: =IF(G18="","",ROUND(((G18-Q$9)/Q$10)*Q$18+Q$17,1)) | I18: 5.6 | J18: =IF(I18="","",ROUND(((I18-Q$11)/Q$12)*Q$18+Q$17,1)) -> 7.4 | K18: 659 | L18: =IF(K18="","",ROUND(((K18-Q$13)/Q$14)*Q$18+Q$17,1)) -> 7.7 | M18: 11 | N18: =IF(M18="","",ROUND(((M18-Q$15)/Q$16)*Q$18+Q$17,1)) -> 8.1 | P18: Target StDev (anchor sites, median) | Q18: =MEDIAN(Q$8,Q$10,Q$12,Q$16) -> 8.1927683 | T18: QB | U18: Jalen Hurts | V18: =IFERROR(ROUND(MAX(0,AVERAGE(Y18,AA18,AC18,AE18)),1),"") -> 41.3 | W18: =COUNT(X18,Z18,AB18,AD18) -> 4 | X18: 44 | Y18: =IF(X18="","",ROUND(((X18-AJ$7)/AJ$8)*AJ$16+AJ$15,1)) -> 43.9 | Z18: 11 | AA18: =IF(Z18="","",ROUND(((Z18-AJ$9)/AJ$10)*AJ$16+AJ$15,1)) -> 34 | AB18: 49.4 | AC18: =IF(AB18="","",ROUND(((AB18-AJ$11)/AJ$12)*AJ$16+AJ$15,1)) -> 46.8 | AD18: 49 | AE18: =IF(AD18="","",ROUND(((AD18-AJ$13)/AJ$14)*AJ$16+AJ$15,1)) -> 40.3
A19: QB | B19: Tyler Shough | C19: =IFERROR(ROUND(MAX(0,AVERAGE(F19,H19,J19,L19,N19)),1),"") -> 7.6 | D19: =COUNT(E19,G19,I19,K19,M19) -> 4 | E19: 6 | F19: =IF(E19="","",ROUND(((E19-Q$7)/Q$8)*Q$18+Q$17,1)) -> 8.2 | H19: =IF(G19="","",ROUND(((G19-Q$9)/Q$10)*Q$18+Q$17,1)) | I19: 1 | J19: =IF(I19="","",ROUND(((I19-Q$11)/Q$12)*Q$18+Q$17,1)) -> 3.2 | K19: 690 | L19: =IF(K19="","",ROUND(((K19-Q$13)/Q$14)*Q$18+Q$17,1)) -> 8.3 | M19: 14 | N19: =IF(M19="","",ROUND(((M19-Q$15)/Q$16)*Q$18+Q$17,1)) -> 10.6 | T19: QB | U19: Tyler Shough | V19: =IFERROR(ROUND(MAX(0,AVERAGE(Y19,AA19,AC19,AE19)),1),"") -> 41.5 | W19: =COUNT(X19,Z19,AB19,AD19) -> 4 | X19: 45 | Y19: =IF(X19="","",ROUND(((X19-AJ$7)/AJ$8)*AJ$16+AJ$15,1)) -> 44.6 | Z19: 11 | AA19: =IF(Z19="","",ROUND(((Z19-AJ$9)/AJ$10)*AJ$16+AJ$15,1)) -> 34 | AB19: 46.5 | AC19: =IF(AB19="","",ROUND(((AB19-AJ$11)/AJ$12)*AJ$16+AJ$15,1)) -> 44.4 | AD19: 51 | AE19: =IF(AD19="","",ROUND(((AD19-AJ$13)/AJ$14)*AJ$16+AJ$15,1)) -> 42.9
A20: QB | B20: Matthew Stafford | C20: =IFERROR(ROUND(MAX(0,AVERAGE(F20,H20,J20,L20,N20)),1),"") -> 7 | D20: =COUNT(E20,G20,I20,K20,M20) -> 5 | E20: 6 | F20: =IF(E20="","",ROUND(((E20-Q$7)/Q$8)*Q$18+Q$17,1)) -> 8.2 | G20: 8 | H20: =IF(G20="","",ROUND(((G20-Q$9)/Q$10)*Q$18+Q$17,1)) -> 4 | I20: 1 | J20: =IF(I20="","",ROUND(((I20-Q$11)/Q$12)*Q$18+Q$17,1)) -> 3.2 | K20: 697 | L20: =IF(K20="","",ROUND(((K20-Q$13)/Q$14)*Q$18+Q$17,1)) -> 8.4 | M20: 15 | N20: =IF(M20="","",ROUND(((M20-Q$15)/Q$16)*Q$18+Q$17,1)) -> 11.4 | T20: QB | U20: Matthew Stafford | V20: =IFERROR(ROUND(MAX(0,AVERAGE(Y20,AA20,AC20,AE20)),1),"") -> 44.7 | W20: =COUNT(X20,Z20,AB20,AD20) -> 4 | X20: 45 | Y20: =IF(X20="","",ROUND(((X20-AJ$7)/AJ$8)*AJ$16+AJ$15,1)) -> 44.6 | Z20: 20 | AA20: =IF(Z20="","",ROUND(((Z20-AJ$9)/AJ$10)*AJ$16+AJ$15,1)) -> 45.3 | AB20: 46.8 | AC20: =IF(AB20="","",ROUND(((AB20-AJ$11)/AJ$12)*AJ$16+AJ$15,1)) -> 44.7 | AD20: 52 | AE20: =IF(AD20="","",ROUND(((AD20-AJ$13)/AJ$14)*AJ$16+AJ$15,1)) -> 44.2
A21: QB | B21: Jordan Love | C21: =IFERROR(ROUND(MAX(0,AVERAGE(F21,H21,J21,L21,N21)),1),"") -> 4.5 | D21: =COUNT(E21,G21,I21,K21,M21) -> 5 | E21: 3 | F21: =IF(E21="","",ROUND(((E21-Q$7)/Q$8)*Q$18+Q$17,1)) -> 4.9 | G21: 5 | H21: =IF(G21="","",ROUND(((G21-Q$9)/Q$10)*Q$18+Q$17,1)) -> -2 | I21: 1 | J21: =IF(I21="","",ROUND(((I21-Q$11)/Q$12)*Q$18+Q$17,1)) -> 3.2 | K21: 682 | L21: =IF(K21="","",ROUND(((K21-Q$13)/Q$14)*Q$18+Q$17,1)) -> 8.1 | M21: 11 | N21: =IF(M21="","",ROUND(((M21-Q$15)/Q$16)*Q$18+Q$17,1)) -> 8.1 | T21: QB | U21: Jordan Love | V21: =IFERROR(ROUND(MAX(0,AVERAGE(Y21,AA21,AC21,AE21)),1),"") -> 40.9 | W21: =COUNT(X21,Z21,AB21,AD21) -> 4 | X21: 38 | Y21: =IF(X21="","",ROUND(((X21-AJ$7)/AJ$8)*AJ$16+AJ$15,1)) -> 39.7 | Z21: 14 | AA21: =IF(Z21="","",ROUND(((Z21-AJ$9)/AJ$10)*AJ$16+AJ$15,1)) -> 37.7 | AB21: 48.4 | AC21: =IF(AB21="","",ROUND(((AB21-AJ$11)/AJ$12)*AJ$16+AJ$15,1)) -> 46 | AD21: 49 | AE21: =IF(AD21="","",ROUND(((AD21-AJ$13)/AJ$14)*AJ$16+AJ$15,1)) -> 40.3
A22: QB | B22: Kirk Cousins | C22: =IFERROR(ROUND(MAX(0,AVERAGE(F22,H22,J22,L22,N22)),1),"") -> 3.5 | D22: =COUNT(E22,G22,I22,K22,M22) -> 4 | E22: 2 | F22: =IF(E22="","",ROUND(((E22-Q$7)/Q$8)*Q$18+Q$17,1)) -> 3.8 | H22: =IF(G22="","",ROUND(((G22-Q$9)/Q$10)*Q$18+Q$17,1)) | I22: 1 | J22: =IF(I22="","",ROUND(((I22-Q$11)/Q$12)*Q$18+Q$17,1)) -> 3.2 | K22: 417 | L22: =IF(K22="","",ROUND(((K22-Q$13)/Q$14)*Q$18+Q$17,1)) -> 2.8 | M22: 6 | N22: =IF(M22="","",ROUND(((M22-Q$15)/Q$16)*Q$18+Q$17,1)) -> 4 | T22: QB | U22: Kirk Cousins | V22: =IFERROR(ROUND(MAX(0,AVERAGE(Y22,AA22,AC22,AE22)),1),"") -> 34.6 | W22: =COUNT(X22,Z22,AB22,AD22) -> 4 | X22: 35 | Y22: =IF(X22="","",ROUND(((X22-AJ$7)/AJ$8)*AJ$16+AJ$15,1)) -> 37.6 | Z22: 11 | AA22: =IF(Z22="","",ROUND(((Z22-AJ$9)/AJ$10)*AJ$16+AJ$15,1)) -> 34 | AB22: 29.7 | AC22: =IF(AB22="","",ROUND(((AB22-AJ$11)/AJ$12)*AJ$16+AJ$15,1)) -> 30.4 | AD22: 46 | AE22: =IF(AD22="","",ROUND(((AD22-AJ$13)/AJ$14)*AJ$16+AJ$15,1)) -> 36.5
A23: QB | B23: C.J. Stroud | C23: =IFERROR(ROUND(MAX(0,AVERAGE(F23,H23,J23,L23,N23)),1),"") -> 3.1 | D23: =COUNT(E23,G23,I23,K23,M23) -> 4 | E23: 2 | F23: =IF(E23="","",ROUND(((E23-Q$7)/Q$8)*Q$18+Q$17,1)) -> 3.8 | H23: =IF(G23="","",ROUND(((G23-Q$9)/Q$10)*Q$18+Q$17,1)) | I23: 1 | J23: =IF(I23="","",ROUND(((I23-Q$11)/Q$12)*Q$18+Q$17,1)) -> 3.2 | K23: 346 | L23: =IF(K23="","",ROUND(((K23-Q$13)/Q$14)*Q$18+Q$17,1)) -> 1.4 | M23: 6 | N23: =IF(M23="","",ROUND(((M23-Q$15)/Q$16)*Q$18+Q$17,1)) -> 4 | T23: QB | U23: C.J. Stroud | V23: =IFERROR(ROUND(MAX(0,AVERAGE(Y23,AA23,AC23,AE23)),1),"") -> 38.6 | W23: =COUNT(X23,Z23,AB23,AD23) -> 4 | X23: 37 | Y23: =IF(X23="","",ROUND(((X23-AJ$7)/AJ$8)*AJ$16+AJ$15,1)) -> 39 | Z23: 12 | AA23: =IF(Z23="","",ROUND(((Z23-AJ$9)/AJ$10)*AJ$16+AJ$15,1)) -> 35.2 | AB23: 45.5 | AC23: =IF(AB23="","",ROUND(((AB23-AJ$11)/AJ$12)*AJ$16+AJ$15,1)) -> 43.6 | AD23: 46 | AE23: =IF(AD23="","",ROUND(((AD23-AJ$13)/AJ$14)*AJ$16+AJ$15,1)) -> 36.5
A24: QB | B24: Aaron Rodgers | C24: =IFERROR(ROUND(MAX(0,AVERAGE(F24,H24,J24,L24,N24)),1),"") -> 3 | D24: =COUNT(E24,G24,I24,K24,M24) -> 4 | E24: 1 | F24: =IF(E24="","",ROUND(((E24-Q$7)/Q$8)*Q$18+Q$17,1)) -> 2.8 | H24: =IF(G24="","",ROUND(((G24-Q$9)/Q$10)*Q$18+Q$17,1)) | I24: 1 | J24: =IF(I24="","",ROUND(((I24-Q$11)/Q$12)*Q$18+Q$17,1)) -> 3.2 | K24: 412 | L24: =IF(K24="","",ROUND(((K24-Q$13)/Q$14)*Q$18+Q$17,1)) -> 2.7 | M24: 5 | N24: =IF(M24="","",ROUND(((M24-Q$15)/Q$16)*Q$18+Q$17,1)) -> 3.2 | T24: QB | U24: Aaron Rodgers | V24: =IFERROR(ROUND(MAX(0,AVERAGE(Y24,AA24,AC24,AE24)),1),"") -> 34.9 | W24: =COUNT(X24,Z24,AB24,AD24) -> 4 | X24: 29 | Y24: =IF(X24="","",ROUND(((X24-AJ$7)/AJ$8)*AJ$16+AJ$15,1)) -> 33.4 | Z24: 12 | AA24: =IF(Z24="","",ROUND(((Z24-AJ$9)/AJ$10)*AJ$16+AJ$15,1)) -> 35.2 | AB24: 36.1 | AC24: =IF(AB24="","",ROUND(((AB24-AJ$11)/AJ$12)*AJ$16+AJ$15,1)) -> 35.8 | AD24: 45 | AE24: =IF(AD24="","",ROUND(((AD24-AJ$13)/AJ$14)*AJ$16+AJ$15,1)) -> 35.2
A25: QB | B25: Kyler Murray | C25: =IFERROR(ROUND(MAX(0,AVERAGE(F25,H25,J25,L25,N25)),1),"") -> 2.7 | D25: =COUNT(E25,G25,I25,K25,M25) -> 4 | E25: 1 | F25: =IF(E25="","",ROUND(((E25-Q$7)/Q$8)*Q$18+Q$17,1)) -> 2.8 | H25: =IF(G25="","",ROUND(((G25-Q$9)/Q$10)*Q$18+Q$17,1)) | I25: 1 | J25: =IF(I25="","",ROUND(((I25-Q$11)/Q$12)*Q$18+Q$17,1)) -> 3.2 | K25: 309 | L25: =IF(K25="","",ROUND(((K25-Q$13)/Q$14)*Q$18+Q$17,1)) -> 0.7 | M25: 6 | N25: =IF(M25="","",ROUND(((M25-Q$15)/Q$16)*Q$18+Q$17,1)) -> 4 | T25: QB | U25: Kyler Murray | V25: =IFERROR(ROUND(MAX(0,AVERAGE(Y25,AA25,AC25,AE25)),1),"") -> 35.9 | W25: =COUNT(X25,Z25,AB25,AD25) -> 4 | X25: 28 | Y25: =IF(X25="","",ROUND(((X25-AJ$7)/AJ$8)*AJ$16+AJ$15,1)) -> 32.7 | Z25: 11 | AA25: =IF(Z25="","",ROUND(((Z25-AJ$9)/AJ$10)*AJ$16+AJ$15,1)) -> 34 | AB25: 41.8 | AC25: =IF(AB25="","",ROUND(((AB25-AJ$11)/AJ$12)*AJ$16+AJ$15,1)) -> 40.5 | AD25: 46 | AE25: =IF(AD25="","",ROUND(((AD25-AJ$13)/AJ$14)*AJ$16+AJ$15,1)) -> 36.5
A26: QB | B26: Deshaun Watson | C26: =IFERROR(ROUND(MAX(0,AVERAGE(F26,H26,J26,L26,N26)),1),"") -> 2.4 | D26: =COUNT(E26,G26,I26,K26,M26) -> 3 | E26: 0 | F26: =IF(E26="","",ROUND(((E26-Q$7)/Q$8)*Q$18+Q$17,1)) -> 1.7 | H26: =IF(G26="","",ROUND(((G26-Q$9)/Q$10)*Q$18+Q$17,1)) | I26: 1 | J26: =IF(I26="","",ROUND(((I26-Q$11)/Q$12)*Q$18+Q$17,1)) -> 3.2 | L26: =IF(K26="","",ROUND(((K26-Q$13)/Q$14)*Q$18+Q$17,1)) | M26: 4 | N26: =IF(M26="","",ROUND(((M26-Q$15)/Q$16)*Q$18+Q$17,1)) -> 2.4 | T26: QB | U26: Deshaun Watson | V26: =IFERROR(ROUND(MAX(0,AVERAGE(Y26,AA26,AC26,AE26)),1),"") -> 25.3 | W26: =COUNT(X26,Z26,AB26,AD26) -> 4 | X26: 23 | Y26: =IF(X26="","",ROUND(((X26-AJ$7)/AJ$8)*AJ$16+AJ$15,1)) -> 29.3 | Z26: 8 | AA26: =IF(Z26="","",ROUND(((Z26-AJ$9)/AJ$10)*AJ$16+AJ$15,1)) -> 30.2 | AB26: 2.6 | AC26: =IF(AB26="","",ROUND(((AB26-AJ$11)/AJ$12)*AJ$16+AJ$15,1)) -> 7.9 | AD26: 44 | AE26: =IF(AD26="","",ROUND(((AD26-AJ$13)/AJ$14)*AJ$16+AJ$15,1)) -> 33.9
A27: QB | B27: Jacoby Brissett | C27: =IFERROR(ROUND(MAX(0,AVERAGE(F27,H27,J27,L27,N27)),1),"") -> 2 | D27: =COUNT(E27,G27,I27,K27,M27) -> 4 | E27: 1 | F27: =IF(E27="","",ROUND(((E27-Q$7)/Q$8)*Q$18+Q$17,1)) -> 2.8 | H27: =IF(G27="","",ROUND(((G27-Q$9)/Q$10)*Q$18+Q$17,1)) | I27: 1 | J27: =IF(I27="","",ROUND(((I27-Q$11)/Q$12)*Q$18+Q$17,1)) -> 3.2 | K27: 297 | L27: =IF(K27="","",ROUND(((K27-Q$13)/Q$14)*Q$18+Q$17,1)) -> 0.5 | M27: 3 | N27: =IF(M27="","",ROUND(((M27-Q$15)/Q$16)*Q$18+Q$17,1)) -> 1.6 | T27: QB | U27: Jacoby Brissett | V27: =IFERROR(ROUND(MAX(0,AVERAGE(Y27,AA27,AC27,AE27)),1),"") -> 33.9 | W27: =COUNT(X27,Z27,AB27,AD27) -> 4 | X27: 27 | Y27: =IF(X27="","",ROUND(((X27-AJ$7)/AJ$8)*AJ$16+AJ$15,1)) -> 32.1 | Z27: 11 | AA27: =IF(Z27="","",ROUND(((Z27-AJ$9)/AJ$10)*AJ$16+AJ$15,1)) -> 34 | AB27: 37.5 | AC27: =IF(AB27="","",ROUND(((AB27-AJ$11)/AJ$12)*AJ$16+AJ$15,1)) -> 36.9 | AD27: 43 | AE27: =IF(AD27="","",ROUND(((AD27-AJ$13)/AJ$14)*AJ$16+AJ$15,1)) -> 32.6
A28: QB | B28: Geno Smith | C28: =IFERROR(ROUND(MAX(0,AVERAGE(F28,H28,J28,L28,N28)),1),"") -> 1.9 | D28: =COUNT(E28,G28,I28,K28,M28) -> 3 | E28: 0 | F28: =IF(E28="","",ROUND(((E28-Q$7)/Q$8)*Q$18+Q$17,1)) -> 1.7 | H28: =IF(G28="","",ROUND(((G28-Q$9)/Q$10)*Q$18+Q$17,1)) | I28: 1 | J28: =IF(I28="","",ROUND(((I28-Q$11)/Q$12)*Q$18+Q$17,1)) -> 3.2 | L28: =IF(K28="","",ROUND(((K28-Q$13)/Q$14)*Q$18+Q$17,1)) | M28: 2 | N28: =IF(M28="","",ROUND(((M28-Q$15)/Q$16)*Q$18+Q$17,1)) -> 0.8 | T28: QB | U28: Geno Smith | V28: =IFERROR(ROUND(MAX(0,AVERAGE(Y28,AA28,AC28,AE28)),1),"") -> 28.7 | W28: =COUNT(X28,Z28,AB28,AD28) -> 4 | X28: 18 | Y28: =IF(X28="","",ROUND(((X28-AJ$7)/AJ$8)*AJ$16+AJ$15,1)) -> 25.8 | Z28: 7 | AA28: =IF(Z28="","",ROUND(((Z28-AJ$9)/AJ$10)*AJ$16+AJ$15,1)) -> 29 | AB28: 29.3 | AC28: =IF(AB28="","",ROUND(((AB28-AJ$11)/AJ$12)*AJ$16+AJ$15,1)) -> 30.1 | AD28: 41 | AE28: =IF(AD28="","",ROUND(((AD28-AJ$13)/AJ$14)*AJ$16+AJ$15,1)) -> 30
A29: QB | B29: Bo Nix | C29: =IFERROR(ROUND(MAX(0,AVERAGE(F29,H29,J29,L29,N29)),1),"") -> 1.6 | D29: =COUNT(E29,G29,I29,K29,M29) -> 4 | E29: 0 | F29: =IF(E29="","",ROUND(((E29-Q$7)/Q$8)*Q$18+Q$17,1)) -> 1.7 | H29: =IF(G29="","",ROUND(((G29-Q$9)/Q$10)*Q$18+Q$17,1)) | I29: 1 | J29: =IF(I29="","",ROUND(((I29-Q$11)/Q$12)*Q$18+Q$17,1)) -> 3.2 | K29: 314 | L29: =IF(K29="","",ROUND(((K29-Q$13)/Q$14)*Q$18+Q$17,1)) -> 0.8 | M29: 2 | N29: =IF(M29="","",ROUND(((M29-Q$15)/Q$16)*Q$18+Q$17,1)) -> 0.8 | T29: QB | U29: Bo Nix | V29: =IFERROR(ROUND(MAX(0,AVERAGE(Y29,AA29,AC29,AE29)),1),"") -> 34.2 | W29: =COUNT(X29,Z29,AB29,AD29) -> 4 | X29: 24 | Y29: =IF(X29="","",ROUND(((X29-AJ$7)/AJ$8)*AJ$16+AJ$15,1)) -> 30 | Z29: 10 | AA29: =IF(Z29="","",ROUND(((Z29-AJ$9)/AJ$10)*AJ$16+AJ$15,1)) -> 32.7 | AB29: 44.6 | AC29: =IF(AB29="","",ROUND(((AB29-AJ$11)/AJ$12)*AJ$16+AJ$15,1)) -> 42.8 | AD29: 42 | AE29: =IF(AD29="","",ROUND(((AD29-AJ$13)/AJ$14)*AJ$16+AJ$15,1)) -> 31.3
A30: QB | B30: Baker Mayfield | C30: =IFERROR(ROUND(MAX(0,AVERAGE(F30,H30,J30,L30,N30)),1),"") -> 1.6 | D30: =COUNT(E30,G30,I30,K30,M30) -> 3 | E30: 0 | F30: =IF(E30="","",ROUND(((E30-Q$7)/Q$8)*Q$18+Q$17,1)) -> 1.7 | H30: =IF(G30="","",ROUND(((G30-Q$9)/Q$10)*Q$18+Q$17,1)) | I30: 1 | J30: =IF(I30="","",ROUND(((I30-Q$11)/Q$12)*Q$18+Q$17,1)) -> 3.2 | L30: =IF(K30="","",ROUND(((K30-Q$13)/Q$14)*Q$18+Q$17,1)) | M30: 1 | N30: =IF(M30="","",ROUND(((M30-Q$15)/Q$16)*Q$18+Q$17,1)) -> 0 | T30: QB | U30: Baker Mayfield | V30: =IFERROR(ROUND(MAX(0,AVERAGE(Y30,AA30,AC30,AE30)),1),"") -> 27.8 | W30: =COUNT(X30,Z30,AB30,AD30) -> 4 | X30: 19 | Y30: =IF(X30="","",ROUND(((X30-AJ$7)/AJ$8)*AJ$16+AJ$15,1)) -> 26.5 | Z30: 7 | AA30: =IF(Z30="","",ROUND(((Z30-AJ$9)/AJ$10)*AJ$16+AJ$15,1)) -> 29 | AB30: 28.7 | AC30: =IF(AB30="","",ROUND(((AB30-AJ$11)/AJ$12)*AJ$16+AJ$15,1)) -> 29.6 | AD30: 38 | AE30: =IF(AD30="","",ROUND(((AD30-AJ$13)/AJ$14)*AJ$16+AJ$15,1)) -> 26.1
A31: QB | B31: Malik Willis | C31: =IFERROR(ROUND(MAX(0,AVERAGE(F31,H31,J31,L31,N31)),1),"") -> 1.6 | D31: =COUNT(E31,G31,I31,K31,M31) -> 3 | E31: 0 | F31: =IF(E31="","",ROUND(((E31-Q$7)/Q$8)*Q$18+Q$17,1)) -> 1.7 | H31: =IF(G31="","",ROUND(((G31-Q$9)/Q$10)*Q$18+Q$17,1)) | I31: 1 | J31: =IF(I31="","",ROUND(((I31-Q$11)/Q$12)*Q$18+Q$17,1)) -> 3.2 | L31: =IF(K31="","",ROUND(((K31-Q$13)/Q$14)*Q$18+Q$17,1)) | M31: 1 | N31: =IF(M31="","",ROUND(((M31-Q$15)/Q$16)*Q$18+Q$17,1)) -> 0 | T31: QB | U31: Malik Willis | V31: =IFERROR(ROUND(MAX(0,AVERAGE(Y31,AA31,AC31,AE31)),1),"") -> 30.3 | W31: =COUNT(X31,Z31,AB31,AD31) -> 4 | X31: 19 | Y31: =IF(X31="","",ROUND(((X31-AJ$7)/AJ$8)*AJ$16+AJ$15,1)) -> 26.5 | Z31: 8 | AA31: =IF(Z31="","",ROUND(((Z31-AJ$9)/AJ$10)*AJ$16+AJ$15,1)) -> 30.2 | AB31: 40.7 | AC31: =IF(AB31="","",ROUND(((AB31-AJ$11)/AJ$12)*AJ$16+AJ$15,1)) -> 39.6 | AD31: 37 | AE31: =IF(AD31="","",ROUND(((AD31-AJ$13)/AJ$14)*AJ$16+AJ$15,1)) -> 24.9
A32: QB | B32: Cam Ward | C32: =IFERROR(ROUND(MAX(0,AVERAGE(F32,H32,J32,L32,N32)),1),"") -> 1.6 | D32: =COUNT(E32,G32,I32,K32,M32) -> 3 | E32: 0 | F32: =IF(E32="","",ROUND(((E32-Q$7)/Q$8)*Q$18+Q$17,1)) -> 1.7 | H32: =IF(G32="","",ROUND(((G32-Q$9)/Q$10)*Q$18+Q$17,1)) | I32: 1 | J32: =IF(I32="","",ROUND(((I32-Q$11)/Q$12)*Q$18+Q$17,1)) -> 3.2 | L32: =IF(K32="","",ROUND(((K32-Q$13)/Q$14)*Q$18+Q$17,1)) | M32: 1 | N32: =IF(M32="","",ROUND(((M32-Q$15)/Q$16)*Q$18+Q$17,1)) -> 0 | T32: QB | U32: Cam Ward | V32: =IFERROR(ROUND(MAX(0,AVERAGE(Y32,AA32,AC32,AE32)),1),"") -> 19.3 | W32: =COUNT(X32,Z32,AB32,AD32) -> 4 | X32: 16 | Y32: =IF(X32="","",ROUND(((X32-AJ$7)/AJ$8)*AJ$16+AJ$15,1)) -> 24.4 | Z32: 5 | AA32: =IF(Z32="","",ROUND(((Z32-AJ$9)/AJ$10)*AJ$16+AJ$15,1)) -> 26.5 | AB32: 1 | AC32: =IF(AB32="","",ROUND(((AB32-AJ$11)/AJ$12)*AJ$16+AJ$15,1)) -> 6.5 | AD32: 33 | AE32: =IF(AD32="","",ROUND(((AD32-AJ$13)/AJ$14)*AJ$16+AJ$15,1)) -> 19.7
A33: QB | B33: Sam Darnold | C33: =IFERROR(ROUND(MAX(0,AVERAGE(F33,H33,J33,L33,N33)),1),"") -> 1.6 | D33: =COUNT(E33,G33,I33,K33,M33) -> 4 | E33: 0 | F33: =IF(E33="","",ROUND(((E33-Q$7)/Q$8)*Q$18+Q$17,1)) -> 1.7 | H33: =IF(G33="","",ROUND(((G33-Q$9)/Q$10)*Q$18+Q$17,1)) | I33: 1 | J33: =IF(I33="","",ROUND(((I33-Q$11)/Q$12)*Q$18+Q$17,1)) -> 3.2 | K33: 312 | L33: =IF(K33="","",ROUND(((K33-Q$13)/Q$14)*Q$18+Q$17,1)) -> 0.8 | M33: 2 | N33: =IF(M33="","",ROUND(((M33-Q$15)/Q$16)*Q$18+Q$17,1)) -> 0.8 | T33: QB | U33: Sam Darnold | V33: =IFERROR(ROUND(MAX(0,AVERAGE(Y33,AA33,AC33,AE33)),1),"") -> 34.4 | W33: =COUNT(X33,Z33,AB33,AD33) -> 4 | X33: 24 | Y33: =IF(X33="","",ROUND(((X33-AJ$7)/AJ$8)*AJ$16+AJ$15,1)) -> 30 | Z33: 10 | AA33: =IF(Z33="","",ROUND(((Z33-AJ$9)/AJ$10)*AJ$16+AJ$15,1)) -> 32.7 | AB33: 43.7 | AC33: =IF(AB33="","",ROUND(((AB33-AJ$11)/AJ$12)*AJ$16+AJ$15,1)) -> 42.1 | AD33: 43 | AE33: =IF(AD33="","",ROUND(((AD33-AJ$13)/AJ$14)*AJ$16+AJ$15,1)) -> 32.6
A34: QB | B34: Jameis Winston | C34: =IFERROR(ROUND(MAX(0,AVERAGE(F34,H34,J34,L34,N34)),1),"") -> 1.6 | D34: =COUNT(E34,G34,I34,K34,M34) -> 4 | E34: 1 | F34: =IF(E34="","",ROUND(((E34-Q$7)/Q$8)*Q$18+Q$17,1)) -> 2.8 | H34: =IF(G34="","",ROUND(((G34-Q$9)/Q$10)*Q$18+Q$17,1)) | I34: 1 | J34: =IF(I34="","",ROUND(((I34-Q$11)/Q$12)*Q$18+Q$17,1)) -> 3.2 | K34: 247 | L34: =IF(K34="","",ROUND(((K34-Q$13)/Q$14)*Q$18+Q$17,1)) -> -0.5 | M34: 2 | N34: =IF(M34="","",ROUND(((M34-Q$15)/Q$16)*Q$18+Q$17,1)) -> 0.8 | T34: QB | U34: Jameis Winston | V34: =IFERROR(ROUND(MAX(0,AVERAGE(Y34,AA34,AC34,AE34)),1),"") -> 30.5 | W34: =COUNT(X34,Z34,AB34,AD34) -> 4 | X34: 25 | Y34: =IF(X34="","",ROUND(((X34-AJ$7)/AJ$8)*AJ$16+AJ$15,1)) -> 30.7 | Z34: 9 | AA34: =IF(Z34="","",ROUND(((Z34-AJ$9)/AJ$10)*AJ$16+AJ$15,1)) -> 31.5 | AB34: 27.1 | AC34: =IF(AB34="","",ROUND(((AB34-AJ$11)/AJ$12)*AJ$16+AJ$15,1)) -> 28.3 | AD34: 42 | AE34: =IF(AD34="","",ROUND(((AD34-AJ$13)/AJ$14)*AJ$16+AJ$15,1)) -> 31.3
A35: QB | B35: Justin Herbert | C35: =IFERROR(ROUND(MAX(0,AVERAGE(F35,H35,J35,L35,N35)),1),"") -> 1.4 | D35: =COUNT(E35,G35,I35,K35,M35) -> 4 | E35: 0 | F35: =IF(E35="","",ROUND(((E35-Q$7)/Q$8)*Q$18+Q$17,1)) -> 1.7 | H35: =IF(G35="","",ROUND(((G35-Q$9)/Q$10)*Q$18+Q$17,1)) | I35: 1 | J35: =IF(I35="","",ROUND(((I35-Q$11)/Q$12)*Q$18+Q$17,1)) -> 3.2 | K35: 303 | L35: =IF(K35="","",ROUND(((K35-Q$13)/Q$14)*Q$18+Q$17,1)) -> 0.6 | M35: 1 | N35: =IF(M35="","",ROUND(((M35-Q$15)/Q$16)*Q$18+Q$17,1)) -> 0 | T35: QB | U35: Justin Herbert | V35: =IFERROR(ROUND(MAX(0,AVERAGE(Y35,AA35,AC35,AE35)),1),"") -> 32.2 | W35: =COUNT(X35,Z35,AB35,AD35) -> 4 | X35: 24 | Y35: =IF(X35="","",ROUND(((X35-AJ$7)/AJ$8)*AJ$16+AJ$15,1)) -> 30 | Z35: 10 | AA35: =IF(Z35="","",ROUND(((Z35-AJ$9)/AJ$10)*AJ$16+AJ$15,1)) -> 32.7 | AB35: 41 | AC35: =IF(AB35="","",ROUND(((AB35-AJ$11)/AJ$12)*AJ$16+AJ$15,1)) -> 39.8 | AD35: 38 | AE35: =IF(AD35="","",ROUND(((AD35-AJ$13)/AJ$14)*AJ$16+AJ$15,1)) -> 26.1
A36: QB | B36: Daniel Jones | C36: =IFERROR(ROUND(MAX(0,AVERAGE(F36,H36,J36,L36,N36)),1),"") -> 0.8 | D36: =COUNT(E36,G36,I36,K36,M36) -> 4 | E36: 0 | F36: =IF(E36="","",ROUND(((E36-Q$7)/Q$8)*Q$18+Q$17,1)) -> 1.7 | H36: =IF(G36="","",ROUND(((G36-Q$9)/Q$10)*Q$18+Q$17,1)) | I36: 1 | J36: =IF(I36="","",ROUND(((I36-Q$11)/Q$12)*Q$18+Q$17,1)) -> 3.2 | K36: 192 | L36: =IF(K36="","",ROUND(((K36-Q$13)/Q$14)*Q$18+Q$17,1)) -> -1.6 | M36: 1 | N36: =IF(M36="","",ROUND(((M36-Q$15)/Q$16)*Q$18+Q$17,1)) -> 0 | T36: QB | U36: Daniel Jones | V36: =IFERROR(ROUND(MAX(0,AVERAGE(Y36,AA36,AC36,AE36)),1),"") -> 25.3 | W36: =COUNT(X36,Z36,AB36,AD36) -> 4 | X36: 16 | Y36: =IF(X36="","",ROUND(((X36-AJ$7)/AJ$8)*AJ$16+AJ$15,1)) -> 24.4 | Z36: 7 | AA36: =IF(Z36="","",ROUND(((Z36-AJ$9)/AJ$10)*AJ$16+AJ$15,1)) -> 29 | AB36: 17.5 | AC36: =IF(AB36="","",ROUND(((AB36-AJ$11)/AJ$12)*AJ$16+AJ$15,1)) -> 20.3 | AD36: 39 | AE36: =IF(AD36="","",ROUND(((AD36-AJ$13)/AJ$14)*AJ$16+AJ$15,1)) -> 27.4
A37: QB | B37: Michael Penix Jr. | C37: =IFERROR(ROUND(MAX(0,AVERAGE(F37,H37,J37,L37,N37)),1),"") -> 0.6 | D37: =COUNT(E37,G37,I37,K37,M37) -> 4 | E37: 0 | F37: =IF(E37="","",ROUND(((E37-Q$7)/Q$8)*Q$18+Q$17,1)) -> 1.7 | H37: =IF(G37="","",ROUND(((G37-Q$9)/Q$10)*Q$18+Q$17,1)) | I37: 1 | J37: =IF(I37="","",ROUND(((I37-Q$11)/Q$12)*Q$18+Q$17,1)) -> 3.2 | K37: 152 | L37: =IF(K37="","",ROUND(((K37-Q$13)/Q$14)*Q$18+Q$17,1)) -> -2.4 | M37: 1 | N37: =IF(M37="","",ROUND(((M37-Q$15)/Q$16)*Q$18+Q$17,1)) -> 0 | T37: QB | U37: Michael Penix Jr. | V37: =IFERROR(ROUND(MAX(0,AVERAGE(Y37,AA37,AC37,AE37)),1),"") -> 31.5 | W37: =COUNT(X37,Z37,AB37,AD37) -> 4 | X37: 22 | Y37: =IF(X37="","",ROUND(((X37-AJ$7)/AJ$8)*AJ$16+AJ$15,1)) -> 28.6 | Z37: 8 | AA37: =IF(Z37="","",ROUND(((Z37-AJ$9)/AJ$10)*AJ$16+AJ$15,1)) -> 30.2 | AB37: 39.2 | AC37: =IF(AB37="","",ROUND(((AB37-AJ$11)/AJ$12)*AJ$16+AJ$15,1)) -> 38.3 | AD37: 40 | AE37: =IF(AD37="","",ROUND(((AD37-AJ$13)/AJ$14)*AJ$16+AJ$15,1)) -> 28.7

Sheet RB
A1: RB — PPR | P1: Site stats (this week) | T1: RB — HALF | AI1: Site stats (this week) | AM1: RB — STD | BB1: Site stats (this week)
A2: RSJ Half-PPR and FP full-PPR are estimated (purple) when reliable — see Methodology. | T2: RSJ Half-PPR and FP full-PPR are estimated (purple) when reliable — see Methodology. | AM2: Standard scoring uses a 2-source minimum (CBS + USA Today only), not the 3-source minimum used everywhere else on this sheet — only 2 sites publish Standard at all, so 3 would mean this section is always empty.
A5: POS | B5: Player | C5: AVG (Normalized) | D5: # Sources | E5: YAH (C) | F5: YAH (Norm) | G5: CBS (C) | H5: CBS (Norm) | I5: FP (C) | J5: FP (Norm) | K5: RSJ (C) | L5: RSJ (Norm) | M5: USA (C) | N5: USA (Norm) | T5: POS | U5: Player | V5: AVG (Normalized) | W5: # Sources | X5: YAH (C) | Y5: YAH (Norm) | Z5: CBS (C) | AA5: CBS (Norm) | AB5: FP (C) | AC5: FP (Norm) | AD5: RSJ (C) | AE5: RSJ (Norm) | AF5: USA (C) | AG5: USA (Norm) | AM5: POS | AN5: Player | AO5: AVG (Normalized) | AP5: # Sources | AQ5: CBS (C) | AR5: CBS (Norm) | AS5: USA (C) | AT5: USA (Norm)
A6: RB | B6: Jahmyr Gibbs | C6: =IFERROR(ROUND(MAX(0,AVERAGE(F6,H6,J6,L6,N6)),1),"") -> 81.8 | D6: =COUNT(E6,G6,I6,K6,M6) -> 5 | E6: 97 | F6: =IF(E6="","",ROUND(((E6-Q$7)/Q$8)*Q$18+Q$17,1)) -> 83.4 | G6: 54 | H6: =IF(G6="","",ROUND(((G6-Q$9)/Q$10)*Q$18+Q$17,1)) -> 80.9 | I6: 77.5 | J6: =IF(I6="","",ROUND(((I6-Q$11)/Q$12)*Q$18+Q$17,1)) -> 78.9 | K6: 3691 | L6: =IF(K6="","",ROUND(((K6-Q$13)/Q$14)*Q$18+Q$17,1)) -> 85.6 | M6: 80 | N6: =IF(M6="","",ROUND(((M6-Q$15)/Q$16)*Q$18+Q$17,1)) -> 80 | T6: RB | U6: Jahmyr Gibbs | V6: =IFERROR(MIN(ROUND(MAX(0,AVERAGE(Y6,AA6,AC6,AE6,AG6)),1),81.7),"") -> 79.3 | W6: =COUNT(X6,Z6,AB6,AD6,AF6) -> 5 | X6: 94 | Y6: =IF(X6="","",ROUND(((X6-AJ$7)/AJ$8)*AJ$18+AJ$17,1)) -> 80.7 | Z6: 52.5 | AA6: =IF(Z6="","",ROUND(((Z6-AJ$9)/AJ$10)*AJ$18+AJ$17,1)) -> 79.1 | AB6: 75.1 | AC6: =IF(AB6="","",ROUND(((AB6-AJ$11)/AJ$12)*AJ$18+AJ$17,1)) -> 77.6 | AD6: 3576.8 | AE6: =IF(AD6="","",ROUND(((AD6-AJ$13)/AJ$14)*AJ$18+AJ$17,1)) -> 82.2 | AF6: 77 | AG6: =IF(AF6="","",ROUND(((AF6-AJ$15)/AJ$16)*AJ$18+AJ$17,1)) -> 77 | AM6: RB | AN6: Jahmyr Gibbs | AO6: =IFERROR(ROUND(MAX(0,AVERAGE(AR6,AT6)),1),"") -> 59.7 | AP6: =COUNT(AQ6,AS6) -> 2 | AQ6: 51 | AR6: =IF(AQ6="","",ROUND(((AQ6-BC$7)/BC$8)*BC$12+BC$11,1)) -> 61.7 | AS6: 75 | AT6: =IF(AS6="","",ROUND(((AS6-BC$9)/BC$10)*BC$12+BC$11,1)) -> 57.7
A7: RB | B7: Bijan Robinson | C7: =IFERROR(ROUND(MAX(0,AVERAGE(F7,H7,J7,L7,N7)),1),"") -> 75.8 | D7: =COUNT(E7,G7,I7,K7,M7) -> 5 | E7: 90 | F7: =IF(E7="","",ROUND(((E7-Q$7)/Q$8)*Q$18+Q$17,1)) -> 77.4 | G7: 53 | H7: =IF(G7="","",ROUND(((G7-Q$9)/Q$10)*Q$18+Q$17,1)) -> 79.5 | I7: 69.5 | J7: =IF(I7="","",ROUND(((I7-Q$11)/Q$12)*Q$18+Q$17,1)) -> 70.2 | K7: 3359 | L7: =IF(K7="","",ROUND(((K7-Q$13)/Q$14)*Q$18+Q$17,1)) -> 77.9 | M7: 74 | N7: =IF(M7="","",ROUND(((M7-Q$15)/Q$16)*Q$18+Q$17,1)) -> 74 | P7: YAH Mean | Q7: =IFERROR(AVERAGE(E6:E400),"") -> 30.1 | T7: RB | U7: Bijan Robinson | V7: =IFERROR(MIN(ROUND(MAX(0,AVERAGE(Y7,AA7,AC7,AE7,AG7)),1),75.7),"") -> 73.8 | W7: =COUNT(X7,Z7,AB7,AD7,AF7) -> 5 | X7: 87 | Y7: =IF(X7="","",ROUND(((X7-AJ$7)/AJ$8)*AJ$18+AJ$17,1)) -> 74.8 | Z7: 51.5 | AA7: =IF(Z7="","",ROUND(((Z7-AJ$9)/AJ$10)*AJ$18+AJ$17,1)) -> 77.7 | AB7: 67.5 | AC7: =IF(AB7="","",ROUND(((AB7-AJ$11)/AJ$12)*AJ$18+AJ$17,1)) -> 69.3 | AD7: 3263.9 | AE7: =IF(AD7="","",ROUND(((AD7-AJ$13)/AJ$14)*AJ$18+AJ$17,1)) -> 75.1 | AF7: 72 | AG7: =IF(AF7="","",ROUND(((AF7-AJ$15)/AJ$16)*AJ$18+AJ$17,1)) -> 72 | AI7: YAH Mean | AJ7: =IFERROR(AVERAGE(X6:X400),"") -> 29.068966 | AM7: RB | AN7: Bijan Robinson | AO7: =IFERROR(ROUND(MAX(0,AVERAGE(AR7,AT7)),1),"") -> 56.9 | AP7: =COUNT(AQ7,AS7) -> 2 | AQ7: 50 | AR7: =IF(AQ7="","",ROUND(((AQ7-BC$7)/BC$8)*BC$12+BC$11,1)) -> 60.5 | AS7: 70 | AT7: =IF(AS7="","",ROUND(((AS7-BC$9)/BC$10)*BC$12+BC$11,1)) -> 53.3 | BB7: CBS Mean | BC7: =IFERROR(AVERAGE(AQ6:AQ400),"") -> 16.266667
A8: RB | B8: Kenneth Walker III | C8: =IFERROR(ROUND(MAX(0,AVERAGE(F8,H8,J8,L8,N8)),1),"") -> 73.1 | D8: =COUNT(E8,G8,I8,K8,M8) -> 5 | E8: 85 | F8: =IF(E8="","",ROUND(((E8-Q$7)/Q$8)*Q$18+Q$17,1)) -> 73.2 | G8: 50 | H8: =IF(G8="","",ROUND(((G8-Q$9)/Q$10)*Q$18+Q$17,1)) -> 75.1 | I8: 62.8 | J8: =IF(I8="","",ROUND(((I8-Q$11)/Q$12)*Q$18+Q$17,1)) -> 62.9 | K8: 3462 | L8: =IF(K8="","",ROUND(((K8-Q$13)/Q$14)*Q$18+Q$17,1)) -> 80.3 | M8: 74 | N8: =IF(M8="","",ROUND(((M8-Q$15)/Q$16)*Q$18+Q$17,1)) -> 74 | P8: YAH StDev | Q8: =IFERROR(STDEVP(E6:E400),"") -> 23.882839 | T8: RB | U8: Kenneth Walker III | V8: =IFERROR(MIN(ROUND(MAX(0,AVERAGE(Y8,AA8,AC8,AE8,AG8)),1),73),"") -> 71.1 | W8: =COUNT(X8,Z8,AB8,AD8,AF8) -> 5 | X8: 82 | Y8: =IF(X8="","",ROUND(((X8-AJ$7)/AJ$8)*AJ$18+AJ$17,1)) -> 70.6 | Z8: 48.5 | AA8: =IF(Z8="","",ROUND(((Z8-AJ$9)/AJ$10)*AJ$18+AJ$17,1)) -> 73.3 | AB8: 60.9 | AC8: =IF(AB8="","",ROUND(((AB8-AJ$11)/AJ$12)*AJ$18+AJ$17,1)) -> 62.2 | AD8: 3358.1 | AE8: =IF(AD8="","",ROUND(((AD8-AJ$13)/AJ$14)*AJ$18+AJ$17,1)) -> 77.2 | AF8: 72 | AG8: =IF(AF8="","",ROUND(((AF8-AJ$15)/AJ$16)*AJ$18+AJ$17,1)) -> 72 | AI8: YAH StDev | AJ8: =IFERROR(STDEVP(X6:X400),"") -> 23.498248 | AM8: RB | AN8: Kenneth Walker III | AO8: =IFERROR(ROUND(MAX(0,AVERAGE(AR8,AT8)),1),"") -> 55 | AP8: =COUNT(AQ8,AS8) -> 2 | AQ8: 47 | AR8: =IF(AQ8="","",ROUND(((AQ8-BC$7)/BC$8)*BC$12+BC$11,1)) -> 56.7 | AS8: 70 | AT8: =IF(AS8="","",ROUND(((AS8-BC$9)/BC$10)*BC$12+BC$11,1)) -> 53.3 | BB8: CBS StDev | BC8: =IFERROR(STDEVP(AQ6:AQ400),"") -> 13.196633
A9: RB | B9: Jonathan Taylor | C9: =IFERROR(ROUND(MAX(0,AVERAGE(F9,H9,J9,L9,N9)),1),"") -> 59.4 | D9: =COUNT(E9,G9,I9,K9,M9) -> 5 | E9: 76 | F9: =IF(E9="","",ROUND(((E9-Q$7)/Q$8)*Q$18+Q$17,1)) -> 65.5 | G9: 37 | H9: =IF(G9="","",ROUND(((G9-Q$9)/Q$10)*Q$18+Q$17,1)) -> 56 | I9: 51.9 | J9: =IF(I9="","",ROUND(((I9-Q$11)/Q$12)*Q$18+Q$17,1)) -> 51.1 | K9: 2688 | L9: =IF(K9="","",ROUND(((K9-Q$13)/Q$14)*Q$18+Q$17,1)) -> 62.5 | M9: 62 | N9: =IF(M9="","",ROUND(((M9-Q$15)/Q$16)*Q$18+Q$17,1)) -> 62 | P9: CBS Mean | Q9: =IFERROR(AVERAGE(G6:G400),"") -> 16.808511 | T9: RB | U9: Jonathan Taylor | V9: =IFERROR(MIN(ROUND(MAX(0,AVERAGE(Y9,AA9,AC9,AE9,AG9)),1),59.4),"") -> 58.2 | W9: =COUNT(X9,Z9,AB9,AD9,AF9) -> 5 | X9: 74 | Y9: =IF(X9="","",ROUND(((X9-AJ$7)/AJ$8)*AJ$18+AJ$17,1)) -> 63.9 | Z9: 36.5 | AA9: =IF(Z9="","",ROUND(((Z9-AJ$9)/AJ$10)*AJ$18+AJ$17,1)) -> 55.7 | AB9: 50.5 | AC9: =IF(AB9="","",ROUND(((AB9-AJ$11)/AJ$12)*AJ$18+AJ$17,1)) -> 50.9 | AD9: 2617.3 | AE9: =IF(AD9="","",ROUND(((AD9-AJ$13)/AJ$14)*AJ$18+AJ$17,1)) -> 60.3 | AF9: 60 | AG9: =IF(AF9="","",ROUND(((AF9-AJ$15)/AJ$16)*AJ$18+AJ$17,1)) -> 60 | AI9: CBS Mean | AJ9: =IFERROR(AVERAGE(Z6:Z400),"") -> 16.276596 | AM9: RB | AN9: Derrick Henry | AO9: =IFERROR(ROUND(MAX(0,AVERAGE(AR9,AT9)),1),"") -> 45.2 | AP9: =COUNT(AQ9,AS9) -> 2 | AQ9: 39 | AR9: =IF(AQ9="","",ROUND(((AQ9-BC$7)/BC$8)*BC$12+BC$11,1)) -> 46.8 | AS9: 59 | AT9: =IF(AS9="","",ROUND(((AS9-BC$9)/BC$10)*BC$12+BC$11,1)) -> 43.6 | BB9: USA Mean | BC9: =IFERROR(AVERAGE(AS6:AS400),"") -> 30.711111
A10: RB | B10: James Cook III | C10: =IFERROR(ROUND(MAX(0,AVERAGE(F10,H10,J10,L10,N10)),1),"") -> 59.2 | D10: =COUNT(E10,G10,I10,K10,M10) -> 5 | E10: 69 | F10: =IF(E10="","",ROUND(((E10-Q$7)/Q$8)*Q$18+Q$17,1)) -> 59.5 | G10: 38 | H10: =IF(G10="","",ROUND(((G10-Q$9)/Q$10)*Q$18+Q$17,1)) -> 57.5 | I10: 60.1 | J10: =IF(I10="","",ROUND(((I10-Q$11)/Q$12)*Q$18+Q$17,1)) -> 60 | K10: 2487 | L10: =IF(K10="","",ROUND(((K10-Q$13)/Q$14)*Q$18+Q$17,1)) -> 57.8 | M10: 61 | N10: =IF(M10="","",ROUND(((M10-Q$15)/Q$16)*Q$18+Q$17,1)) -> 61 | P10: CBS StDev | Q10: =IFERROR(STDEVP(G6:G400),"") -> 13.872732 | T10: RB | U10: James Cook III | V10: =IFERROR(MIN(ROUND(MAX(0,AVERAGE(Y10,AA10,AC10,AE10,AG10)),1),59.1),"") -> 58.6 | W10: =COUNT(X10,Z10,AB10,AD10,AF10) -> 5 | X10: 67 | Y10: =IF(X10="","",ROUND(((X10-AJ$7)/AJ$8)*AJ$18+AJ$17,1)) -> 58 | Z10: 37.5 | AA10: =IF(Z10="","",ROUND(((Z10-AJ$9)/AJ$10)*AJ$18+AJ$17,1)) -> 57.1 | AB10: 59.3 | AC10: =IF(AB10="","",ROUND(((AB10-AJ$11)/AJ$12)*AJ$18+AJ$17,1)) -> 60.4 | AD10: 2454.3 | AE10: =IF(AD10="","",ROUND(((AD10-AJ$13)/AJ$14)*AJ$18+AJ$17,1)) -> 56.6 | AF10: 61 | AG10: =IF(AF10="","",ROUND(((AF10-AJ$15)/AJ$16)*AJ$18+AJ$17,1)) -> 61 | AI10: CBS StDev | AJ10: =IFERROR(STDEVP(Z6:Z400),"") -> 13.504471 | AM10: RB | AN10: James Cook III | AO10: =IFERROR(ROUND(MAX(0,AVERAGE(AR10,AT10)),1),"") -> 44.8 | AP10: =COUNT(AQ10,AS10) -> 2 | AQ10: 37 | AR10: =IF(AQ10="","",ROUND(((AQ10-BC$7)/BC$8)*BC$12+BC$11,1)) -> 44.3 | AS10: 61 | AT10: =IF(AS10="","",ROUND(((AS10-BC$9)/BC$10)*BC$12+BC$11,1)) -> 45.3 | BB10: USA StDev | BC10: =IFERROR(STDEVP(AS6:AS400),"") -> 18.543189
A11: RB | B11: Derrick Henry | C11: =IFERROR(ROUND(MAX(0,AVERAGE(F11,H11,J11,L11,N11)),1),"") -> 58.2 | D11: =COUNT(E11,G11,I11,K11,M11) -> 5 | E11: 70 | F11: =IF(E11="","",ROUND(((E11-Q$7)/Q$8)*Q$18+Q$17,1)) -> 60.4 | G11: 39 | H11: =IF(G11="","",ROUND(((G11-Q$9)/Q$10)*Q$18+Q$17,1)) -> 59 | I11: 52.3 | J11: =IF(I11="","",ROUND(((I11-Q$11)/Q$12)*Q$18+Q$17,1)) -> 51.6 | K11: 2621 | L11: =IF(K11="","",ROUND(((K11-Q$13)/Q$14)*Q$18+Q$17,1)) -> 60.9 | M11: 59 | N11: =IF(M11="","",ROUND(((M11-Q$15)/Q$16)*Q$18+Q$17,1)) -> 59 | P11: FP Mean | Q11: =IFERROR(AVERAGE(I6:I400),"") -> 29.088235 | T11: RB | U11: Derrick Henry | V11: =IFERROR(MIN(ROUND(MAX(0,AVERAGE(Y11,AA11,AC11,AE11,AG11)),1),58.1),"") -> 58.1 | W11: =COUNT(X11,Z11,AB11,AD11,AF11) -> 5 | X11: 68 | Y11: =IF(X11="","",ROUND(((X11-AJ$7)/AJ$8)*AJ$18+AJ$17,1)) -> 58.8 | Z11: 39 | AA11: =IF(Z11="","",ROUND(((Z11-AJ$9)/AJ$10)*AJ$18+AJ$17,1)) -> 59.3 | AB11: 52.3 | AC11: =IF(AB11="","",ROUND(((AB11-AJ$11)/AJ$12)*AJ$18+AJ$17,1)) -> 52.8 | AD11: 2621 | AE11: =IF(AD11="","",ROUND(((AD11-AJ$13)/AJ$14)*AJ$18+AJ$17,1)) -> 60.4 | AF11: 59 | AG11: =IF(AF11="","",ROUND(((AF11-AJ$15)/AJ$16)*AJ$18+AJ$17,1)) -> 59 | AI11: FP Mean | AJ11: =IFERROR(AVERAGE(AB6:AB400),"") -> 27.609615 | AM11: RB | AN11: Jonathan Taylor | AO11: =IFERROR(ROUND(MAX(0,AVERAGE(AR11,AT11)),1),"") -> 43.4 | AP11: =COUNT(AQ11,AS11) -> 2 | AQ11: 36 | AR11: =IF(AQ11="","",ROUND(((AQ11-BC$7)/BC$8)*BC$12+BC$11,1)) -> 43.1 | AS11: 59 | AT11: =IF(AS11="","",ROUND(((AS11-BC$9)/BC$10)*BC$12+BC$11,1)) -> 43.6 | BB11: Target Mean (anchor sites, median) | BC11: =MEDIAN(BC$7,BC$9,18.55) -> 18.55
A12: RB | B12: Christian McCaffrey | C12: =IFERROR(ROUND(MAX(0,AVERAGE(F12,H12,J12,L12,N12)),1),"") -> 57.7 | D12: =COUNT(E12,G12,I12,K12,M12) -> 5 | E12: 69 | F12: =IF(E12="","",ROUND(((E12-Q$7)/Q$8)*Q$18+Q$17,1)) -> 59.5 | G12: 38 | H12: =IF(G12="","",ROUND(((G12-Q$9)/Q$10)*Q$18+Q$17,1)) -> 57.5 | I12: 51.1 | J12: =IF(I12="","",ROUND(((I12-Q$11)/Q$12)*Q$18+Q$17,1)) -> 50.3 | K12: 2554 | L12: =IF(K12="","",ROUND(((K12-Q$13)/Q$14)*Q$18+Q$17,1)) -> 59.4 | M12: 62 | N12: =IF(M12="","",ROUND(((M12-Q$15)/Q$16)*Q$18+Q$17,1)) -> 62 | P12: FP StDev | Q12: =IFERROR(STDEVP(I6:I400),"") -> 18.769496 | T12: RB | U12: Christian McCaffrey | V12: =IFERROR(MIN(ROUND(MAX(0,AVERAGE(Y12,AA12,AC12,AE12,AG12)),1),57.7),"") -> 55.5 | W12: =COUNT(X12,Z12,AB12,AD12,AF12) -> 5 | X12: 66 | Y12: =IF(X12="","",ROUND(((X12-AJ$7)/AJ$8)*AJ$18+AJ$17,1)) -> 57.1 | Z12: 36.5 | AA12: =IF(Z12="","",ROUND(((Z12-AJ$9)/AJ$10)*AJ$18+AJ$17,1)) -> 55.7 | AB12: 48.9 | AC12: =IF(AB12="","",ROUND(((AB12-AJ$11)/AJ$12)*AJ$18+AJ$17,1)) -> 49.1 | AD12: 2443 | AE12: =IF(AD12="","",ROUND(((AD12-AJ$13)/AJ$14)*AJ$18+AJ$17,1)) -> 56.4 | AF12: 59 | AG12: =IF(AF12="","",ROUND(((AF12-AJ$15)/AJ$16)*AJ$18+AJ$17,1)) -> 59 | AI12: FP StDev | AJ12: =IFERROR(STDEVP(AB6:AB400),"") -> 18.236167 | AM12: RB | AN12: Christian McCaffrey | AO12: =IFERROR(ROUND(MAX(0,AVERAGE(AR12,AT12)),1),"") -> 41.4 | AP12: =COUNT(AQ12,AS12) -> 2 | AQ12: 35 | AR12: =IF(AQ12="","",ROUND(((AQ12-BC$7)/BC$8)*BC$12+BC$11,1)) -> 41.8 | AS12: 56 | AT12: =IF(AS12="","",ROUND(((AS12-BC$9)/BC$10)*BC$12+BC$11,1)) -> 40.9 | BB12: Target StDev (anchor sites, median) | BC12: =MEDIAN(BC$8,BC$10,16.4) -> 16.4
A13: RB | B13: Kyren Williams | C13: =IFERROR(ROUND(MAX(0,AVERAGE(F13,H13,J13,L13,N13)),1),"") -> 52.8 | D13: =COUNT(E13,G13,I13,K13,M13) -> 5 | E13: 65 | F13: =IF(E13="","",ROUND(((E13-Q$7)/Q$8)*Q$18+Q$17,1)) -> 56.1 | G13: 31 | H13: =IF(G13="","",ROUND(((G13-Q$9)/Q$10)*Q$18+Q$17,1)) -> 47.2 | I13: 48.4 | J13: =IF(I13="","",ROUND(((I13-Q$11)/Q$12)*Q$18+Q$17,1)) -> 47.3 | K13: 2245 | L13: =IF(K13="","",ROUND(((K13-Q$13)/Q$14)*Q$18+Q$17,1)) -> 52.3 | M13: 61 | N13: =IF(M13="","",ROUND(((M13-Q$15)/Q$16)*Q$18+Q$17,1)) -> 61 | P13: RSJ Mean | Q13: =IFERROR(AVERAGE(K6:K400),"") -> 1123.2881 | T13: RB | U13: Kyren Williams | V13: =IFERROR(MIN(ROUND(MAX(0,AVERAGE(Y13,AA13,AC13,AE13,AG13)),1),52.7),"") -> 51.2 | W13: =COUNT(X13,Z13,AB13,AD13,AF13) -> 5 | X13: 63 | Y13: =IF(X13="","",ROUND(((X13-AJ$7)/AJ$8)*AJ$18+AJ$17,1)) -> 54.6 | Z13: 30 | AA13: =IF(Z13="","",ROUND(((Z13-AJ$9)/AJ$10)*AJ$18+AJ$17,1)) -> 46.1 | AB13: 46.8 | AC13: =IF(AB13="","",ROUND(((AB13-AJ$11)/AJ$12)*AJ$18+AJ$17,1)) -> 46.9 | AD13: 2172.6 | AE13: =IF(AD13="","",ROUND(((AD13-AJ$13)/AJ$14)*AJ$18+AJ$17,1)) -> 50.2 | AF13: 58 | AG13: =IF(AF13="","",ROUND(((AF13-AJ$15)/AJ$16)*AJ$18+AJ$17,1)) -> 58 | AI13: RSJ Mean | AJ13: =IFERROR(AVERAGE(AD6:AD400),"") -> 1112.7786 | AM13: RB | AN13: Kyren Williams | AO13: =IFERROR(ROUND(MAX(0,AVERAGE(AR13,AT13)),1),"") -> 37.7 | AP13: =COUNT(AQ13,AS13) -> 2 | AQ13: 29 | AR13: =IF(AQ13="","",ROUND(((AQ13-BC$7)/BC$8)*BC$12+BC$11,1)) -> 34.4 | AS13: 56 | AT13: =IF(AS13="","",ROUND(((AS13-BC$9)/BC$10)*BC$12+BC$11,1)) -> 40.9
A14: RB | B14: Javonte Williams | C14: =IFERROR(ROUND(MAX(0,AVERAGE(F14,H14,J14,L14,N14)),1),"") -> 47.1 | D14: =COUNT(E14,G14,I14,K14,M14) -> 5 | E14: 60 | F14: =IF(E14="","",ROUND(((E14-Q$7)/Q$8)*Q$18+Q$17,1)) -> 51.9 | G14: 30 | H14: =IF(G14="","",ROUND(((G14-Q$9)/Q$10)*Q$18+Q$17,1)) -> 45.8 | I14: 45.2 | J14: =IF(I14="","",ROUND(((I14-Q$11)/Q$12)*Q$18+Q$17,1)) -> 43.9 | K14: 1797 | L14: =IF(K14="","",ROUND(((K14-Q$13)/Q$14)*Q$18+Q$17,1)) -> 41.9 | M14: 52 | N14: =IF(M14="","",ROUND(((M14-Q$15)/Q$16)*Q$18+Q$17,1)) -> 52 | P14: RSJ StDev | Q14: =IFERROR(STDEVP(K6:K400),"") -> 882.70649 | T14: RB | U14: Javonte Williams | V14: =IFERROR(MIN(ROUND(MAX(0,AVERAGE(Y14,AA14,AC14,AE14,AG14)),1),47),"") -> 45.8 | W14: =COUNT(X14,Z14,AB14,AD14,AF14) -> 5 | X14: 58 | Y14: =IF(X14="","",ROUND(((X14-AJ$7)/AJ$8)*AJ$18+AJ$17,1)) -> 50.4 | Z14: 29 | AA14: =IF(Z14="","",ROUND(((Z14-AJ$9)/AJ$10)*AJ$18+AJ$17,1)) -> 44.7 | AB14: 43.7 | AC14: =IF(AB14="","",ROUND(((AB14-AJ$11)/AJ$12)*AJ$18+AJ$17,1)) -> 43.5 | AD14: 1737.1 | AE14: =IF(AD14="","",ROUND(((AD14-AJ$13)/AJ$14)*AJ$18+AJ$17,1)) -> 40.3 | AF14: 50 | AG14: =IF(AF14="","",ROUND(((AF14-AJ$15)/AJ$16)*AJ$18+AJ$17,1)) -> 50 | AI14: RSJ StDev | AJ14: =IFERROR(STDEVP(AD6:AD400),"") -> 867.7642 | AM14: RB | AN14: Javonte Williams | AO14: =IFERROR(ROUND(MAX(0,AVERAGE(AR14,AT14)),1),"") -> 33.9 | AP14: =COUNT(AQ14,AS14) -> 2 | AQ14: 28 | AR14: =IF(AQ14="","",ROUND(((AQ14-BC$7)/BC$8)*BC$12+BC$11,1)) -> 33.1 | AS14: 49 | AT14: =IF(AS14="","",ROUND(((AS14-BC$9)/BC$10)*BC$12+BC$11,1)) -> 34.7
A15: RB | B15: Jaylen Warren | C15: =IFERROR(ROUND(MAX(0,AVERAGE(F15,H15,J15,L15,N15)),1),"") -> 45.9 | D15: =COUNT(E15,G15,I15,K15,M15) -> 5 | E15: 64 | F15: =IF(E15="","",ROUND(((E15-Q$7)/Q$8)*Q$18+Q$17,1)) -> 55.3 | G15: 26 | H15: =IF(G15="","",ROUND(((G15-Q$9)/Q$10)*Q$18+Q$17,1)) -> 39.9 | I15: 42.8 | J15: =IF(I15="","",ROUND(((I15-Q$11)/Q$12)*Q$18+Q$17,1)) -> 41.3 | K15: 2101 | L15: =IF(K15="","",ROUND(((K15-Q$13)/Q$14)*Q$18+Q$17,1)) -> 48.9 | M15: 44 | N15: =IF(M15="","",ROUND(((M15-Q$15)/Q$16)*Q$18+Q$17,1)) -> 44 | P15: USA Mean | Q15: =IFERROR(AVERAGE(M6:M400),"") -> 26.433333 | T15: RB | U15: Jaylen Warren | V15: =IFERROR(MIN(ROUND(MAX(0,AVERAGE(Y15,AA15,AC15,AE15,AG15)),1),45.8),"") -> 43.5 | W15: =COUNT(X15,Z15,AB15,AD15,AF15) -> 5 | X15: 61 | Y15: =IF(X15="","",ROUND(((X15-AJ$7)/AJ$8)*AJ$18+AJ$17,1)) -> 52.9 | Z15: 24.5 | AA15: =IF(Z15="","",ROUND(((Z15-AJ$9)/AJ$10)*AJ$18+AJ$17,1)) -> 38.1 | AB15: 40.3 | AC15: =IF(AB15="","",ROUND(((AB15-AJ$11)/AJ$12)*AJ$18+AJ$17,1)) -> 39.8 | AD15: 1979.8 | AE15: =IF(AD15="","",ROUND(((AD15-AJ$13)/AJ$14)*AJ$18+AJ$17,1)) -> 45.8 | AF15: 41 | AG15: =IF(AF15="","",ROUND(((AF15-AJ$15)/AJ$16)*AJ$18+AJ$17,1)) -> 41 | AI15: USA Mean | AJ15: =IFERROR(AVERAGE(AF6:AF400),"") -> 26.017241 | AM15: RB | AN15: Chuba Hubbard | AO15: =IFERROR(ROUND(MAX(0,AVERAGE(AR15,AT15)),1),"") -> 32.1 | AP15: =COUNT(AQ15,AS15) -> 2 | AQ15: 25 | AR15: =IF(AQ15="","",ROUND(((AQ15-BC$7)/BC$8)*BC$12+BC$11,1)) -> 29.4 | AS15: 49 | AT15: =IF(AS15="","",ROUND(((AS15-BC$9)/BC$10)*BC$12+BC$11,1)) -> 34.7
A16: RB | B16: Ashton Jeanty | C16: =IFERROR(ROUND(MAX(0,AVERAGE(F16,H16,J16,L16,N16)),1),"") -> 43.9 | D16: =COUNT(E16,G16,I16,K16,M16) -> 5 | E16: 54 | F16: =IF(E16="","",ROUND(((E16-Q$7)/Q$8)*Q$18+Q$17,1)) -> 46.8 | G16: 23 | H16: =IF(G16="","",ROUND(((G16-Q$9)/Q$10)*Q$18+Q$17,1)) -> 35.5 | I16: 48.2 | J16: =IF(I16="","",ROUND(((I16-Q$11)/Q$12)*Q$18+Q$17,1)) -> 47.1 | K16: 2065 | L16: =IF(K16="","",ROUND(((K16-Q$13)/Q$14)*Q$18+Q$17,1)) -> 48.1 | M16: 42 | N16: =IF(M16="","",ROUND(((M16-Q$15)/Q$16)*Q$18+Q$17,1)) -> 42 | P16: USA StDev | Q16: =IFERROR(STDEVP(M6:M400),"") -> 20.327622 | T16: RB | U16: Ashton Jeanty | V16: =IFERROR(MIN(ROUND(MAX(0,AVERAGE(Y16,AA16,AC16,AE16,AG16)),1),43.9),"") -> 42.1 | W16: =COUNT(X16,Z16,AB16,AD16,AF16) -> 5 | X16: 52 | Y16: =IF(X16="","",ROUND(((X16-AJ$7)/AJ$8)*AJ$18+AJ$17,1)) -> 45.3 | Z16: 21.5 | AA16: =IF(Z16="","",ROUND(((Z16-AJ$9)/AJ$10)*AJ$18+AJ$17,1)) -> 33.7 | AB16: 45.9 | AC16: =IF(AB16="","",ROUND(((AB16-AJ$11)/AJ$12)*AJ$18+AJ$17,1)) -> 45.9 | AD16: 1966.7 | AE16: =IF(AD16="","",ROUND(((AD16-AJ$13)/AJ$14)*AJ$18+AJ$17,1)) -> 45.5 | AF16: 40 | AG16: =IF(AF16="","",ROUND(((AF16-AJ$15)/AJ$16)*AJ$18+AJ$17,1)) -> 40 | AI16: USA StDev | AJ16: =IFERROR(STDEVP(AF6:AF400),"") -> 19.799418 | AM16: RB | AN16: Jaylen Warren | AO16: =IFERROR(ROUND(MAX(0,AVERAGE(AR16,AT16)),1),"") -> 26.4 | AP16: =COUNT(AQ16,AS16) -> 2 | AQ16: 23 | AR16: =IF(AQ16="","",ROUND(((AQ16-BC$7)/BC$8)*BC$12+BC$11,1)) -> 26.9 | AS16: 39 | AT16: =IF(AS16="","",ROUND(((AS16-BC$9)/BC$10)*BC$12+BC$11,1)) -> 25.9
A17: RB | B17: Chuba Hubbard | C17: =IFERROR(ROUND(MAX(0,AVERAGE(F17,H17,J17,L17,N17)),1),"") -> 43.5 | D17: =COUNT(E17,G17,I17,K17,M17) -> 5 | E17: 50 | F17: =IF(E17="","",ROUND(((E17-Q$7)/Q$8)*Q$18+Q$17,1)) -> 43.4 | G17: 27 | H17: =IF(G17="","",ROUND(((G17-Q$9)/Q$10)*Q$18+Q$17,1)) -> 41.4 | I17: 42.4 | J17: =IF(I17="","",ROUND(((I17-Q$11)/Q$12)*Q$18+Q$17,1)) -> 40.9 | K17: 1693 | L17: =IF(K17="","",ROUND(((K17-Q$13)/Q$14)*Q$18+Q$17,1)) -> 39.6 | M17: 52 | N17: =IF(M17="","",ROUND(((M17-Q$15)/Q$16)*Q$18+Q$17,1)) -> 52 | P17: Target Mean (anchor sites, median) | Q17: =MEDIAN(Q$7,Q$9,Q$15) -> 26.433333 | T17: RB | U17: Chuba Hubbard | V17: =IFERROR(MIN(ROUND(MAX(0,AVERAGE(Y17,AA17,AC17,AE17,AG17)),1),43.4),"") -> 42.1 | W17: =COUNT(X17,Z17,AB17,AD17,AF17) -> 5 | X17: 48 | Y17: =IF(X17="","",ROUND(((X17-AJ$7)/AJ$8)*AJ$18+AJ$17,1)) -> 42 | Z17: 26 | AA17: =IF(Z17="","",ROUND(((Z17-AJ$9)/AJ$10)*AJ$18+AJ$17,1)) -> 40.3 | AB17: 40.8 | AC17: =IF(AB17="","",ROUND(((AB17-AJ$11)/AJ$12)*AJ$18+AJ$17,1)) -> 40.3 | AD17: 1627.9 | AE17: =IF(AD17="","",ROUND(((AD17-AJ$13)/AJ$14)*AJ$18+AJ$17,1)) -> 37.8 | AF17: 50 | AG17: =IF(AF17="","",ROUND(((AF17-AJ$15)/AJ$16)*AJ$18+AJ$17,1)) -> 50 | AI17: Target Mean (anchor sites, median) | AJ17: =MEDIAN(AJ$7,AJ$9,AJ$15) -> 26.017241 | AM17: RB | AN17: D'Andre Swift | AO17: =IFERROR(ROUND(MAX(0,AVERAGE(AR17,AT17)),1),"") -> 26 | AP17: =COUNT(AQ17,AS17) -> 2 | AQ17: 23 | AR17: =IF(AQ17="","",ROUND(((AQ17-BC$7)/BC$8)*BC$12+BC$11,1)) -> 26.9 | AS17: 38 | AT17: =IF(AS17="","",ROUND(((AS17-BC$9)/BC$10)*BC$12+BC$11,1)) -> 25
A18: RB | B18: Chase Brown | C18: =IFERROR(ROUND(MAX(0,AVERAGE(F18,H18,J18,L18,N18)),1),"") -> 42.4 | D18: =COUNT(E18,G18,I18,K18,M18) -> 5 | E18: 53 | F18: =IF(E18="","",ROUND(((E18-Q$7)/Q$8)*Q$18+Q$17,1)) -> 45.9 | G18: 21 | H18: =IF(G18="","",ROUND(((G18-Q$9)/Q$10)*Q$18+Q$17,1)) -> 32.6 | I18: 44.5 | J18: =IF(I18="","",ROUND(((I18-Q$11)/Q$12)*Q$18+Q$17,1)) -> 43.1 | K18: 2029 | L18: =IF(K18="","",ROUND(((K18-Q$13)/Q$14)*Q$18+Q$17,1)) -> 47.3 | M18: 43 | N18: =IF(M18="","",ROUND(((M18-Q$15)/Q$16)*Q$18+Q$17,1)) -> 43 | P18: Target StDev (anchor sites, median) | Q18: =MEDIAN(Q$8,Q$10,Q$16) -> 20.327622 | T18: RB | U18: Chase Brown | V18: =IFERROR(MIN(ROUND(MAX(0,AVERAGE(Y18,AA18,AC18,AE18,AG18)),1),42.3),"") -> 40.6 | W18: =COUNT(X18,Z18,AB18,AD18,AF18) -> 5 | X18: 51 | Y18: =IF(X18="","",ROUND(((X18-AJ$7)/AJ$8)*AJ$18+AJ$17,1)) -> 44.5 | Z18: 19.5 | AA18: =IF(Z18="","",ROUND(((Z18-AJ$9)/AJ$10)*AJ$18+AJ$17,1)) -> 30.7 | AB18: 42.4 | AC18: =IF(AB18="","",ROUND(((AB18-AJ$11)/AJ$12)*AJ$18+AJ$17,1)) -> 42.1 | AD18: 1934.6 | AE18: =IF(AD18="","",ROUND(((AD18-AJ$13)/AJ$14)*AJ$18+AJ$17,1)) -> 44.8 | AF18: 41 | AG18: =IF(AF18="","",ROUND(((AF18-AJ$15)/AJ$16)*AJ$18+AJ$17,1)) -> 41 | AI18: Target StDev (anchor sites, median) | AJ18: =MEDIAN(AJ$8,AJ$10,AJ$16) -> 19.799418 | AM18: RB | AN18: Breece Hall | AO18: =IFERROR(ROUND(MAX(0,AVERAGE(AR18,AT18)),1),"") -> 24.9 | AP18: =COUNT(AQ18,AS18) -> 2 | AQ18: 22 | AR18: =IF(AQ18="","",ROUND(((AQ18-BC$7)/BC$8)*BC$12+BC$11,1)) -> 25.7 | AS18: 37 | AT18: =IF(AS18="","",ROUND(((AS18-BC$9)/BC$10)*BC$12+BC$11,1)) -> 24.1
