Workbook

Sheet Overall
A1: Consolidated Trade Values — Week 6 (2026) — Overall
A3: QB — 1QB / 2QB
A4: Rank | B4: Player | C4: 1QB | D4: # Sources | E4: 2QB | F4: # Sources
A5: 1 | B5: =QB!B6 -> Josh Allen | C5: =QB!C6 -> 32.1 | D5: =QB!D6 -> 5 | E5: =QB!V6 -> 71.9 | F5: =QB!W6 -> 4
A6: 2 | B6: =QB!B7 -> Brock Purdy | C6: =QB!C7 -> 20.1 | D6: =QB!D7 -> 5 | E6: =QB!V7 -> 56.9 | F6: =QB!W7 -> 4
A7: 3 | B7: =QB!B8 -> Lamar Jackson | C7: =QB!C8 -> 19.9 | D7: =QB!D8 -> 5 | E7: =QB!V8 -> 56.1 | F7: =QB!W8 -> 4
A8: 4 | B8: =QB!B9 -> Drake Maye | C8: =QB!C9 -> 17.4 | D8: =QB!D9 -> 5 | E8: =QB!V9 -> 54 | F8: =QB!W9 -> 4
A9: 5 | B9: =QB!B10 -> Patrick Mahomes II | C9: =QB!C10 -> 15.3 | D9: =QB!D10 -> 5 | E9: =QB!V10 -> 52.5 | F9: =QB!W10 -> 4
A10: 6 | B10: =QB!B11 -> Joe Burrow | C10: =QB!C11 -> 14.6 | D10: =QB!D11 -> 5 | E10: =QB!V11 -> 53.4 | F10: =QB!W11 -> 4
A11: 7 | B11: =QB!B12 -> Trevor Lawrence | C11: =QB!C12 -> 13.9 | D11: =QB!D12 -> 5 | E11: =QB!V12 -> 49 | F11: =QB!W12 -> 4
A12: 8 | B12: =QB!B13 -> Jared Goff | C12: =QB!C13 -> 12 | D12: =QB!D13 -> 5 | E12: =QB!V13 -> 49.5 | F12: =QB!W13 -> 4
A13: 9 | B13: =QB!B14 -> Caleb Williams | C13: =QB!C14 -> 11.5 | D13: =QB!D14 -> 5 | E13: =QB!V14 -> 50.7 | F13: =QB!W14 -> 4
A14: 10 | B14: =QB!B15 -> Dak Prescott | C14: =QB!C15 -> 11 | D14: =QB!D15 -> 5 | E14: =QB!V15 -> 48.9 | F14: =QB!W15 -> 4
A15: 11 | B15: =QB!B16 -> Jayden Daniels | C15: =QB!C16 -> 8.9 | D15: =QB!D16 -> 5 | E15: =QB!V16 -> 47.2 | F15: =QB!W16 -> 4
A16: 12 | B16: =QB!B17 -> Bryce Young | C16: =QB!C17 -> 8.2 | D16: =QB!D17 -> 5 | E16: =QB!V17 -> 45.2 | F16: =QB!W17 -> 4
... A36: 32 | B36: =QB!B37 -> Michael Penix Jr. | C36: =QB!C37 -> 0.6 | D36: =QB!D37 -> 4 | E36: =QB!V37 -> 31.5 | F36: =QB!W37 -> 4
A39: RB — PPR / HALF / STD
A40: Rank | B40: Player | C40: PPR | D40: # Sources | E40: HALF | F40: # Sources | G40: STD | H40: # Sources
A41: 1 | B41: =RB!B6 -> Jahmyr Gibbs | C41: =RB!C6 -> 81.8 | D41: =RB!D6 -> 5 | E41: =RB!V6 -> 79.3 | F41: =RB!W6 -> 5 | G41: =RB!AO6 -> 59.7 | H41: =RB!AP6 -> 2
A42: 2 | B42: =RB!B7 -> Bijan Robinson | C42: =RB!C7 -> 75.8 | D42: =RB!D7 -> 5 | E42: =RB!V7 -> 73.8 | F42: =RB!W7 -> 5 | G42: =RB!AO7 -> 56.9 | H42: =RB!AP7 -> 2
A43: 3 | B43: =RB!B8 -> Kenneth Walker III | C43: =RB!C8 -> 73.1 | D43: =RB!D8 -> 5 | E43: =RB!V8 -> 71.1 | F43: =RB!W8 -> 5 | G43: =RB!AO8 -> 55 | H43: =RB!AP8 -> 2
A44: 4 | B44: =RB!B9 -> Jonathan Taylor | C44: =RB!C9 -> 59.4 | D44: =RB!D9 -> 5 | E44: =RB!V9 -> 58.2 | F44: =RB!W9 -> 5 | G44: =RB!AO11 -> 43.4 | H44: =RB!AP11 -> 2
A45: 5 | B45: =RB!B10 -> James Cook III | C45: =RB!C10 -> 59.2 | D45: =RB!D10 -> 5 | E45: =RB!V10 -> 58.6 | F45: =RB!W10 -> 5 | G45: =RB!AO10 -> 44.8 | H45: =RB!AP10 -> 2
A46: 6 | B46: =RB!B11 -> Derrick Henry | C46: =RB!C11 -> 58.2 | D46: =RB!D11 -> 5 | E46: =RB!V11 -> 58.1 | F46: =RB!W11 -> 5 | G46: =RB!AO9 -> 45.2 | H46: =RB!AP9 -> 2
A47: 7 | B47: =RB!B12 -> Christian McCaffrey | C47: =RB!C12 -> 57.7 | D47: =RB!D12 -> 5 | E47: =RB!V12 -> 55.5 | F47: =RB!W12 -> 5 | G47: =RB!AO12 -> 41.4 | H47: =RB!AP12 -> 2
A48: 8 | B48: =RB!B13 -> Kyren Williams | C48: =RB!C13 -> 52.8 | D48: =RB!D13 -> 5 | E48: =RB!V13 -> 51.2 | F48: =RB!W13 -> 5 | G48: =RB!AO13 -> 37.7 | H48: =RB!AP13 -> 2
A49: 9 | B49: =RB!B14 -> Javonte Williams | C49: =RB!C14 -> 47.1 | D49: =RB!D14 -> 5 | E49: =RB!V14 -> 45.8 | F49: =RB!W14 -> 5 | G49: =RB!AO14 -> 33.9 | H49: =RB!AP14 -> 2
A50: 10 | B50: =RB!B15 -> Jaylen Warren | C50: =RB!C15 -> 45.9 | D50: =RB!D15 -> 5 | E50: =RB!V15 -> 43.5 | F50: =RB!W15 -> 5 | G50: =RB!AO16 -> 26.4 | H50: =RB!AP16 -> 2
A51: 11 | B51: =RB!B16 -> Ashton Jeanty | C51: =RB!C16 -> 43.9 | D51: =RB!D16 -> 5 | E51: =RB!V16 -> 42.1 | F51: =RB!W16 -> 5 | G51: =RB!AO19 -> 24.1 | H51: =RB!AP19 -> 2
A52: 12 | B52: =RB!B17 -> Chuba Hubbard | C52: =RB!C17 -> 43.5 | D52: =RB!D17 -> 5 | E52: =RB!V17 -> 42.1 | F52: =RB!W17 -> 5 | G52: =RB!AO15 -> 32.1 | H52: =RB!AP15 -> 2
A53: 13 | B53: =RB!B18 -> Chase Brown | C53: =RB!C18 -> 42.4 | D53: =RB!D18 -> 5 | E53: =RB!V18 -> 40.6 | F53: =RB!W18 -> 5 | G53: =RB!AO20 -> 23.3 | H53: =RB!AP20 -> 2
A54: 14 | B54: =RB!B19 -> D'Andre Swift | C54: =RB!C19 -> 40 | D54: =RB!D19 -> 5 | E54: =RB!V19 -> 38.7 | F54: =RB!W19 -> 5 | G54: =RB!AO17 -> 26 | H54: =RB!AP17 -> 2
A55: 15 | B55: =RB!B20 -> Breece Hall | C55: =RB!C20 -> 36.8 | D55: =RB!D20 -> 5 | E55: =RB!V20 -> 35.4 | F55: =RB!W20 -> 5 | G55: =RB!AO18 -> 24.9 | H55: =RB!AP18 -> 2
A56: 16 | B56: =RB!B21 -> Bhayshul Tuten | C56: =RB!C21 -> 36.6 | D56: =RB!D21 -> 5 | E56: =RB!V21 -> 35.9 | F56: =RB!W21 -> 5 | G56: =RB!AO22 -> 20.6 | H56: =RB!AP22 -> 2
A57: 17 | B57: =RB!B22 -> Bucky Irving | C57: =RB!C22 -> 36 | D57: =RB!D22 -> 5 | E57: =RB!V22 -> 34.5 | F57: =RB!W22 -> 5 | G57: =RB!AO21 -> 23.3 | H57: =RB!AP21 -> 2
A58: 18 | B58: =RB!B23 -> Saquon Barkley | C58: =RB!C23 -> 33.3 | D58: =RB!D23 -> 5 | E58: =RB!V23 -> 32.4 | F58: =RB!W23 -> 5 | G58: =RB!AO24 -> 18.3 | H58: =RB!AP24 -> 2
A59: 19 | B59: =RB!B24 -> Jeremiyah Love | C59: =RB!C24 -> 31.1 | D59: =RB!D24 -> 5 | E59: =RB!V24 -> 29.8 | F59: =RB!W24 -> 5 | G59: =RB!AO25 -> 14.1 | H59: =RB!AP25 -> 2
A60: 20 | B60: =RB!B25 -> Rhamondre Stevenson | C60: =RB!C25 -> 30.1 | D60: =RB!D25 -> 5 | E60: =RB!V25 -> 28.8 | F60: =RB!W25 -> 5 | G60: =RB!AO23 -> 19.6 | H60: =RB!AP23 -> 2
A61: 21 | B61: =RB!B26 -> Cam Skattebo | C61: =RB!C26 -> 26.9 | D61: =RB!D26 -> 5 | E61: =RB!V26 -> 26.1 | F61: =RB!W26 -> 5 | G61: =RB!AO26 -> 13.4 | H61: =RB!AP26 -> 2
A62: 22 | B62: =RB!B27 -> Quinshon Judkins | C62: =RB!C27 -> 26.7 | D62: =RB!D27 -> 5 | E62: =RB!V27 -> 25.8 | F62: =RB!W27 -> 5 | G62: =RB!AO27 -> 12.3 | H62: =RB!AP27 -> 2
A63: 23 | B63: =RB!B28 -> Aaron Jones Sr. | C63: =RB!C28 -> 23.4 | D63: =RB!D28 -> 5 | E63: =RB!V28 -> 22.7 | F63: =RB!W28 -> 5 | G63: =RB!AO32 -> 8.1 | H63: =RB!AP32 -> 2
A64: 24 | B64: =RB!B29 -> Omarion Hampton | C64: =RB!C29 -> 22.7 | D64: =RB!D29 -> 5 | E64: =RB!V29 -> 22.1 | F64: =RB!W29 -> 5 | G64: =RB!AO28 -> 11.5 | H64: =RB!AP28 -> 2
A65: 25 | B65: =RB!B30 -> Ollie Gordon II | C65: =RB!C30 -> 20.5 | D65: =RB!D30 -> 5 | E65: =RB!V30 -> 20.4 | F65: =RB!W30 -> 5 | G65: =RB!AO30 -> 10.5 | H65: =RB!AP30 -> 2
A66: 26 | B66: =RB!B31 -> Kyle Monangai | C66: =RB!C31 -> 19 | D66: =RB!D31 -> 5 | E66: =RB!V31 -> 18.3 | F66: =RB!W31 -> 5 | G66: =RB!AO35 -> 7.5 | H66: =RB!AP35 -> 2
A67: 27 | B67: =RB!B32 -> Woody Marks | C67: =RB!C32 -> 18.1 | D67: =RB!D32 -> 5 | E67: =RB!V32 -> 16.9 | F67: =RB!W32 -> 5 | G67: =RB!AO31 -> 10 | H67: =RB!AP31 -> 2
A68: 28 | B68: =RB!B33 -> Jacory Croskey-Merritt | C68: =RB!C33 -> 18.1 | D68: =RB!D33 -> 5 | E68: =RB!V33 -> 18 | F68: =RB!W33 -> 5 | G68: =RB!AO39 -> 5.7 | H68: =RB!AP39 -> 2
A69: 29 | B69: =RB!B34 -> Travis Etienne Jr. | C69: =RB!C34 -> 17 | D69: =RB!D34 -> 5 | E69: =RB!V34 -> 15.9 | F69: =RB!W34 -> 5 | G69: =RB!AO34 -> 7.5 | H69: =RB!AP34 -> 2
A70: 30 | B70: =RB!B35 -> Tony Pollard | C70: =RB!C35 -> 16.6 | D70: =RB!D35 -> 5 | E70: =RB!V35 -> 15.9 | F70: =RB!W35 -> 5 | G70: =RB!AO41 -> 5.4 | H70: =RB!AP41 -> 2
A71: 31 | B71: =RB!B36 -> Jordan Mason | C71: =RB!C36 -> 16.3 | D71: =RB!D36 -> 5 | E71: =RB!V36 -> 16.3 | F71: =RB!W36 -> 5 | G71: =RB!AO36 -> 7.2 | H71: =RB!AP36 -> 2
A72: 32 | B72: =RB!B37 -> Josh Jacobs | C72: =RB!C37 -> 15.6 | D72: =RB!D37 -> 5 | E72: =RB!V37 -> 15.3 | F72: =RB!W37 -> 5 | G72: =RB!AO29 -> 11.4 | H72: =RB!AP29 -> 2
A73: 33 | B73: =RB!B38 -> David Montgomery | C73: =RB!C38 -> 15.6 | D73: =RB!D38 -> 5 | E73: =RB!V38 -> 15 | F73: =RB!W38 -> 5 | G73: =RB!AO38 -> 6.1 | H73: =RB!AP38 -> 2
A74: 34 | B74: =RB!B39 -> J.K. Dobbins | C74: =RB!C39 -> 15.4 | D74: =RB!D39 -> 5 | E74: =RB!V39 -> 15.4 | F74: =RB!W39 -> 5 | G74: =RB!AO33 -> 7.7 | H74: =RB!AP33 -> 2
A75: 35 | B75: =RB!B40 -> TreVeyon Henderson | C75: =RB!C40 -> 15.4 | D75: =RB!D40 -> 5 | E75: =RB!V40 -> 14.6 | F75: =RB!W40 -> 5 | G75: =RB!AO46 -> 3.7 | H75: =RB!AP46 -> 2
A76: 36 | B76: =RB!B41 -> Zach Charbonnet | C76: =RB!C41 -> 15.3 | D76: =RB!D41 -> 4 | E76: =RB!V41 -> 11 | F76: =RB!W41 -> 4 | G76: =RB!AO42 -> 5 | H76: =RB!AP42 -> 2
A77: 37 | B77: =RB!B42 -> Blake Corum | C77: =RB!C42 -> 14.9 | D77: =RB!D42 -> 5 | E77: =RB!V42 -> 14.8 | F77: =RB!W42 -> 5 | G77: =RB!AO43 -> 4.2 | H77: =RB!AP43 -> 2
A78: 38 | B78: =RB!B43 -> Emanuel Wilson | C78: =RB!C43 -> 14.9 | D78: =RB!D43 -> 5 | E78: =RB!V43 -> 14.4 | F78: =RB!W43 -> 5 | G78: =RB!AO37 -> 6.7 | H78: =RB!AP37 -> 2
A79: 39 | B79: =RB!B44 -> Braelon Allen | C79: =RB!C44 -> 14.6 | D79: =RB!D44 -> 5 | E79: =RB!V44 -> 14.5 | F79: =RB!W44 -> 5 | G79: =RB!AO40 -> 5.4 | H79: =RB!AP40 -> 2
A80: 40 | B80: =RB!B45 -> RJ Harvey | C80: =RB!C45 -> 14.4 | D80: =RB!D45 -> 5 | E80: =RB!V45 -> 12.5 | F80: =RB!W45 -> 5 | G80: =RB!AO49 -> 1.5 | H80: =RB!AP49 -> 2
A81: 41 | B81: =RB!B46 -> Alvin Kamara | C81: =RB!C46 -> 11.4 | D81: =RB!D46 -> 5 | E81: =RB!V46 -> 10.8 | F81: =RB!W46 -> 5 | G81: =RB!AO48 -> 2.4 | H81: =RB!AP48 -> 2
A82: 42 | B82: =RB!B47 -> Emmett Johnson | C82: =RB!C47 -> 11.3 | D82: =RB!D47 -> 4 | E82: =RB!V47 -> 11.2 | F82: =RB!W47 -> 4
A83: 43 | B83: =RB!B48 -> Brian Robinson Jr. | C83: =RB!C48 -> 9.7 | D83: =RB!D48 -> 5 | E83: =RB!V48 -> 9.7 | F83: =RB!W48 -> 5 | G83: =RB!AO44 -> 4.2 | H83: =RB!AP44 -> 2
A84: 44 | B84: =RB!B49 -> Keaton Mitchell | C84: =RB!C49 -> 9.6 | D84: =RB!D49 -> 5 | E84: =RB!V49 -> 8.9 | F84: =RB!W49 -> 5
A85: 45 | B85: =RB!B50 -> MarShawn Lloyd | C85: =RB!C50 -> 9.2 | D85: =RB!D50 -> 5 | E85: =RB!V50 -> 9 | F85: =RB!W50 -> 5 | G85: =RB!AO45 -> 3.9 | H85: =RB!AP45 -> 2
A86: 46 | B86: =RB!B51 -> Rachaad White | C86: =RB!C51 -> 8.8 | D86: =RB!D51 -> 4 | E86: =RB!V51 -> 8 | F86: =RB!W51 -> 4
A87: 47 | B87: =RB!B52 -> Jadarian Price | C87: =RB!C52 -> 8.3 | D87: =RB!D52 -> 5 | E87: =RB!V52 -> 8.3 | F87: =RB!W52 -> 5 | G87: =RB!AO50 -> 0.8 | H87: =RB!AP50 -> 2
A88: 48 | B88: =RB!B53 -> Kaelon Black | C88: =RB!C53 -> 8.3 | D88: =RB!D53 -> 5 | E88: =RB!V53 -> 8.2 | F88: =RB!W53 -> 5 | G88: =RB!AO47 -> 2.8 | H88: =RB!AP47 -> 2
A89: 49 | B89: =RB!B54 -> Jonathon Brooks | C89: =RB!C54 -> 8.1 | D89: =RB!D54 -> 3 | E89: =RB!V54 -> 8.1 | F89: =RB!W54 -> 3
A90: 50 | B90: =RB!B55 -> Chris Rodriguez Jr. | C90: =RB!C55 -> 8 | D90: =RB!D55 -> 3
A91: 51 | B91: =RB!B56 -> Tyler Allgeier | C91: =RB!C56 -> 7.9 | D91: =RB!D56 -> 4 | E91: =RB!V55 -> 7.6 | F91: =RB!W55 -> 4
A92: 52 | B92: =RB!B57 -> Samaje Perine | C92: =RB!C57 -> 7.4 | D92: =RB!D57 -> 3 | E92: =RB!V56 -> 6.2 | F92: =RB!W56 -> 3
A93: 53 | B93: =RB!B58 -> Mike Washington Jr. | C93: =RB!C58 -> 6.8 | D93: =RB!D58 -> 4 | E93: =RB!V57 -> 6.8 | F93: =RB!W57 -> 4
A94: 54 | B94: =RB!B59 -> Tyjae Spears | C94: =RB!C59 -> 6.8 | D94: =RB!D59 -> 3
A95: 55 | B95: =RB!B60 -> Kendre Miller | C95: =RB!C60 -> 6.5 | D95: =RB!D60 -> 3 | E95: =RB!V58 -> 6.4 | F95: =RB!W58 -> 3
A96: 56 | B96: =RB!B61 -> Rico Dowdle | C96: =RB!C61 -> 6.1 | D96: =RB!D61 -> 4 | E96: =RB!V59 -> 5.7 | F96: =RB!W59 -> 4
A97: 57 | B97: =RB!B62 -> Jonah Coleman | C97: =RB!C62 -> 5.7 | D97: =RB!D62 -> 4 | E97: =RB!V60 -> 5.6 | F97: =RB!W60 -> 4
A98: 58 | B98: =RB!B63 -> Sean Tucker | C98: =RB!C63 -> 3.8 | D98: =RB!D63 -> 3 | E98: =RB!V61 -> 3.8 | F98: =RB!W61 -> 3
A99: 59 | B99: =RB!B64 -> Ray Davis | C99: =RB!C64 -> 3.7 | D99: =RB!D64 -> 3 | E99: =RB!V62 -> 3.6 | F99: =RB!W62 -> 3
A100: 60 | B100: =RB!B65 -> Jaylen Wright | C100: =RB!C65 -> 2.2 | D100: =RB!D65 -> 3 | E100: =RB!V63 -> 2.1 | F100: =RB!W63 -> 3
A103: WR — PPR / HALF / STD
A104: Rank | B104: Player | C104: PPR | D104: # Sources | E104: HALF | F104: # Sources | G104: STD | H104: # Sources
A105: 1 | B105: =WR!B6 -> Jaxon Smith-Njigba | C105: =WR!C6 -> 76 | D105: =WR!D6 -> 5 | E105: =WR!V6 -> 74.1 | F105: =WR!W6 -> 5 | G105: =WR!AO6 -> 53 | H105: =WR!AP6 -> 2
A106: 2 | B106: =WR!B7 -> Puka Nacua | C106: =WR!C7 -> 71.5 | D106: =WR!D7 -> 5 | E106: =WR!V7 -> 69.4 | F106: =WR!W7 -> 5 | G106: =WR!AO7 -> 49 | H106: =WR!AP7 -> 2
A107: 3 | B107: =WR!B8 -> Ja'Marr Chase | C107: =WR!C8 -> 69.7 | D107: =WR!D8 -> 5 | E107: =WR!V8 -> 68.4 | F107: =WR!W8 -> 5 | G107: =WR!AO8 -> 47.7 | H107: =WR!AP8 -> 2
A108: 4 | B108: =WR!B9 -> Amon-Ra St. Brown | C108: =WR!C9 -> 64.3 | D108: =WR!D9 -> 5 | E108: =WR!V9 -> 62.6 | F108: =WR!W9 -> 5 | G108: =WR!AO10 -> 39.6 | H108: =WR!AP10 -> 2
A109: 5 | B109: =WR!B10 -> CeeDee Lamb | C109: =WR!C10 -> 60.4 | D109: =WR!D10 -> 5 | E109: =WR!V10 -> 58.9 | F109: =WR!W10 -> 5 | G109: =WR!AO9 -> 41 | H109: =WR!AP9 -> 2
A110: 6 | B110: =WR!B11 -> Chris Olave | C110: =WR!C11 -> 54.4 | D110: =WR!D11 -> 5 | E110: =WR!V11 -> 52.6 | F110: =WR!W11 -> 5 | G110: =WR!AO11 -> 36.5 | H110: =WR!AP11 -> 2
A111: 7 | B111: =WR!B12 -> Justin Jefferson | C111: =WR!C12 -> 52.7 | D111: =WR!D12 -> 5 | E111: =WR!V12 -> 51.3 | F111: =WR!W12 -> 5 | G111: =WR!AO12 -> 35 | H111: =WR!AP12 -> 2
A112: 8 | B112: =WR!B13 -> Drake London | C112: =WR!C13 -> 52.3 | D112: =WR!D13 -> 5 | E112: =WR!V13 -> 50.7 | F112: =WR!W13 -> 5 | G112: =WR!AO13 -> 33.7 | H112: =WR!AP13 -> 2
A113: 9 | B113: =WR!B14 -> Zay Flowers | C113: =WR!C14 -> 51.5 | D113: =WR!D14 -> 5 | E113: =WR!V14 -> 50.2 | F113: =WR!W14 -> 5 | G113: =WR!AO14 -> 32 | H113: =WR!AP14 -> 2
A114: 10 | B114: =WR!B15 -> Nico Collins | C114: =WR!C15 -> 48.7 | D114: =WR!D15 -> 5 | E114: =WR!V15 -> 47.4 | F114: =WR!W15 -> 5 | G114: =WR!AO15 -> 31.4 | H114: =WR!AP15 -> 2
A115: 11 | B115: =WR!B16 -> Malik Nabers | C115: =WR!C16 -> 45 | D115: =WR!D16 -> 5 | E115: =WR!V16 -> 43.7 | F115: =WR!W16 -> 5 | G115: =WR!AO20 -> 20.6 | H115: =WR!AP20 -> 2
A116: 12 | B116: =WR!B17 -> Parker Washington | C116: =WR!C17 -> 43.2 | D116: =WR!D17 -> 5 | E116: =WR!V17 -> 41.9 | F116: =WR!W17 -> 5 | G116: =WR!AO17 -> 23.3 | H116: =WR!AP17 -> 2
A117: 13 | B117: =WR!B18 -> Christian Watson | C117: =WR!C18 -> 43.1 | D117: =WR!D18 -> 5 | E117: =WR!V18 -> 42.1 | F117: =WR!W18 -> 5 | G117: =WR!AO16 -> 24 | H117: =WR!AP16 -> 2
A118: 14 | B118: =WR!B19 -> Garrett Wilson | C118: =WR!C19 -> 40.3 | D118: =WR!D19 -> 5 | E118: =WR!V19 -> 38.8 | F118: =WR!W19 -> 5 | G118: =WR!AO18 -> 22.1 | H118: =WR!AP18 -> 2
A119: 15 | B119: =WR!B20 -> Tetairoa McMillan | C119: =WR!C20 -> 39.3 | D119: =WR!D20 -> 5 | E119: =WR!V20 -> 37.7 | F119: =WR!W20 -> 5 | G119: =WR!AO21 -> 19.8 | H119: =WR!AP21 -> 2
A120: 16 | B120: =WR!B21 -> George Pickens | C120: =WR!C21 -> 37.8 | D120: =WR!D21 -> 5 | E120: =WR!V21 -> 37.2 | F120: =WR!W21 -> 5 | G120: =WR!AO19 -> 20.7 | H120: =WR!AP19 -> 2
A121: 17 | B121: =WR!B22 -> Mike Evans | C121: =WR!C22 -> 35 | D121: =WR!D22 -> 5 | E121: =WR!V22 -> 34.2 | F121: =WR!W22 -> 5 | G121: =WR!AO25 -> 17.5 | H121: =WR!AP25 -> 2
A122: 18 | B122: =WR!B23 -> DeVonta Smith | C122: =WR!C23 -> 34 | D122: =WR!D23 -> 5 | E122: =WR!V23 -> 32.9 | F122: =WR!W23 -> 5 | G122: =WR!AO22 -> 18.3 | H122: =WR!AP22 -> 2
A123: 19 | B123: =WR!B24 -> Matthew Golden | C123: =WR!C24 -> 33.6 | D123: =WR!D24 -> 5 | E123: =WR!V24 -> 32.7 | F123: =WR!W24 -> 5 | G123: =WR!AO24 -> 17.8 | H123: =WR!AP24 -> 2
A124: 20 | B124: =WR!B25 -> A.J. Brown | C124: =WR!C25 -> 32.4 | D124: =WR!D25 -> 5 | E124: =WR!V25 -> 31.4 | F124: =WR!W25 -> 5 | G124: =WR!AO23 -> 18 | H124: =WR!AP23 -> 2
...

Sheet QB
A1: QB — 1QB | P1: Site stats (this week) | T1: QB — 2QB | AI1: Site stats (this week)
T2: RSJ does not publish 2QB/Superflex values — left blank, excluded from the average.
A5: POS | B5: Player | C5: AVG (Normalized) | D5: # Sources | E5: YAH (C) | F5: YAH (Norm) | G5: CBS (C) | H5: CBS (Norm) | I5: FP (C) | J5: FP (Norm) | K5: RSJ (C) | L5: RSJ (Norm) | M5: USA (C) | N5: USA (Norm) | T5: POS | U5: Player | V5: AVG (Normalized) | W5: # Sources | X5: YAH (C) | Y5: YAH (Norm) | Z5: CBS (C) | AA5: CBS (Norm) | AB5: FP (C) | AC5: FP (Norm) | AD5: USA (C) | AE5: USA (Norm)
A6: QB | B6: Josh Allen | C6: =IFERROR(ROUND(MAX(0,AVERAGE(F6,H6,J6,L6,N6)),1),"") -> 32.1 | D6: =COUNT(E6,G6,I6,K6,M6) -> 5 | E6: 32 | F6: =IF(E6="","",ROUND(((E6-Q$7)/Q$8)*Q$18+Q$17,1)) -> 36.3 | G6: 22 | H6: =IF(G6="","",ROUND(((G6-Q$9)/Q$10)*Q$18+Q$17,1)) -> 32.1 | I6: 29.1 | J6: =IF(I6="","",ROUND(((I6-Q$11)/Q$12)*Q$18+Q$17,1)) -> 29.3 | K6: 1831 | L6: =IF(K6="","",ROUND(((K6-Q$13)/Q$14)*Q$18+Q$17,1)) -> 31 | M6: 40 | N6: =IF(M6="","",ROUND(((M6-Q$15)/Q$16)*Q$18+Q$17,1)) -> 31.7 | T6: QB | U6: Josh Allen | V6: =IFERROR(ROUND(MAX(0,AVERAGE(Y6,AA6,AC6,AE6)),1),"") -> 71.9 | W6: =COUNT(X6,Z6,AB6,AD6) -> 4 | X6: 81 | Y6: =IF(X6="","",ROUND(((X6-AJ$7)/AJ$8)*AJ$16+AJ$15,1)) -> 69.7 | Z6: 48 | AA6: =IF(Z6="","",ROUND(((Z6-AJ$9)/AJ$10)*AJ$16+AJ$15,1)) -> 80.3 | AB6: 69.5 | AC6: =IF(AB6="","",ROUND(((AB6-AJ$11)/AJ$12)*AJ$16+AJ$15,1)) -> 63.6 | AD6: 75 | AE6: =IF(AD6="","",ROUND(((AD6-AJ$13)/AJ$14)*AJ$16+AJ$15,1)) -> 73.8
A7: QB | B7: Brock Purdy | C7: =IFERROR(ROUND(MAX(0,AVERAGE(F7,H7,J7,L7,N7)),1),"") -> 20.1 | D7: =COUNT(E7,G7,I7,K7,M7) -> 5 | E7: 21 | F7: =IF(E7="","",ROUND(((E7-Q$7)/Q$8)*Q$18+Q$17,1)) -> 24.4 | G7: 12 | H7: =IF(G7="","",ROUND(((G7-Q$9)/Q$10)*Q$18+Q$17,1)) -> 12 | I7: 24.7 | J7: =IF(I7="","",ROUND(((I7-Q$11)/Q$12)*Q$18+Q$17,1)) -> 25.2 | K7: 1290 | L7: =IF(K7="","",ROUND(((K7-Q$13)/Q$14)*Q$18+Q$17,1)) -> 20.2 | M7: 24 | N7: =IF(M7="","",ROUND(((M7-Q$15)/Q$16)*Q$18+Q$17,1)) -> 18.7 | P7: YAH Mean | Q7: =IFERROR(AVERAGE(E6:E400),"") -> 6.25 | T7: QB | U7: Brock Purdy | V7: =IFERROR(ROUND(MAX(0,AVERAGE(Y7,AA7,AC7,AE7)),1),"") -> 56.9 | W7: =COUNT(X7,Z7,AB7,AD7) -> 4 | X7: 70 | Y7: =IF(X7="","",ROUND(((X7-AJ$7)/AJ$8)*AJ$16+AJ$15,1)) -> 62 | Z7: 30 | AA7: =IF(Z7="","",ROUND(((Z7-AJ$9)/AJ$10)*AJ$16+AJ$15,1)) -> 57.8 | AB7: 55.5 | AC7: =IF(AB7="","",ROUND(((AB7-AJ$11)/AJ$12)*AJ$16+AJ$15,1)) -> 51.9 | AD7: 61 | AE7: =IF(AD7="","",ROUND(((AD7-AJ$13)/AJ$14)*AJ$16+AJ$15,1)) -> 55.8 | AI7: YAH Mean | AJ7: =IFERROR(AVERAGE(X6:X400),"") -> 39.3125
A8: QB | B8: Lamar Jackson | C8: =IFERROR(ROUND(MAX(0,AVERAGE(F8,H8,J8,L8,N8)),1),"") -> 19.9 | D8: =COUNT(E8,G8,I8,K8,M8) -> 5 | E8: 16 | F8: =IF(E8="","",ROUND(((E8-Q$7)/Q$8)*Q$18+Q$17,1)) -> 19 | G8: 13 | H8: =IF(G8="","",ROUND(((G8-Q$9)/Q$10)*Q$18+Q$17,1)) -> 14 | I8: 28.6 | J8: =IF(I8="","",ROUND(((I8-Q$11)/Q$12)*Q$18+Q$17,1)) -> 28.8 | K8: 1161 | L8: =IF(K8="","",ROUND(((K8-Q$13)/Q$14)*Q$18+Q$17,1)) -> 17.6 | M8: 26 | N8: =IF(M8="","",ROUND(((M8-Q$15)/Q$16)*Q$18+Q$17,1)) -> 20.3 | P8: YAH StDev | Q8: =IFERROR(STDEVP(E6:E400),"") -> 7.570502 | T8: QB | U8: Lamar Jackson | V8: =IFERROR(ROUND(MAX(0,AVERAGE(Y8,AA8,AC8,AE8)),1),"") -> 56.1 | W8: =COUNT(X8,Z8,AB8,AD8) -> 4 | X8: 61 | Y8: =IF(X8="","",ROUND(((X8-AJ$7)/AJ$8)*AJ$16+AJ$15,1)) -> 55.8 | Z8: 30 | AA8: =IF(Z8="","",ROUND(((Z8-AJ$9)/AJ$10)*AJ$16+AJ$15,1)) -> 57.8 | AB8: 56.2 | AC8: =IF(AB8="","",ROUND(((AB8-AJ$11)/AJ$12)*AJ$16+AJ$15,1)) -> 52.5 | AD8: 63 | AE8: =IF(AD8="","",ROUND(((AD8-AJ$13)/AJ$14)*AJ$16+AJ$15,1)) -> 58.4 | AI8: YAH StDev | AJ8: =IFERROR(STDEVP(X6:X400),"") -> 17.375337
A9: QB | B9: Drake Maye | C9: =IFERROR(ROUND(MAX(0,AVERAGE(F9,H9,J9,L9,N9)),1),"") -> 17.4 | D9: =COUNT(E9,G9,I9,K9,M9) -> 5 | E9: 16 | F9: =IF(E9="","",ROUND(((E9-Q$7)/Q$8)*Q$18+Q$17,1)) -> 19 | G9: 10 | H9: =IF(G9="","",ROUND(((G9-Q$9)/Q$10)*Q$18+Q$17,1)) -> 8 | I9: 19 | J9: =IF(I9="","",ROUND(((I9-Q$11)/Q$12)*Q$18+Q$17,1)) -> 19.9 | K9: 1274 | L9: =IF(K9="","",ROUND(((K9-Q$13)/Q$14)*Q$18+Q$17,1)) -> 19.9 | M9: 26 | N9: =IF(M9="","",ROUND(((M9-Q$15)/Q$16)*Q$18+Q$17,1)) -> 20.3 | P9: CBS Mean | Q9: =IFERROR(AVERAGE(G6:G400),"") -> 10.214286 | T9: QB | U9: Drake Maye | V9: =IFERROR(ROUND(MAX(0,AVERAGE(Y9,AA9,AC9,AE9)),1),"") -> 54 | W9: =COUNT(X9,Z9,AB9,AD9) -> 4 | X9: 61 | Y9: =IF(X9="","",ROUND(((X9-AJ$7)/AJ$8)*AJ$16+AJ$15,1)) -> 55.8 | Z9: 24 | AA9: =IF(Z9="","",ROUND(((Z9-AJ$9)/AJ$10)*AJ$16+AJ$15,1)) -> 50.3 | AB9: 54.9 | AC9: =IF(AB9="","",ROUND(((AB9-AJ$11)/AJ$12)*AJ$16+AJ$15,1)) -> 51.4 | AD9: 63 | AE9: =IF(AD9="","",ROUND(((AD9-AJ$13)/AJ$14)*AJ$16+AJ$15,1)) -> 58.4 | AI9: CBS Mean | AJ9: =IFERROR(AVERAGE(Z6:Z400),"") -> 16.3125
A10: QB | B10: Patrick Mahomes II | C10: =IFERROR(ROUND(MAX(0,AVERAGE(F10,H10,J10,L10,N10)),1),"") -> 15.3 | D10: =COUNT(E10,G10,I10,K10,M10) -> 5 | E10: 14 | F10: =IF(E10="","",ROUND(((E10-Q$7)/Q$8)*Q$18+Q$17,1)) -> 16.8 | G10: 12 | H10: =IF(G10="","",ROUND(((G10-Q$9)/Q$10)*Q$18+Q$17,1)) -> 12 | I10: 12.8 | J10: =IF(I10="","",ROUND(((I10-Q$11)/Q$12)*Q$18+Q$17,1)) -> 14.1 | K10: 1226 | L10: =IF(K10="","",ROUND(((K10-Q$13)/Q$14)*Q$18+Q$17,1)) -> 18.9 | M10: 19 | N10: =IF(M10="","",ROUND(((M10-Q$15)/Q$16)*Q$18+Q$17,1)) -> 14.6 | P10: CBS StDev | Q10: =IFERROR(STDEVP(G6:G400),"") -> 4.0739341 | T10: QB | U10: Patrick Mahomes II | V10: =IFERROR(ROUND(MAX(0,AVERAGE(Y10,AA10,AC10,AE10)),1),"") -> 52.5 | W10: =COUNT(X10,Z10,AB10,AD10) -> 4 | X10: 58 | Y10: =IF(X10="","",ROUND(((X10-AJ$7)/AJ$8)*AJ$16+AJ$15,1)) -> 53.7 | Z10: 30 | AA10: =IF(Z10="","",ROUND(((Z10-AJ$9)/AJ$10)*AJ$16+AJ$15,1)) -> 57.8 | AB10: 52.1 | AC10: =IF(AB10="","",ROUND(((AB10-AJ$11)/AJ$12)*AJ$16+AJ$15,1)) -> 49.1 | AD10: 56 | AE10: =IF(AD10="","",ROUND(((AD10-AJ$13)/AJ$14)*AJ$16+AJ$15,1)) -> 49.3 | AI10: CBS StDev | AJ10: =IFERROR(STDEVP(Z6:Z400),"") -> 9.6806427
A11: QB | B11: Joe Burrow | C11: =IFERROR(ROUND(MAX(0,AVERAGE(F11,H11,J11,L11,N11)),1),"") -> 14.6 | D11: =COUNT(E11,G11,I11,K11,M11) -> 5 | E11: 13 | F11: =IF(E11="","",ROUND(((E11-Q$7)/Q$8)*Q$18+Q$17,1)) -> 15.8 | G11: 12 | H11: =IF(G11="","",ROUND(((G11-Q$9)/Q$10)*Q$18+Q$17,1)) -> 12 | I11: 10 | J11: =IF(I11="","",ROUND(((I11-Q$11)/Q$12)*Q$18+Q$17,1)) -> 11.5 | K11: 1061 | L11: =IF(K11="","",ROUND(((K11-Q$13)/Q$14)*Q$18+Q$17,1)) -> 15.7 | M11: 23 | N11: =IF(M11="","",ROUND(((M11-Q$15)/Q$16)*Q$18+Q$17,1)) -> 17.9 | P11: FP Mean | Q11: =IFERROR(AVERAGE(I6:I400),"") -> 6.678125 | T11: QB | U11: Joe Burrow | V11: =IFERROR(ROUND(MAX(0,AVERAGE(Y11,AA11,AC11,AE11)),1),"") -> 53.4 | W11: =COUNT(X11,Z11,AB11,AD11) -> 4 | X11: 57 | Y11: =IF(X11="","",ROUND(((X11-AJ$7)/AJ$8)*AJ$16+AJ$15,1)) -> 53 | Z11: 30 | AA11: =IF(Z11="","",ROUND(((Z11-AJ$9)/AJ$10)*AJ$16+AJ$15,1)) -> 57.8 | AB11: 50.9 | AC11: =IF(AB11="","",ROUND(((AB11-AJ$11)/AJ$12)*AJ$16+AJ$15,1)) -> 48.1 | AD11: 60 | AE11: =IF(AD11="","",ROUND(((AD11-AJ$13)/AJ$14)*AJ$16+AJ$15,1)) -> 54.5 | AI11: FP Mean | AJ11: =IFERROR(AVERAGE(AB6:AB400),"") -> 41.965625
A12: QB | B12: Trevor Lawrence | C12: =IFERROR(ROUND(MAX(0,AVERAGE(F12,H12,J12,L12,N12)),1),"") -> 13.9 | D12: =COUNT(E12,G12,I12,K12,M12) -> 5 | E12: 12 | F12: =IF(E12="","",ROUND(((E12-Q$7)/Q$8)*Q$18+Q$17,1)) -> 14.7 | G12: 9 | H12: =IF(G12="","",ROUND(((G12-Q$9)/Q$10)*Q$18+Q$17,1)) -> 6 | I12: 24.5 | J12: =IF(I12="","",ROUND(((I12-Q$11)/Q$12)*Q$18+Q$17,1)) -> 25 | K12: 890 | L12: =IF(K12="","",ROUND(((K12-Q$13)/Q$14)*Q$18+Q$17,1)) -> 12.3 | M12: 15 | N12: =IF(M12="","",ROUND(((M12-Q$15)/Q$16)*Q$18+Q$17,1)) -> 11.4 | P12: FP StDev | Q12: =IFERROR(STDEVP(I6:I400),"") -> 8.8150345 | T12: QB | U12: Trevor Lawrence | V12: =IFERROR(ROUND(MAX(0,AVERAGE(Y12,AA12,AC12,AE12)),1),"") -> 49 | W12: =COUNT(X12,Z12,AB12,AD12) -> 4 | X12: 56 | Y12: =IF(X12="","",ROUND(((X12-AJ$7)/AJ$8)*AJ$16+AJ$15,1)) -> 52.3 | Z12: 22 | AA12: =IF(Z12="","",ROUND(((Z12-AJ$9)/AJ$10)*AJ$16+AJ$15,1)) -> 47.8 | AB12: 55.1 | AC12: =IF(AB12="","",ROUND(((AB12-AJ$11)/AJ$12)*AJ$16+AJ$15,1)) -> 51.6 | AD12: 52 | AE12: =IF(AD12="","",ROUND(((AD12-AJ$13)/AJ$14)*AJ$16+AJ$15,1)) -> 44.2 | AI12: FP StDev | AJ12: =IFERROR(STDEVP(AB6:AB400),"") -> 14.557915
A13: QB | B13: Jared Goff | C13: =IFERROR(ROUND(MAX(0,AVERAGE(F13,H13,J13,L13,N13)),1),"") -> 12 | D13: =COUNT(E13,G13,I13,K13,M13) -> 5 | E13: 9 | F13: =IF(E13="","",ROUND(((E13-Q$7)/Q$8)*Q$18+Q$17,1)) -> 11.4 | G13: 8 | H13: =IF(G13="","",ROUND(((G13-Q$9)/Q$10)*Q$18+Q$17,1)) -> 4 | I13: 12 | J13: =IF(I13="","",ROUND(((I13-Q$11)/Q$12)*Q$18+Q$17,1)) -> 13.4 | K13: 981 | L13: =IF(K13="","",ROUND(((K13-Q$13)/Q$14)*Q$18+Q$17,1)) -> 14.1 | M13: 22 | N13: =IF(M13="","",ROUND(((M13-Q$15)/Q$16)*Q$18+Q$17,1)) -> 17.1 | P13: RSJ Mean | Q13: =IFERROR(AVERAGE(K6:K400),"") -> 698.55556 | T13: QB | U13: Jared Goff | V13: =IFERROR(ROUND(MAX(0,AVERAGE(Y13,AA13,AC13,AE13)),1),"") -> 49.5 | W13: =COUNT(X13,Z13,AB13,AD13) -> 4 | X13: 50 | Y13: =IF(X13="","",ROUND(((X13-AJ$7)/AJ$8)*AJ$16+AJ$15,1)) -> 48.1 | Z13: 22 | AA13: =IF(Z13="","",ROUND(((Z13-AJ$9)/AJ$10)*AJ$16+AJ$15,1)) -> 47.8 | AB13: 51.8 | AC13: =IF(AB13="","",ROUND(((AB13-AJ$11)/AJ$12)*AJ$16+AJ$15,1)) -> 48.8 | AD13: 59 | AE13: =IF(AD13="","",ROUND(((AD13-AJ$13)/AJ$14)*AJ$16+AJ$15,1)) -> 53.2 | AI13: USA Mean | AJ13: =IFERROR(AVERAGE(AD6:AD400),"") -> 49.25
A14: QB | B14: Caleb Williams | C14: =IFERROR(ROUND(MAX(0,AVERAGE(F14,H14,J14,L14,N14)),1),"") -> 11.5 | D14: =COUNT(E14,G14,I14,K14,M14) -> 5 | E14: 13 | F14: =IF(E14="","",ROUND(((E14-Q$7)/Q$8)*Q$18+Q$17,1)) -> 15.8 | G14: 10 | H14: =IF(G14="","",ROUND(((G14-Q$9)/Q$10)*Q$18+Q$17,1)) -> 8 | I14: 8 | J14: =IF(I14="","",ROUND(((I14-Q$11)/Q$12)*Q$18+Q$17,1)) -> 9.7 | K14: 667 | L14: =IF(K14="","",ROUND(((K14-Q$13)/Q$14)*Q$18+Q$17,1)) -> 7.8 | M14: 21 | N14: =IF(M14="","",ROUND(((M14-Q$15)/Q$16)*Q$18+Q$17,1)) -> 16.3 | P14: RSJ StDev | Q14: =IFERROR(STDEVP(K6:K400),"") -> 411.80644 | T14: QB | U14: Caleb Williams | V14: =IFERROR(ROUND(MAX(0,AVERAGE(Y14,AA14,AC14,AE14)),1),"") -> 50.7 | W14: =COUNT(X14,Z14,AB14,AD14) -> 4 | X14: 57 | Y14: =IF(X14="","",ROUND(((X14-AJ$7)/AJ$8)*AJ$16+AJ$15,1)) -> 53 | Z14: 24 | AA14: =IF(Z14="","",ROUND(((Z14-AJ$9)/AJ$10)*AJ$16+AJ$15,1)) -> 50.3 | AB14: 50.5 | AC14: =IF(AB14="","",ROUND(((AB14-AJ$11)/AJ$12)*AJ$16+AJ$15,1)) -> 47.7 | AD14: 58 | AE14: =IF(AD14="","",ROUND(((AD14-AJ$13)/AJ$14)*AJ$16+AJ$15,1)) -> 51.9 | AI14: USA StDev | AJ14: =IFERROR(STDEVP(AD6:AD400),"") -> 9.4041214
A15: QB | B15: Dak Prescott | C15: =IFERROR(ROUND(MAX(0,AVERAGE(F15,H15,J15,L15,N15)),1),"") -> 11 | D15: =COUNT(E15,G15,I15,K15,M15) -> 5 | E15: 9 | F15: =IF(E15="","",ROUND(((E15-Q$7)/Q$8)*Q$18+Q$17,1)) -> 11.4 | G15: 10 | H15: =IF(G15="","",ROUND(((G15-Q$9)/Q$10)*Q$18+Q$17,1)) -> 8 | I15: 9.2 | J15: =IF(I15="","",ROUND(((I15-Q$11)/Q$12)*Q$18+Q$17,1)) -> 10.8 | K15: 879 | L15: =IF(K15="","",ROUND(((K15-Q$13)/Q$14)*Q$18+Q$17,1)) -> 12 | M15: 17 | N15: =IF(M15="","",ROUND(((M15-Q$15)/Q$16)*Q$18+Q$17,1)) -> 13 | P15: USA Mean | Q15: =IFERROR(AVERAGE(M6:M400),"") -> 11.40625 | T15: QB | U15: Dak Prescott | V15: =IFERROR(ROUND(MAX(0,AVERAGE(Y15,AA15,AC15,AE15)),1),"") -> 48.9 | W15: =COUNT(X15,Z15,AB15,AD15) -> 4 | X15: 50 | Y15: =IF(X15="","",ROUND(((X15-AJ$7)/AJ$8)*AJ$16+AJ$15,1)) -> 48.1 | Z15: 26 | AA15: =IF(Z15="","",ROUND(((Z15-AJ$9)/AJ$10)*AJ$16+AJ$15,1)) -> 52.8 | AB15: 50.7 | AC15: =IF(AB15="","",ROUND(((AB15-AJ$11)/AJ$12)*AJ$16+AJ$15,1)) -> 47.9 | AD15: 54 | AE15: =IF(AD15="","",ROUND(((AD15-AJ$13)/AJ$14)*AJ$16+AJ$15,1)) -> 46.8 | AI15: Target Mean (anchor sites, median) | AJ15: =MEDIAN(AJ$7,AJ$9,AJ$11,AJ$13) -> 40.639063
A16: QB | B16: Jayden Daniels | C16: =IFERROR(ROUND(MAX(0,AVERAGE(F16,H16,J16,L16,N16)),1),"") -> 8.9 | D16: =COUNT(E16,G16,I16,K16,M16) -> 5 | E16: 10 | F16: =IF(E16="","",ROUND(((E16-Q$7)/Q$8)*Q$18+Q$17,1)) -> 12.5 | G16: 5 | H16: =IF(G16="","",ROUND(((G16-Q$9)/Q$10)*Q$18+Q$17,1)) -> -2 | I16: 7.6 | J16: =IF(I16="","",ROUND(((I16-Q$11)/Q$12)*Q$18+Q$17,1)) -> 9.3 | K16: 705 | L16: =IF(K16="","",ROUND(((K16-Q$13)/Q$14)*Q$18+Q$17,1)) -> 8.6 | M16: 21 | N16: =IF(M16="","",ROUND(((M16-Q$15)/Q$16)*Q$18+Q$17,1)) -> 16.3 | P16: USA StDev | Q16: =IFERROR(STDEVP(M6:M400),"") -> 10.052547 | T16: QB | U16: Jayden Daniels | V16: =IFERROR(ROUND(MAX(0,AVERAGE(Y16,AA16,AC16,AE16)),1),"") -> 47.2 | W16: =COUNT(X16,Z16,AB16,AD16) -> 4 | X16: 52 | Y16: =IF(X16="","",ROUND(((X16-AJ$7)/AJ$8)*AJ$16+AJ$15,1)) -> 49.5 | Z16: 16 | AA16: =IF(Z16="","",ROUND(((Z16-AJ$9)/AJ$10)*AJ$16+AJ$15,1)) -> 40.2 | AB16: 49.7 | AC16: =IF(AB16="","",ROUND(((AB16-AJ$11)/AJ$12)*AJ$16+AJ$15,1)) -> 47.1 | AD16: 58 | AE16: =IF(AD16="","",ROUND(((AD16-AJ$13)/AJ$14)*AJ$16+AJ$15,1)) -> 51.9 | AI16: Target StDev (anchor sites, median) | AJ16: =MEDIAN(AJ$8,AJ$10,AJ$12,AJ$14) -> 12.119279
A17: QB | B17: Bryce Young | C17: =IFERROR(ROUND(MAX(0,AVERAGE(F17,H17,J17,L17,N17)),1),"") -> 8.2 | D17: =COUNT(E17,G17,I17,K17,M17) -> 5 | E17: 7 | F17: =IF(E17="","",ROUND(((E17-Q$7)/Q$8)*Q$18+Q$17,1)) -> 9.3 | G17: 7 | H17: =IF(G17="","",ROUND(((G17-Q$9)/Q$10)*Q$18+Q$17,1)) -> 2 | I17: 3.6 | J17: =IF(I17="","",ROUND(((I17-Q$11)/Q$12)*Q$18+Q$17,1)) -> 5.6 | K17: 867 | L17: =IF(K17="","",ROUND(((K17-Q$13)/Q$14)*Q$18+Q$17,1)) -> 11.8 | M17: 16 | N17: =IF(M17="","",ROUND(((M17-Q$15)/Q$16)*Q$18+Q$17,1)) -> 12.2 | P17: Target Mean (anchor sites, median) | Q17: =MEDIAN(Q$7,Q$9,Q$11,Q$15) -> 8.4462054 | T17: QB | U17: Bryce Young | V17: =IFERROR(ROUND(MAX(0,AVERAGE(Y17,AA17,AC17,AE17)),1),"") -> 45.2 | W17: =COUNT(X17,Z17,AB17,AD17) -> 4 | X17: 47 | Y17: =IF(X17="","",ROUND(((X17-AJ$7)/AJ$8)*AJ$16+AJ$15,1)) -> 46 | Z17: 18 | AA17: =IF(Z17="","",ROUND(((Z17-AJ$9)/AJ$10)*AJ$16+AJ$15,1)) -> 42.8 | AB17: 48.9 | AC17: =IF(AB17="","",ROUND(((AB17-AJ$11)/AJ$12)*AJ$16+AJ$15,1)) -> 46.4 | AD17: 53 | AE17: =IF(AD17="","",ROUND(((AD17-AJ$13)/AJ$14)*AJ$16+AJ$15,1)) -> 45.5
A18: QB | B18: Jalen Hurts | C18: =IFERROR(ROUND(MAX(0,AVERAGE(F18,H18,J18,L18,N18)),1),"") -> 7.6 | D18: =COUNT(E18,G18,I18,K18,M18) -> 4 | E18: 5 | F18: =IF(E18="","",ROUND(((E18-Q$7)/Q$8)*Q$18+Q$17,1)) -> 7.1 | H18: =IF(G18="","",ROUND(((G18-Q$9)/Q$10)*Q$18+Q$17,1)) | I18: 5.6 | J18: =IF(I18="","",ROUND(((I18-Q$11)/Q$12)*Q$18+Q$17,1)) -> 7.4 | K18: 659 | L18: =IF(K18="","",ROUND(((K18-Q$13)/Q$14)*Q$18+Q$17,1)) -> 7.7 | M18: 11 | N18: =IF(M18="","",ROUND(((M18-Q$15)/Q$16)*Q$18+Q$17,1)) -> 8.1 | P18: Target StDev (anchor sites, median) | Q18: =MEDIAN(Q$8,Q$10,Q$12,Q$16) -> 8.1927683 | T18: QB | U18: Jalen Hurts | V18: =IFERROR(ROUND(MAX(0,AVERAGE(Y18,AA18,AC18,AE18)),1),"") -> 41.3 | W18: =COUNT(X18,Z18,AB18,AD18) -> 4 | X18: 44 | Y18: =IF(X18="","",ROUND(((X18-AJ$7)/AJ$8)*AJ$16+AJ$15,1)) -> 43.9 | Z18: 11 | AA18: =IF(Z18="","",ROUND(((Z18-AJ$9)/AJ$10)*AJ$16+AJ$15,1)) -> 34 | AB18: 49.4 | AC18: =IF(AB18="","",ROUND(((AB18-AJ$11)/AJ$12)*AJ$16+AJ$15,1)) -> 46.8 | AD18: 49 | AE18: =IF(AD18="","",ROUND(((AD18-AJ$13)/AJ$14)*AJ$16+AJ$15,1)) -> 40.3
A19: QB | B19: Tyler Shough | C19: =IFERROR(ROUND(MAX(0,AVERAGE(F19,H19,J19,L19,N19)),1),"") -> 7.6 | D19: =COUNT(E19,G19,I19,K19,M19) -> 4 | E19: 6 | F19: =IF(E19="","",ROUND(((E19-Q$7)/Q$8)*Q$18+Q$17,1)) -> 8.2 | H19: =IF(G19="","",ROUND(((G19-Q$9)/Q$10)*Q$18+Q$17,1)) | I19: 1 | J19: =IF(I19="","",ROUND(((I19-Q$11)/Q$12)*Q$18+Q$17,1)) -> 3.2 | K19: 690 | L19: =IF(K19="","",ROUND(((K19-Q$13)/Q$14)*Q$18+Q$17,1)) -> 8.3 | M19: 14 | N19: =IF(M19="","",ROUND(((M19-Q$15)/Q$16)*Q$18+Q$17,1)) -> 10.6 | T19: QB | U19: Tyler Shough | V19: =IFERROR(ROUND(MAX(0,AVERAGE(Y19,AA19,AC19,AE19)),1),"") -> 41.5 | W19: =COUNT(X19,Z19,AB19,AD19) -> 4 | X19: 45 | Y19: =IF(X19="","",ROUND(((X19-AJ$7)/AJ$8)*AJ$16+AJ$15,1)) -> 44.6 | Z19: 11 | AA19: =IF(Z19="","",ROUND(((Z19-AJ$9)/AJ$10)*AJ$16+AJ$15,1)) -> 34 | AB19: 46.5 | AC19: =IF(AB19="","",ROUND(((AB19-AJ$11)/AJ$12)*AJ$16+AJ$15,1)) -> 44.4 | AD19: 51 | AE19: =IF(AD19="","",ROUND(((AD19-AJ$13)/AJ$14)*AJ$16+AJ$15,1)) -> 42.9
A20: QB | B20: Matthew Stafford | C20: =IFERROR(ROUND(MAX(0,AVERAGE(F20,H20,J20,L20,N20)),1),"") -> 7 | D20: =COUNT(E20,G20,I20,K20,M20) -> 5 | E20: 6 | F20: =IF(E20="","",ROUND(((E20-Q$7)/Q$8)*Q$18+Q$17,1)) -> 8.2 | G20: 8 | H20: =IF(G20="","",ROUND(((G20-Q$9)/Q$10)*Q$18+Q$17,1)) -> 4 | I20: 1 | J20: =IF(I20="","",ROUND(((I20-Q$11)/Q$12)*Q$18+Q$17,1)) -> 3.2 | K20: 697 | L20: =IF(K20="","",ROUND(((K20-Q$13)/Q$14)*Q$18+Q$17,1)) -> 8.4 | M20: 15 | N20: =IF(M20="","",ROUND(((M20-Q$15)/Q$16)*Q$18+Q$17,1)) -> 11.4 | T20: QB | U20: Matthew Stafford | V20: =IFERROR(ROUND(MAX(0,AVERAGE(Y20,AA20,AC20,AE20)),1),"") -> 44.7 | W20: =COUNT(X20,Z20,AB20,AD20) -> 4 | X20: 45 | Y20: =IF(X20="","",ROUND(((X20-AJ$7)/AJ$8)*AJ$16+AJ$15,1)) -> 44.6 | Z20: 20 | AA20: =IF(Z20="","",ROUND(((Z20-AJ$9)/AJ$10)*AJ$16+AJ$15,1)) -> 45.3 | AB20: 46.8 | AC20: =IF(AB20="","",ROUND(((AB20-AJ$11)/AJ$12)*AJ$16+AJ$15,1)) -> 44.7 | AD20: 52 | AE20: =IF(AD20="","",ROUND(((AD20-AJ$13)/AJ$14)*AJ$16+AJ$15,1)) -> 44.2
A21: QB | B21: Jordan Love | C21: =IFERROR(ROUND(MAX(0,AVERAGE(F21,H21,J21,L21,N21)),1),"") -> 4.5 | D21: =COUNT(E21,G21,I21,K21,M21) -> 5 | E21: 3 | F21: =IF(E21="","",ROUND(((E21-Q$7)/Q$8)*Q$18+Q$17,1)) -> 4.9 | G21: 5 | H21: =IF(G21="","",ROUND(((G21-Q$9)/Q$10)*Q$18+Q$17,1)) -> -2 | I21: 1 | J21: =IF(I21="","",ROUND(((I21-Q$11)/Q$12)*Q$18+Q$17,1)) -> 3.2 | K21: 682 | L21: =IF(K21="","",ROUND(((K21-Q$13)/Q$14)*Q$18+Q$17,1)) -> 8.1 | M21: 11 | N21: =IF(M21="","",ROUND(((M21-Q$15)/Q$16)*Q$18+Q$17,1)) -> 8.1 | T21: QB | U21: Jordan Love | V21: =IFERROR(ROUND(MAX(0,AVERAGE(Y21,AA21,AC21,AE21)),1),"") -> 40.9 | W21: =COUNT(X21,Z21,AB21,AD21) -> 4 | X21: 38 | Y21: =IF(X21="","",ROUND(((X21-AJ$7)/AJ$8)*AJ$16+AJ$15,1)) -> 39.7 | Z21: 14 | AA21: =IF(Z21="","",ROUND(((Z21-AJ$9)/AJ$10)*AJ$16+AJ$15,1)) -> 37.7 | AB21: 48.4 | AC21: =IF(AB21="","",ROUND(((AB21-AJ$11)/AJ$12)*AJ$16+AJ$15,1)) -> 46 | AD21: 49 | AE21: =IF(AD21="","",ROUND(((AD21-AJ$13)/AJ$14)*AJ$16+AJ$15,1)) -> 40.3
A22: QB | B22: Kirk Cousins | C22: =IFERROR(ROUND(MAX(0,AVERAGE(F22,H22,J22,L22,N22)),1),"") -> 3.5 | D22: =COUNT(E22,G22,I22,K22,M22) -> 4 | E22: 2 | F22: =IF(E22="","",ROUND(((E22-Q$7)/Q$8)*Q$18+Q$17,1)) -> 3.8 | H22: =IF(G22="","",ROUND(((G22-Q$9)/Q$10)*Q$18+Q$17,1)) | I22: 1 | J22: =IF(I22="","",ROUND(((I22-Q$11)/Q$12)*Q$18+Q$17,1)) -> 3.2 | K22: 417 | L22: =IF(K22="","",ROUND(((K22-Q$13)/Q$14)*Q$18+Q$17,1)) -> 2.8 | M22: 6 | N22: =IF(M22="","",ROUND(((M22-Q$15)/Q$16)*Q$18+Q$17,1)) -> 4 | T22: QB | U22: Kirk Cousins | V22: =IFERROR(ROUND(MAX(0,AVERAGE(Y22,AA22,AC22,AE22)),1),"") -> 34.6 | W22: =COUNT(X22,Z22,AB22,AD22) -> 4 | X22: 35 | Y22: =IF(X22="","",ROUND(((X22-AJ$7)/AJ$8)*AJ$16+AJ$15,1)) -> 37.6 | Z22: 11 | AA22: =IF(Z22="","",ROUND(((Z22-AJ$9)/AJ$10)*AJ$16+AJ$15,1)) -> 34 | AB22: 29.7 | AC22: =IF(AB22="","",ROUND(((AB22-AJ$11)/AJ$12)*AJ$16+AJ$15,1)) -> 30.4 | AD22: 46 | AE22: =IF(AD22="","",ROUND(((AD22-AJ$13)/AJ$14)*AJ$16+AJ$15,1)) -> 36.5
A23: QB | B23: C.J. Stroud | C23: =IFERROR(ROUND(MAX(0,AVERAGE(F23,H23,J23,L23,N23)),1),"") -> 3.1 | D23: =COUNT(E23,G23,I23,K23,M23) -> 4 | E23: 2 | F23: =IF(E23="","",ROUND(((E23-Q$7)/Q$8)*Q$18+Q$17,1)) -> 3.8 | H23: =IF(G23="","",ROUND(((G23-Q$9)/Q$10)*Q$18+Q$17,1)) | I23: 1 | J23: =IF(I23="","",ROUND(((I23-Q$11)/Q$12)*Q$18+Q$17,1)) -> 3.2 | K23: 346 | L23: =IF(K23="","",ROUND(((K23-Q$13)/Q$14)*Q$18+Q$17,1)) -> 1.4 | M23: 6 | N23: =IF(M23="","",ROUND(((M23-Q$15)/Q$16)*Q$18+Q$17,1)) -> 4 | T23: QB | U23: C.J. Stroud | V23: =IFERROR(ROUND(MAX(0,AVERAGE(Y23,AA23,AC23,AE23)),1),"") -> 38.6 | W23: =COUNT(X23,Z23,AB23,AD23) -> 4 | X23: 37 | Y23: =IF(X23="","",ROUND(((X23-AJ$7)/AJ$8)*AJ$16+AJ$15,1)) -> 39 | Z23: 12 | AA23: =IF(Z23="","",ROUND(((Z23-AJ$9)/AJ$10)*AJ$16+AJ$15,1)) -> 35.2 | AB23: 45.5 | AC23: =IF(AB23="","",ROUND(((AB23-AJ$11)/AJ$12)*AJ$16+AJ$15,1)) -> 43.6 | AD23: 46 | AE23: =IF(AD23="","",ROUND(((AD23-AJ$13)/AJ$14)*AJ$16+AJ$15,1)) -> 36.5
A24: QB | B24: Aaron Rodgers | C24: =IFERROR(ROUND(MAX(0,AVERAGE(F24,H24,J24,L24,N24)),1),"") -> 3 | D24: =COUNT(E24,G24,I24,K24,M24) -> 4 | E24: 1 | F24: =IF(E24="","",ROUND(((E24-Q$7)/Q$8)*Q$18+Q$17,1)) -> 2.8 | H24: =IF(G24="","",ROUND(((G24-Q$9)/Q$10)*Q$18+Q$17,1)) | I24: 1 | J24: =IF(I24="","",ROUND(((I24-Q$11)/Q$12)*Q$18+Q$17,1)) -> 3.2 | K24: 412 | L24: =IF(K24="","",ROUND(((K24-Q$13)/Q$14)*Q$18+Q$17,1)) -> 2.7 | M24: 5 | N24: =IF(M24="","",ROUND(((M24-Q$15)/Q$16)*Q$18+Q$17,1)) -> 3.2 | T24: QB | U24: Aaron Rodgers | V24: =IFERROR(ROUND(MAX(0,AVERAGE(Y24,AA24,AC24,AE24)),1),"") -> 34.9 | W24: =COUNT(X24,Z24,AB24,AD24) -> 4 | X24: 29 | Y24: =IF(X24="","",ROUND(((X24-AJ$7)/AJ$8)*AJ$16+AJ$15,1)) -> 33.4 | Z24: 12 | AA24: =IF(Z24="","",ROUND(((Z24-AJ$9)/AJ$10)*AJ$16+AJ$15,1)) -> 35.2 | AB24: 36.1 | AC24: =IF(AB24="","",ROUND(((AB24-AJ$11)/AJ$12)*AJ$16+AJ$15,1)) -> 35.8 | AD24: 45 | AE24: =IF(AD24="","",ROUND(((AD24-AJ$13)/AJ$14)*AJ$16+AJ$15,1)) -> 35.2
A25: QB | B25: Kyler Murray | C25: =IFERROR(ROUND(MAX(0,AVERAGE(F25,H25,J25,L25,N25)),1),"") -> 2.7 | D25: =COUNT(E25,G25,I25,K25,M25) -> 4 | E25: 1 | F25: =IF(E25="","",ROUND(((E25-Q$7)/Q$8)*Q$18+Q$17,1)) -> 2.8 | H25: =IF(G25="","",ROUND(((G25-Q$9)/Q$10)*Q$18+Q$17,1)) | I25: 1 | J25: =IF(I25="","",ROUND(((I25-Q$11)/Q$12)*Q$18+Q$17,1)) -> 3.2 | K25: 309 | L25: =IF(K25="","",ROUND(((K25-Q$13)/Q$14)*Q$18+Q$17,1)) -> 0.7 | M25: 6 | N25: =IF(M25="","",ROUND(((M25-Q$15)/Q$16)*Q$18+Q$17,1)) -> 4 | T25: QB | U25: Kyler Murray | V25: =IFERROR(ROUND(MAX(0,AVERAGE(Y25,AA25,AC25,AE25)),1),"") -> 35.9 | W25: =COUNT(X25,Z25,AB25,AD25) -> 4 | X25: 28 | Y25: =IF(X25="","",ROUND(((X25-AJ$7)/AJ$8)*AJ$16+AJ$15,1)) -> 32.7 | Z25: 11 | AA25: =IF(Z25="","",ROUND(((Z25-AJ$9)/AJ$10)*AJ$16+AJ$15,1)) -> 34 | AB25: 41.8 | AC25: =IF(AB25="","",ROUND(((AB25-AJ$11)/AJ$12)*AJ$16+AJ$15,1)) -> 40.5 | AD25: 46 | AE25: =IF(AD25="","",ROUND(((AD25-AJ$13)/AJ$14)*AJ$16+AJ$15,1)) -> 36.5
A26: QB | B26: Deshaun Watson | C26: =IFERROR(ROUND(MAX(0,AVERAGE(F26,H26,J26,L26,N26)),1),"") -> 2.4 | D26: =COUNT(E26,G26,I26,K26,M26) -> 3 | E26: 0 | F26: =IF(E26="","",ROUND(((E26-Q$7)/Q$8)*Q$18+Q$17,1)) -> 1.7 | H26: =IF(G26="","",ROUND(((G26-Q$9)/Q$10)*Q$18+Q$17,1)) | I26: 1 | J26: =IF(I26="","",ROUND(((I26-Q$11)/Q$12)*Q$18+Q$17,1)) -> 3.2 | L26: =IF(K26="","",ROUND(((K26-Q$13)/Q$14)*Q$18+Q$17,1)) | M26: 4 | N26: =IF(M26="","",ROUND(((M26-Q$15)/Q$16)*Q$18+Q$17,1)) -> 2.4 | T26: QB | U26: Deshaun Watson | V26: =IFERROR(ROUND(MAX(0,AVERAGE(Y26,AA26,AC26,AE26)),1),"") -> 25.3 | W26: =COUNT(X26,Z26,AB26,AD26) -> 4 | X26: 23 | Y26: =IF(X26="","",ROUND(((X26-AJ$7)/AJ$8)*AJ$16+AJ$15,1)) -> 29.3 | Z26: 8 | AA26: =IF(Z26="","",ROUND(((Z26-AJ$9)/AJ$10)*AJ$16+AJ$15,1)) -> 30.2 | AB26: 2.6 | AC26: =IF(AB26="","",ROUND(((AB26-AJ$11)/AJ$12)*AJ$16+AJ$15,1)) -> 7.9 | AD26: 44 | AE26: =IF(AD26="","",ROUND(((AD26-AJ$13)/AJ$14)*AJ$16+AJ$15,1)) -> 33.9
A27: QB | B27: Jacoby Brissett | C27: =IFERROR(ROUND(MAX(0,AVERAGE(F27,H27,J27,L27,N27)),1),"") -> 2 | D27: =COUNT(E27,G27,I27,K27,M27) -> 4 | E27: 1 | F27: =IF(E27="","",ROUND(((E27-Q$7)/Q$8)*Q$18+Q$17,1)) -> 2.8 | H27: =IF(G27="","",ROUND(((G27-Q$9)/Q$10)*Q$18+Q$17,1)) | I27: 1 | J27: =IF(I27="","",ROUND(((I27-Q$11)/Q$12)*Q$18+Q$17,1)) -> 3.2 | K27: 297 | L27: =IF(K27="","",ROUND(((K27-Q$13)/Q$14)*Q$18+Q$17,1)) -> 0.5 | M27: 3 | N27: =IF(M27="","",ROUND(((M27-Q$15)/Q$16)*Q$18+Q$17,1)) -> 1.6 | T27: QB | U27: Jacoby Brissett | V27: =IFERROR(ROUND(MAX(0,AVERAGE(Y27,AA27,AC27,AE27)),1),"") -> 33.9 | W27: =COUNT(X27,Z27,AB27,AD27) -> 4 | X27: 27 | Y27: =IF(X27="","",ROUND(((X27-AJ$7)/AJ$8)*AJ$16+AJ$15,1)) -> 32.1 | Z27: 11 | AA27: =IF(Z27="","",ROUND(((Z27-AJ$9)/AJ$10)*AJ$16+AJ$15,1)) -> 34 | AB27: 37.5 | AC27: =IF(AB27="","",ROUND(((AB27-AJ$11)/AJ$12)*AJ$16+AJ$15,1)) -> 36.9 | AD27: 43 | AE27: =IF(AD27="","",ROUND(((AD27-AJ$13)/AJ$14)*AJ$16+AJ$15,1)) -> 32.6
A28: QB | B28: Geno Smith | C28: =IFERROR(ROUND(MAX(0,AVERAGE(F28,H28,J28,L28,N28)),1),"") -> 1.9 | D28: =COUNT(E28,G28,I28,K28,M28) -> 3 | E28: 0 | F28: =IF(E28="","",ROUND(((E28-Q$7)/Q$8)*Q$18+Q$17,1)) -> 1.7 | H28: =IF(G28="","",ROUND(((G28-Q$9)/Q$10)*Q$18+Q$17,1)) | I28: 1 | J28: =IF(I28="","",ROUND(((I28-Q$11)/Q$12)*Q$18+Q$17,1)) -> 3.2 | L28: =IF(K28="","",ROUND(((K28-Q$13)/Q$14)*Q$18+Q$17,1)) | M28: 2 | N28: =IF(M28="","",ROUND(((M28-Q$15)/Q$16)*Q$18+Q$17,1)) -> 0.8 | T28: QB | U28: Geno Smith | V28: =IFERROR(ROUND(MAX(0,AVERAGE(Y28,AA28,AC28,AE28)),1),"") -> 28.7 | W28: =COUNT(X28,Z28,AB28,AD28) -> 4 | X28: 18 | Y28: =IF(X28="","",ROUND(((X28-AJ$7)/AJ$8)*AJ$16+AJ$15,1)) -> 25.8 | Z28: 7 | AA28: =IF(Z28="","",ROUND(((Z28-AJ$9)/AJ$10)*AJ$16+AJ$15,1)) -> 29 | AB28: 29.3 | AC28: =IF(AB28="","",ROUND(((AB28-AJ$11)/AJ$12)*AJ$16+AJ$15,1)) -> 30.1 | AD28: 41 | AE28: =IF(AD28="","",ROUND(((AD28-AJ$13)/AJ$14)*AJ$16+AJ$15,1)) -> 30
A29: QB | B29: Bo Nix | C29: =IFERROR(ROUND(MAX(0,AVERAGE(F29,H29,J29,L29,N29)),1),"") -> 1.6 | D29: =COUNT(E29,G29,I29,K29,M29) -> 4 | E29: 0 | F29: =IF(E29="","",ROUND(((E29-Q$7)/Q$8)*Q$18+Q$17,1)) -> 1.7 | H29: =IF(G29="","",ROUND(((G29-Q$9)/Q$10)*Q$18+Q$17,1)) | I29: 1 | J29: =IF(I29="","",ROUND(((I29-Q$11)/Q$12)*Q$18+Q$17,1)) -> 3.2 | K29: 314 | L29: =IF(K29="","",ROUND(((K29-Q$13)/Q$14)*Q$18+Q$17,1)) -> 0.8 | M29: 2 | N29: =IF(M29="","",ROUND(((M29-Q$15)/Q$16)*Q$18+Q$17,1)) -> 0.8 | T29: QB | U29: Bo Nix | V29: =IFERROR(ROUND(MAX(0,AVERAGE(Y29,AA29,AC29,AE29)),1),"") -> 34.2 | W29: =COUNT(X29,Z29,AB29,AD29) -> 4 | X29: 24 | Y29: =IF(X29="","",ROUND(((X29-AJ$7)/AJ$8)*AJ$16+AJ$15,1)) -> 30 | Z29: 10 | AA29: =IF(Z29="","",ROUND(((Z29-AJ$9)/AJ$10)*AJ$16+AJ$15,1)) -> 32.7 | AB29: 44.6 | AC29: =IF(AB29="","",ROUND(((AB29-AJ$11)/AJ$12)*AJ$16+AJ$15,1)) -> 42.8 | AD29: 42 | AE29: =IF(AD29="","",ROUND(((AD29-AJ$13)/AJ$14)*AJ$16+AJ$15,1)) -> 31.3
A30: QB | B30: Baker Mayfield | C30: =IFERROR(ROUND(MAX(0,AVERAGE(F30,H30,J30,L30,N30)),1),"") -> 1.6 | D30: =COUNT(E30,G30,I30,K30,M30) -> 3 | E30: 0 | F30: =IF(E30="","",ROUND(((E30-Q$7)/Q$8)*Q$18+Q$17,1)) -> 1.7 | H30: =IF(G30="","",ROUND(((G30-Q$9)/Q$10)*Q$18+Q$17,1)) | I30: 1 | J30: =IF(I30="","",ROUND(((I30-Q$11)/Q$12)*Q$18+Q$17,1)) -> 3.2 | L30: =IF(K30="","",ROUND(((K30-Q$13)/Q$14)*Q$18+Q$17,1)) | M30: 1 | N30: =IF(M30="","",ROUND(((M30-Q$15)/Q$16)*Q$18+Q$17,1)) -> 0 | T30: QB | U30: Baker Mayfield | V30: =IFERROR(ROUND(MAX(0,AVERAGE(Y30,AA30,AC30,AE30)),1),"") -> 27.8 | W30: =COUNT(X30,Z30,AB30,AD30) -> 4 | X30: 19 | Y30: =IF(X30="","",ROUND(((X30-AJ$7)/AJ$8)*AJ$16+AJ$15,1)) -> 26.5 | Z30: 7 | AA30: =IF(Z30="","",ROUND(((Z30-AJ$9)/AJ$10)*AJ$16+AJ$15,1)) -> 29 | AB30: 28.7 | AC30: =IF(AB30="","",ROUND(((AB30-AJ$11)/AJ$12)*AJ$16+AJ$15,1)) -> 29.6 | AD30: 38 | AE30: =IF(AD30="","",ROUND(((AD30-AJ$13)/AJ$14)*AJ$16+AJ$15,1)) -> 26.1
A31: QB | B31: Malik Willis | C31: =IFERROR(ROUND(MAX(0,AVERAGE(F31,H31,J31,L31,N31)),1),"") -> 1.6 | D31: =COUNT(E31,G31,I31,K31,M31) -> 3 | E31: 0 | F31: =IF(E31="","",ROUND(((E31-Q$7)/Q$8)*Q$18+Q$17,1)) -> 1.7 | H31: =IF(G31="","",ROUND(((G31-Q$9)/Q$10)*Q$18+Q$17,1)) | I31: 1 | J31: =IF(I31="","",ROUND(((I31-Q$11)/Q$12)*Q$18+Q$17,1)) -> 3.2 | L31: =IF(K31="","",ROUND(((K31-Q$13)/Q$14)*Q$18+Q$17,1)) | M31: 1 | N31: =IF(M31="","",ROUND(((M31-Q$15)/Q$16)*Q$18+Q$17,1)) -> 0 | T31: QB | U31: Malik Willis | V31: =IFERROR(ROUND(MAX(0,AVERAGE(Y31,AA31,AC31,AE31)),1),"") -> 30.3 | W31: =COUNT(X31,Z31,AB31,AD31) -> 4 | X31: 19 | Y31: =IF(X31="","",ROUND(((X31-AJ$7)/AJ$8)*AJ$16+AJ$15,1)) -> 26.5 | Z31: 8 | AA31: =IF(Z31="","",ROUND(((Z31-AJ$9)/AJ$10)*AJ$16+AJ$15,1)) -> 30.2 | AB31: 40.7 | AC31: =IF(AB31="","",ROUND(((AB31-AJ$11)/AJ$12)*AJ$16+AJ$15,1)) -> 39.6 | AD31: 37 | AE31: =IF(AD31="","",ROUND(((AD31-AJ$13)/AJ$14)*AJ$16+AJ$15,1)) -> 24.9
A32: QB | B32: Cam Ward | C32: =IFERROR(ROUND(MAX(0,AVERAGE(F32,H32,J32,L32,N32)),1),"") -> 1.6 | D32: =COUNT(E32,G32,I32,K32,M32) -> 3 | E32: 0 | F32: =IF(E32="","",ROUND(((E32-Q$7)/Q$8)*Q$18+Q$17,1)) -> 1.7 | H32: =IF(G32="","",ROUND(((G32-Q$9)/Q$10)*Q$18+Q$17,1)) | I32: 1 | J32: =IF(I32="","",ROUND(((I32-Q$11)/Q$12)*Q$18+Q$17,1)) -> 3.2 | L32: =IF(K32="","",ROUND(((K32-Q$13)/Q$14)*Q$18+Q$17,1)) | M32: 1 | N32: =IF(M32="","",ROUND(((M32-Q$15)/Q$16)*Q$18+Q$17,1)) -> 0 | T32: QB | U32: Cam Ward | V32: =IFERROR(ROUND(MAX(0,AVERAGE(Y32,AA32,AC32,AE32)),1),"") -> 19.3 | W32: =COUNT(X32,Z32,AB32,AD32) -> 4 | X32: 16 | Y32: =IF(X32="","",ROUND(((X32-AJ$7)/AJ$8)*AJ$16+AJ$15,1)) -> 24.4 | Z32: 5 | AA32: =IF(Z32="","",ROUND(((Z32-AJ$9)/AJ$10)*AJ$16+AJ$15,1)) -> 26.5 | AB32: 1 | AC32: =IF(AB32="","",ROUND(((AB32-AJ$11)/AJ$12)*AJ$16+AJ$15,1)) -> 6.5 | AD32: 33 | AE32: =IF(AD32="","",ROUND(((AD32-AJ$13)/AJ$14)*AJ$16+AJ$15,1)) -> 19.7
A33: QB | B33: Sam Darnold | C33: =IFERROR(ROUND(MAX(0,AVERAGE(F33,H33,J33,L33,N33)),1),"") -> 1.6 | D33: =COUNT(E33,G33,I33,K33,M33) -> 4 | E33: 0 | F33: =IF(E33="","",ROUND(((E33-Q$7)/Q$8)*Q$18+Q$17,1)) -> 1.7 | H33: =IF(G33="","",ROUND(((G33-Q$9)/Q$10)*Q$18+Q$17,1)) | I33: 1 | J33: =IF(I33="","",ROUND(((I33-Q$11)/Q$12)*Q$18+Q$17,1)) -> 3.2 | K33: 312 | L33: =IF(K33="","",ROUND(((K33-Q$13)/Q$14)*Q$18+Q$17,1)) -> 0.8 | M33: 2 | N33: =IF(M33="","",ROUND(((M33-Q$15)/Q$16)*Q$18+Q$17,1)) -> 0.8 | T33: QB | U33: Sam Darnold | V33: =IFERROR(ROUND(MAX(0,AVERAGE(Y33,AA33,AC33,AE33)),1),"") -> 34.4 | W33: =COUNT(X33,Z33,AB33,AD33) -> 4 | X33: 24 | Y33: =IF(X33="","",ROUND(((X33-AJ$7)/AJ$8)*AJ$16+AJ$15,1)) -> 30 | Z33: 10 | AA33: =IF(Z33="","",ROUND(((Z33-AJ$9)/AJ$10)*AJ$16+AJ$15,1)) -> 32.7 | AB33: 43.7 | AC33: =IF(AB33="","",ROUND(((AB33-AJ$11)/AJ$12)*AJ$16+AJ$15,1)) -> 42.1 | AD33: 43 | AE33: =IF(AD33="","",ROUND(((AD33-AJ$13)/AJ$14)*AJ$16+AJ$15,1)) -> 32.6
A34: QB | B34: Jameis Winston | C34: =IFERROR(ROUND(MAX(0,AVERAGE(F34,H34,J34,L34,N34)),1),"") -> 1.6 | D34: =COUNT(E34,G34,I34,K34,M34) -> 4 | E34: 1 | F34: =IF(E34="","",ROUND(((E34-Q$7)/Q$8)*Q$18+Q$17,1)) -> 2.8 | H34: =IF(G34="","",ROUND(((G34-Q$9)/Q$10)*Q$18+Q$17,1)) | I34: 1 | J34: =IF(I34="","",ROUND(((I34-Q$11)/Q$12)*Q$18+Q$17,1)) -> 3.2 | K34: 247 | L34: =IF(K34="","",ROUND(((K34-Q$13)/Q$14)*Q$18+Q$17,1)) -> -0.5 | M34: 2 | N34: =IF(M34="","",ROUND(((M34-Q$15)/Q$16)*Q$18+Q$17,1)) -> 0.8 | T34: QB | U34: Jameis Winston | V34: =IFERROR(ROUND(MAX(0,AVERAGE(Y34,AA34,AC34,AE34)),1),"") -> 30.5 | W34: =COUNT(X34,Z34,AB34,AD34) -> 4 | X34: 25 | Y34: =IF(X34="","",ROUND(((X34-AJ$7)/AJ$8)*AJ$16+AJ$15,1)) -> 30.7 | Z34: 9 | AA34: =IF(Z34="","",ROUND(((Z34-AJ$9)/AJ$10)*AJ$16+AJ$15,1)) -> 31.5 | AB34: 27.1 | AC34: =IF(AB34="","",ROUND(((AB34-AJ$11)/AJ$12)*AJ$16+AJ$15,1)) -> 28.3 | AD34: 42 | AE34: =IF(AD34="","",ROUND(((AD34-AJ$13)/AJ$14)*AJ$16+AJ$15,1)) -> 31.3
A35: QB | B35: Justin Herbert | C35: =IFERROR(ROUND(MAX(0,AVERAGE(F35,H35,J35,L35,N35)),1),"") -> 1.4 | D35: =COUNT(E35,G35,I35,K35,M35) -> 4 | E35: 0 | F35: =IF(E35="","",ROUND(((E35-Q$7)/Q$8)*Q$18+Q$17,1)) -> 1.7 | H35: =IF(G35="","",ROUND(((G35-Q$9)/Q$10)*Q$18+Q$17,1)) | I35: 1 | J35: =IF(I35="","",ROUND(((I35-Q$11)/Q$12)*Q$18+Q$17,1)) -> 3.2 | K35: 303 | L35: =IF(K35="","",ROUND(((K35-Q$13)/Q$14)*Q$18+Q$17,1)) -> 0.6 | M35: 1 | N35: =IF(M35="","",ROUND(((M35-Q$15)/Q$16)*Q$18+Q$17,1)) -> 0 | T35: QB | U35: Justin Herbert | V35: =IFERROR(ROUND(MAX(0,AVERAGE(Y35,AA35,AC35,AE35)),1),"") -> 32.2 | W35: =COUNT(X35,Z35,AB35,AD35) -> 4 | X35: 24 | Y35: =IF(X35="","",ROUND(((X35-AJ$7)/AJ$8)*AJ$16+AJ$15,1)) -> 30 | Z35: 10 | AA35: =IF(Z35="","",ROUND(((Z35-AJ$9)/AJ$10)*AJ$16+AJ$15,1)) -> 32.7 | AB35: 41 | AC35: =IF(AB35="","",ROUND(((AB35-AJ$11)/AJ$12)*AJ$16+AJ$15,1)) -> 39.8 | AD35: 38 | AE35: =IF(AD35="","",ROUND(((AD35-AJ$13)/AJ$14)*AJ$16+AJ$15,1)) -> 26.1
A36: QB | B36: Daniel Jones | C36: =IFERROR(ROUND(MAX(0,AVERAGE(F36,H36,J36,L36,N36)),1),"") -> 0.8 | D36: =COUNT(E36,G36,I36,K36,M36) -> 4 | E36: 0 | F36: =IF(E36="","",ROUND(((E36-Q$7)/Q$8)*Q$18+Q$17,1)) -> 1.7 | H36: =IF(G36="","",ROUND(((G36-Q$9)/Q$10)*Q$18+Q$17,1)) | I36: 1 | J36: =IF(I36="","",ROUND(((I36-Q$11)/Q$12)*Q$18+Q$17,1)) -> 3.2 | K36: 192 | L36: =IF(K36="","",ROUND(((K36-Q$13)/Q$14)*Q$18+Q$17,1)) -> -1.6 | M36: 1 | N36: =IF(M36="","",ROUND(((M36-Q$15)/Q$16)*Q$18+Q$17,1)) -> 0 | T36: QB | U36: Daniel Jones | V36: =IFERROR(ROUND(MAX(0,AVERAGE(Y36,AA36,AC36,AE36)),1),"") -> 25.3 | W36: =COUNT(X36,Z36,AB36,AD36) -> 4 | X36: 16 | Y36: =IF(X36="","",ROUND(((X36-AJ$7)/AJ$8)*AJ$16+AJ$15,1)) -> 24.4 | Z36: 7 | AA36: =IF(Z36="","",ROUND(((Z36-AJ$9)/AJ$10)*AJ$16+AJ$15,1)) -> 29 | AB36: 17.5 | AC36: =IF(AB36="","",ROUND(((AB36-AJ$11)/AJ$12)*AJ$16+AJ$15,1)) -> 20.3 | AD36: 39 | AE36: =IF(AD36="","",ROUND(((AD36-AJ$13)/AJ$14)*AJ$16+AJ$15,1)) -> 27.4
A37: QB | B37: Michael Penix Jr. | C37: =IFERROR(ROUND(MAX(0,AVERAGE(F37,H37,J37,L37,N37)),1),"") -> 0.6 | D37: =COUNT(E37,G37,I37,K37,M37) -> 4 | E37: 0 | F37: =IF(E37="","",ROUND(((E37-Q$7)/Q$8)*Q$18+Q$17,1)) -> 1.7 | H37: =IF(G37="","",ROUND(((G37-Q$9)/Q$10)*Q$18+Q$17,1)) | I37: 1 | J37: =IF(I37="","",ROUND(((I37-Q$11)/Q$12)*Q$18+Q$17,1)) -> 3.2 | K37: 152 | L37: =IF(K37="","",ROUND(((K37-Q$13)/Q$14)*Q$18+Q$17,1)) -> -2.4 | M37: 1 | N37: =IF(M37="","",ROUND(((M37-Q$15)/Q$16)*Q$18+Q$17,1)) -> 0 | T37: QB | U37: Michael Penix Jr. | V37: =IFERROR(ROUND(MAX(0,AVERAGE(Y37,AA37,AC37,AE37)),1),"") -> 31.5 | W37: =COUNT(X37,Z37,AB37,AD37) -> 4 | X37: 22 | Y37: =IF(X37="","",ROUND(((X37-AJ$7)/AJ$8)*AJ$16+AJ$15,1)) -> 28.6 | Z37: 8 | AA37: =IF(Z37="","",ROUND(((Z37-AJ$9)/AJ$10)*AJ$16+AJ$15,1)) -> 30.2 | AB37: 39.2 | AC37: =IF(AB37="","",ROUND(((AB37-AJ$11)/AJ$12)*AJ$16+AJ$15,1)) -> 38.3 | AD37: 40 | AE37: =IF(AD37="","",ROUND(((AD37-AJ$13)/AJ$14)*AJ$16+AJ$15,1)) -> 28.7

Sheet RB
A1: RB — PPR | P1: Site stats (this week) | T1: RB — HALF | AI1: Site stats (this week) | AM1: RB — STD | BB1: Site stats (this week)
A2: RSJ Half-PPR and FP full-PPR are estimated (purple) when reliable — see Methodology. | T2: RSJ Half-PPR and FP full-PPR are estimated (purple) when reliable — see Methodology. | AM2: Standard scoring uses a 2-source minimum (CBS + USA Today only), not the 3-source minimum used everywhere else on this sheet — only 2 sites publish Standard at all, so 3 would mean this section is always empty.
A5: POS | B5: Player | C5: AVG (Normalized) | D5: # Sources | E5: YAH (C) | F5: YAH (Norm) | G5: CBS (C) | H5: CBS (Norm) | I5: FP (C) | J5: FP (Norm) | K5: RSJ (C) | L5: RSJ (Norm) | M5: USA (C) | N5: USA (Norm) | T5: POS | U5: Player | V5: AVG (Normalized) | W5: # Sources | X5: YAH (C) | Y5: YAH (Norm) | Z5: CBS (C) | AA5: CBS (Norm) | AB5: FP (C) | AC5: FP (Norm) | AD5: RSJ (C) | AE5: RSJ (Norm) | AF5: USA (C) | AG5: USA (Norm) | AM5: POS | AN5: Player | AO5: AVG (Normalized) | AP5: # Sources | AQ5: CBS (C) | AR5: CBS (Norm) | AS5: USA (C) | AT5: USA (Norm)
A6: RB | B6: Jahmyr Gibbs | C6: =IFERROR(ROUND(MAX(0,AVERAGE(F6,H6,J6,L6,N6)),1),"") -> 81.8 | D6: =COUNT(E6,G6,I6,K6,M6) -> 5 | E6: 97 | F6: =IF(E6="","",ROUND(((E6-Q$7)/Q$8)*Q$18+Q$17,1)) -> 83.4 | G6: 54 | H6: =IF(G6="","",ROUND(((G6-Q$9)/Q$10)*Q$18+Q$17,1)) -> 80.9 | I6: 77.5 | J6: =IF(I6="","",ROUND(((I6-Q$11)/Q$12)*Q$18+Q$17,1)) -> 78.9 | K6: 3691 | L6: =IF(K6="","",ROUND(((K6-Q$13)/Q$14)*Q$18+Q$17,1)) -> 85.6 | M6: 80 | N6: =IF(M6="","",ROUND(((M6-Q$15)/Q$16)*Q$18+Q$17,1)) -> 80 | T6: RB | U6: Jahmyr Gibbs | V6: =IFERROR(MIN(ROUND(MAX(0,AVERAGE(Y6,AA6,AC6,AE6,AG6)),1),81.7),"") -> 79.3 | W6: =COUNT(X6,Z6,AB6,AD6,AF6) -> 5 | X6: 94 | Y6: =IF(X6="","",ROUND(((X6-AJ$7)/AJ$8)*AJ$18+AJ$17,1)) -> 80.7 | Z6: 52.5 | AA6: =IF(Z6="","",ROUND(((Z6-AJ$9)/AJ$10)*AJ$18+AJ$17,1)) -> 79.1 | AB6: 75.1 | AC6: =IF(AB6="","",ROUND(((AB6-AJ$11)/AJ$12)*AJ$18+AJ$17,1)) -> 77.6 | AD6: 3576.8 | AE6: =IF(AD6="","",ROUND(((AD6-AJ$13)/AJ$14)*AJ$18+AJ$17,1)) -> 82.2 | AF6: 77 | AG6: =IF(AF6="","",ROUND(((AF6-AJ$15)/AJ$16)*AJ$18+AJ$17,1)) -> 77 | AM6: RB | AN6: Jahmyr Gibbs | AO6: =IFERROR(ROUND(MAX(0,AVERAGE(AR6,AT6)),1),"") -> 59.7 | AP6: =COUNT(AQ6,AS6) -> 2 | AQ6: 51 | AR6: =IF(AQ6="","",ROUND(((AQ6-BC$7)/BC$8)*BC$12+BC$11,1)) -> 61.7 | AS6: 75 | AT6: =IF(AS6="","",ROUND(((AS6-BC$9)/BC$10)*BC$12+BC$11,1)) -> 57.7
A7: RB | B7: Bijan Robinson | C7: =IFERROR(ROUND(MAX(0,AVERAGE(F7,H7,J7,L7,N7)),1),"") -> 75.8 | D7: =COUNT(E7,G7,I7,K7,M7) -> 5 | E7: 90 | F7: =IF(E7="","",ROUND(((E7-Q$7)/Q$8)*Q$18+Q$17,1)) -> 77.4 | G7: 53 | H7: =IF(G7="","",ROUND(((G7-Q$9)/Q$10)*Q$18+Q$17,1)) -> 79.5 | I7: 69.5 | J7: =IF(I7="","",ROUND(((I7-Q$11)/Q$12)*Q$18+Q$17,1)) -> 70.2 | K7: 3359 | L7: =IF(K7="","",ROUND(((K7-Q$13)/Q$14)*Q$18+Q$17,1)) -> 77.9 | M7: 74 | N7: =IF(M7="","",ROUND(((M7-Q$15)/Q$16)*Q$18+Q$17,1)) -> 74 | P7: YAH Mean | Q7: =IFERROR(AVERAGE(E6:E400),"") -> 30.1 | T7: RB | U7: Bijan Robinson | V7: =IFERROR(MIN(ROUND(MAX(0,AVERAGE(Y7,AA7,AC7,AE7,AG7)),1),75.7),"") -> 73.8 | W7: =COUNT(X7,Z7,AB7,AD7,AF7) -> 5 | X7: 87 | Y7: =IF(X7="","",ROUND(((X7-AJ$7)/AJ$8)*AJ$18+AJ$17,1)) -> 74.8 | Z7: 51.5 | AA7: =IF(Z7="","",ROUND(((Z7-AJ$9)/AJ$10)*AJ$18+AJ$17,1)) -> 77.7 | AB7: 67.5 | AC7: =IF(AB7="","",ROUND(((AB7-AJ$11)/AJ$12)*AJ$18+AJ$17,1)) -> 69.3 | AD7: 3263.9 | AE7: =IF(AD7="","",ROUND(((AD7-AJ$13)/AJ$14)*AJ$18+AJ$17,1)) -> 75.1 | AF7: 72 | AG7: =IF(AF7="","",ROUND(((AF7-AJ$15)/AJ$16)*AJ$18+AJ$17,1)) -> 72 | AI7: YAH Mean | AJ7: =IFERROR(AVERAGE(X6:X400),"") -> 29.068966 | AM7: RB | AN7: Bijan Robinson | AO7: =IFERROR(ROUND(MAX(0,AVERAGE(AR7,AT7)),1),"") -> 56.9 | AP7: =COUNT(AQ7,AS7) -> 2 | AQ7: 50 | AR7: =IF(AQ7="","",ROUND(((AQ7-BC$7)/BC$8)*BC$12+BC$11,1)) -> 60.5 | AS7: 70 | AT7: =IF(AS7="","",ROUND(((AS7-BC$9)/BC$10)*BC$12+BC$11,1)) -> 53.3 | BB7: CBS Mean | BC7: =IFERROR(AVERAGE(AQ6:AQ400),"") -> 16.266667
A8: RB | B8: Kenneth Walker III | C8: =IFERROR(ROUND(MAX(0,AVERAGE(F8,H8,J8,L8,N8)),1),"") -> 73.1 | D8: =COUNT(E8,G8,I8,K8,M8) -> 5 | E8: 85 | F8: =IF(E8="","",ROUND(((E8-Q$7)/Q$8)*Q$18+Q$17,1)) -> 73.2 | G8: 50 | H8: =IF(G8="","",ROUND(((G8-Q$9)/Q$10)*Q$18+Q$17,1)) -> 75.1 | I8: 62.8 | J8: =IF(I8="","",ROUND(((I8-Q$11)/Q$12)*Q$18+Q$17,1)) -> 62.9 | K8: 3462 | L8: =IF(K8="","",ROUND(((K8-Q$13)/Q$14)*Q$18+Q$17,1)) -> 80.3 | M8: 74 | N8: =IF(M8="","",ROUND(((M8-Q$15)/Q$16)*Q$18+Q$17,1)) -> 74 | P8: YAH StDev | Q8: =IFERROR(STDEVP(E6:E400),"") -> 23.882839 | T8: RB | U8: Kenneth Walker III | V8: =IFERROR(MIN(ROUND(MAX(0,AVERAGE(Y8,AA8,AC8,AE8,AG8)),1),73),"") -> 71.1 | W8: =COUNT(X8,Z8,AB8,AD8,AF8) -> 5 | X8: 82 | Y8: =IF(X8="","",ROUND(((X8-AJ$7)/AJ$8)*AJ$18+AJ$17,1)) -> 70.6 | Z8: 48.5 | AA8: =IF(Z8="","",ROUND(((Z8-AJ$9)/AJ$10)*AJ$18+AJ$17,1)) -> 73.3 | AB8: 60.9 | AC8: =IF(AB8="","",ROUND(((AB8-AJ$11)/AJ$12)*AJ$18+AJ$17,1)) -> 62.2 | AD8: 3358.1 | AE8: =IF(AD8="","",ROUND(((AD8-AJ$13)/AJ$14)*AJ$18+AJ$17,1)) -> 77.2 | AF8: 72 | AG8: =IF(AF8="","",ROUND(((AF8-AJ$15)/AJ$16)*AJ$18+AJ$17,1)) -> 72 | AI8: YAH StDev | AJ8: =IFERROR(STDEVP(X6:X400),"") -> 23.498248 | AM8: RB | AN8: Kenneth Walker III | AO8: =IFERROR(ROUND(MAX(0,AVERAGE(AR8,AT8)),1),"") -> 55 | AP8: =COUNT(AQ8,AS8) -> 2 | AQ8: 47 | AR8: =IF(AQ8="","",ROUND(((AQ8-BC$7)/BC$8)*BC$12+BC$11,1)) -> 56.7 | AS8: 70 | AT8: =IF(AS8="","",ROUND(((AS8-BC$9)/BC$10)*BC$12+BC$11,1)) -> 53.3 | BB8: CBS StDev | BC8: =IFERROR(STDEVP(AQ6:AQ400),"") -> 13.196633
A9: RB | B9: Jonathan Taylor | C9: =IFERROR(ROUND(MAX(0,AVERAGE(F9,H9,J9,L9,N9)),1),"") -> 59.4 | D9: =COUNT(E9,G9,I9,K9,M9) -> 5 | E9: 76 | F9: =IF(E9="","",ROUND(((E9-Q$7)/Q$8)*Q$18+Q$17,1)) -> 65.5 | G9: 37 | H9: =IF(G9="","",ROUND(((G9-Q$9)/Q$10)*Q$18+Q$17,1)) -> 56 | I9: 51.9 | J9: =IF(I9="","",ROUND(((I9-Q$11)/Q$12)*Q$18+Q$17,1)) -> 51.1 | K9: 2688 | L9: =IF(K9="","",ROUND(((K9-Q$13)/Q$14)*Q$18+Q$17,1)) -> 62.5 | M9: 62 | N9: =IF(M9="","",ROUND(((M9-Q$15)/Q$16)*Q$18+Q$17,1)) -> 62 | P9: CBS Mean | Q9: =IFERROR(AVERAGE(G6:G400),"") -> 16.808511 | T9: RB | U9: Jonathan Taylor | V9: =IFERROR(MIN(ROUND(MAX(0,AVERAGE(Y9,AA9,AC9,AE9,AG9)),1),59.4),"") -> 58.2 | W9: =COUNT(X9,Z9,AB9,AD9,AF9) -> 5 | X9: 74 | Y9: =IF(X9="","",ROUND(((X9-AJ$7)/AJ$8)*AJ$18+AJ$17,1)) -> 63.9 | Z9: 36.5 | AA9: =IF(Z9="","",ROUND(((Z9-AJ$9)/AJ$10)*AJ$18+AJ$17,1)) -> 55.7 | AB9: 50.5 | AC9: =IF(AB9="","",ROUND(((AB9-AJ$11)/AJ$12)*AJ$18+AJ$17,1)) -> 50.9 | AD9: 2617.3 | AE9: =IF(AD9="","",ROUND(((AD9-AJ$13)/AJ$14)*AJ$18+AJ$17,1)) -> 60.3 | AF9: 60 | AG9: =IF(AF9="","",ROUND(((AF9-AJ$15)/AJ$16)*AJ$18+AJ$17,1)) -> 60 | AI9: CBS Mean | AJ9: =IFERROR(AVERAGE(Z6:Z400),"") -> 16.276596 | AM9: RB | AN9: Derrick Henry | AO9: =IFERROR(ROUND(MAX(0,AVERAGE(AR9,AT9)),1),"") -> 45.2 | AP9: =COUNT(AQ9,AS9) -> 2 | AQ9: 39 | AR9: =IF(AQ9="","",ROUND(((AQ9-BC$7)/BC$8)*BC$12+BC$11,1)) -> 46.8 | AS9: 59 | AT9: =IF(AS9="","",ROUND(((AS9-BC$9)/BC$10)*BC$12+BC$11,1)) -> 43.6 | BB9: USA Mean | BC9: =IFERROR(AVERAGE(AS6:AS400),"") -> 30.711111
A10: RB | B10: James Cook III | C10: =IFERROR(ROUND(MAX(0,AVERAGE(F10,H10,J10,L10,N10)),1),"") -> 59.2 | D10: =COUNT(E10,G10,I10,K10,M10) -> 5 | E10: 69 | F10: =IF(E10="","",ROUND(((E10-Q$7)/Q$8)*Q$18+Q$17,1)) -> 59.5 | G10: 38 | H10: =IF(G10="","",ROUND(((G10-Q$9)/Q$10)*Q$18+Q$17,1)) -> 57.5 | I10: 60.1 | J10: =IF(I10="","",ROUND(((I10-Q$11)/Q$12)*Q$18+Q$17,1)) -> 60 | K10: 2487 | L10: =IF(K10="","",ROUND(((K10-Q$13)/Q$14)*Q$18+Q$17,1)) -> 57.8 | M10: 61 | N10: =IF(M10="","",ROUND(((M10-Q$15)/Q$16)*Q$18+Q$17,1)) -> 61 | P10: CBS StDev | Q10: =IFERROR(STDEVP(G6:G400),"") -> 13.872732 | T10: RB | U10: James Cook III | V10: =IFERROR(MIN(ROUND(MAX(0,AVERAGE(Y10,AA10,AC10,AE10,AG10)),1),59.1),"") -> 58.6 | W10: =COUNT(X10,Z10,AB10,AD10,AF10) -> 5 | X10: 67 | Y10: =IF(X10="","",ROUND(((X10-AJ$7)/AJ$8)*AJ$18+AJ$17,1)) -> 58 | Z10: 37.5 | AA10: =IF(Z10="","",ROUND(((Z10-AJ$9)/AJ$10)*AJ$18+AJ$17,1)) -> 57.1 | AB10: 59.3 | AC10: =IF(AB10="","",ROUND(((AB10-AJ$11)/AJ$12)*AJ$18+AJ$17,1)) -> 60.4 | AD10: 2454.3 | AE10: =IF(AD10="","",ROUND(((AD10-AJ$13)/AJ$14)*AJ$18+AJ$17,1)) -> 56.6 | AF10: 61 | AG10: =IF(AF10="","",ROUND(((AF10-AJ$15)/AJ$16)*AJ$18+AJ$17,1)) -> 61 | AI10: CBS StDev | AJ10: =IFERROR(STDEVP(Z6:Z400),"") -> 13.504471 | AM10: RB | AN10: James Cook III | AO10: =IFERROR(ROUND(MAX(0,AVERAGE(AR10,AT10)),1),"") -> 44.8 | AP10: =COUNT(AQ10,AS10) -> 2 | AQ10: 37 | AR10: =IF(AQ10="","",ROUND(((AQ10-BC$7)/BC$8)*BC$12+BC$11,1)) -> 44.3 | AS10: 61 | AT10: =IF(AS10="","",ROUND(((AS10-BC$9)/BC$10)*BC$12+BC$11,1)) -> 45.3 | BB10: USA StDev | BC10: =IFERROR(STDEVP(AS6:AS400),"") -> 18.543189
A11: RB | B11: Derrick Henry | C11: =IFERROR(ROUND(MAX(0,AVERAGE(F11,H11,J11,L11,N11)),1),"") -> 58.2 | D11: =COUNT(E11,G11,I11,K11,M11) -> 5 | E11: 70 | F11: =IF(E11="","",ROUND(((E11-Q$7)/Q$8)*Q$18+Q$17,1)) -> 60.4 | G11: 39 | H11: =IF(G11="","",ROUND(((G11-Q$9)/Q$10)*Q$18+Q$17,1)) -> 59 | I11: 52.3 | J11: =IF(I11="","",ROUND(((I11-Q$11)/Q$12)*Q$18+Q$17,1)) -> 51.6 | K11: 2621 | L11: =IF(K11="","",ROUND(((K11-Q$13)/Q$14)*Q$18+Q$17,1)) -> 60.9 | M11: 59 | N11: =IF(M11="","",ROUND(((M11-Q$15)/Q$16)*Q$18+Q$17,1)) -> 59 | P11: FP Mean | Q11: =IFERROR(AVERAGE(I6:I400),"") -> 29.088235 | T11: RB | U11: Derrick Henry | V11: =IFERROR(MIN(ROUND(MAX(0,AVERAGE(Y11,AA11,AC11,AE11,AG11)),1),58.1),"") -> 58.1 | W11: =COUNT(X11,Z11,AB11,AD11,AF11) -> 5 | X11: 68 | Y11: =IF(X11="","",ROUND(((X11-AJ$7)/AJ$8)*AJ$18+AJ$17,1)) -> 58.8 | Z11: 39 | AA11: =IF(Z11="","",ROUND(((Z11-AJ$9)/AJ$10)*AJ$18+AJ$17,1)) -> 59.3 | AB11: 52.3 | AC11: =IF(AB11="","",ROUND(((AB11-AJ$11)/AJ$12)*AJ$18+AJ$17,1)) -> 52.8 | AD11: 2621 | AE11: =IF(AD11="","",ROUND(((AD11-AJ$13)/AJ$14)*AJ$18+AJ$17,1)) -> 60.4 | AF11: 59 | AG11: =IF(AF11="","",ROUND(((AF11-AJ$15)/AJ$16)*AJ$18+AJ$17,1)) -> 59 | AI11: FP Mean | AJ11: =IFERROR(AVERAGE(AB6:AB400),"") -> 27.609615 | AM11: RB | AN11: Jonathan Taylor | AO11: =IFERROR(ROUND(MAX(0,AVERAGE(AR11,AT11)),1),"") -> 43.4 | AP11: =COUNT(AQ11,AS11) -> 2 | AQ11: 36 | AR11: =IF(AQ11="","",ROUND(((AQ11-BC$7)/BC$8)*BC$12+BC$11,1)) -> 43.1 | AS11: 59 | AT11: =IF(AS11="","",ROUND(((AS11-BC$9)/BC$10)*BC$12+BC$11,1)) -> 43.6 | BB11: Target Mean (anchor sites, median) | BC11: =MEDIAN(BC$7,BC$9,18.55) -> 18.55
A12: RB | B12: Christian McCaffrey | C12: =IFERROR(ROUND(MAX(0,AVERAGE(F12,H12,J12,L12,N12)),1),"") -> 57.7 | D12: =COUNT(E12,G12,I12,K12,M12) -> 5 | E12: 69 | F12: =IF(E12="","",ROUND(((E12-Q$7)/Q$8)*Q$18+Q$17,1)) -> 59.5 | G12: 38 | H12: =IF(G12="","",ROUND(((G12-Q$9)/Q$10)*Q$18+Q$17,1)) -> 57.5 | I12: 51.1 | J12: =IF(I12="","",ROUND(((I12-Q$11)/Q$12)*Q$18+Q$17,1)) -> 50.3 | K12: 2554 | L12: =IF(K12="","",ROUND(((K12-Q$13)/Q$14)*Q$18+Q$17,1)) -> 59.4 | M12: 62 | N12: =IF(M12="","",ROUND(((M12-Q$15)/Q$16)*Q$18+Q$17,1)) -> 62 | P12: FP StDev | Q12: =IFERROR(STDEVP(I6:I400),"") -> 18.769496 | T12: RB | U12: Christian McCaffrey | V12: =IFERROR(MIN(ROUND(MAX(0,AVERAGE(Y12,AA12,AC12,AE12,AG12)),1),57.7),"") -> 55.5 | W12: =COUNT(X12,Z12,AB12,AD12,AF12) -> 5 | X12: 66 | Y12: =IF(X12="","",ROUND(((X12-AJ$7)/AJ$8)*AJ$18+AJ$17,1)) -> 57.1 | Z12: 36.5 | AA12: =IF(Z12="","",ROUND(((Z12-AJ$9)/AJ$10)*AJ$18+AJ$17,1)) -> 55.7 | AB12: 48.9 | AC12: =IF(AB12="","",ROUND(((AB12-AJ$11)/AJ$12)*AJ$18+AJ$17,1)) -> 49.1 | AD12: 2443 | AE12: =IF(AD12="","",ROUND(((AD12-AJ$13)/AJ$14)*AJ$18+AJ$17,1)) -> 56.4 | AF12: 59 | AG12: =IF(AF12="","",ROUND(((AF12-AJ$15)/AJ$16)*AJ$18+AJ$17,1)) -> 59 | AI12: FP StDev | AJ12: =IFERROR(STDEVP(AB6:AB400),"") -> 18.236167 | AM12: RB | AN12: Christian McCaffrey | AO12: =IFERROR(ROUND(MAX(0,AVERAGE(AR12,AT12)),1),"") -> 41.4 | AP12: =COUNT(AQ12,AS12) -> 2 | AQ12: 35 | AR12: =IF(AQ12="","",ROUND(((AQ12-BC$7)/BC$8)*BC$12+BC$11,1)) -> 41.8 | AS12: 56 | AT12: =IF(AS12="","",ROUND(((AS12-BC$9)/BC$10)*BC$12+BC$11,1)) -> 40.9 | BB12: Target StDev (anchor sites, median) | BC12: =MEDIAN(BC$8,BC$10,16.4) -> 16.4
A13: RB | B13: Kyren Williams | C13: =IFERROR(ROUND(MAX(0,AVERAGE(F13,H13,J13,L13,N13)),1),"") -> 52.8 | D13: =COUNT(E13,G13,I13,K13,M13) -> 5 | E13: 65 | F13: =IF(E13="","",ROUND(((E13-Q$7)/Q$8)*Q$18+Q$17,1)) -> 56.1 | G13: 31 | H13: =IF(G13="","",ROUND(((G13-Q$9)/Q$10)*Q$18+Q$17,1)) -> 47.2 | I13: 48.4 | J13: =IF(I13="","",ROUND(((I13-Q$11)/Q$12)*Q$18+Q$17,1)) -> 47.3 | K13: 2245 | L13: =IF(K13="","",ROUND(((K13-Q$13)/Q$14)*Q$18+Q$17,1)) -> 52.3 | M13: 61 | N13: =IF(M13="","",ROUND(((M13-Q$15)/Q$16)*Q$18+Q$17,1)) -> 61 | P13: RSJ Mean | Q13: =IFERROR(AVERAGE(K6:K400),"") -> 1123.2881 | T13: RB | U13: Kyren Williams | V13: =IFERROR(MIN(ROUND(MAX(0,AVERAGE(Y13,AA13,AC13,AE13,AG13)),1),52.7),"") -> 51.2 | W13: =COUNT(X13,Z13,AB13,AD13,AF13) -> 5 | X13: 63 | Y13: =IF(X13="","",ROUND(((X13-AJ$7)/AJ$8)*AJ$18+AJ$17,1)) -> 54.6 | Z13: 30 | AA13: =IF(Z13="","",ROUND(((Z13-AJ$9)/AJ$10)*AJ$18+AJ$17,1)) -> 46.1 | AB13: 46.8 | AC13: =IF(AB13="","",ROUND(((AB13-AJ$11)/AJ$12)*AJ$18+AJ$17,1)) -> 46.9 | AD13: 2172.6 | AE13: =IF(AD13="","",ROUND(((AD13-AJ$13)/AJ$14)*AJ$18+AJ$17,1)) -> 50.2 | AF13: 58 | AG13: =IF(AF13="","",ROUND(((AF13-AJ$15)/AJ$16)*AJ$18+AJ$17,1)) -> 58 | AI13: RSJ Mean | AJ13: =IFERROR(AVERAGE(AD6:AD400),"") -> 1112.7786 | AM13: RB | AN13: Kyren Williams | AO13: =IFERROR(ROUND(MAX(0,AVERAGE(AR13,AT13)),1),"") -> 37.7 | AP13: =COUNT(AQ13,AS13) -> 2 | AQ13: 29 | AR13: =IF(AQ13="","",ROUND(((AQ13-BC$7)/BC$8)*BC$12+BC$11,1)) -> 34.4 | AS13: 56 | AT13: =IF(AS13="","",ROUND(((AS13-BC$9)/BC$10)*BC$12+BC$11,1)) -> 40.9
A14: RB | B14: Javonte Williams | C14: =IFERROR(ROUND(MAX(0,AVERAGE(F14,H14,J14,L14,N14)),1),"") -> 47.1 | D14: =COUNT(E14,G14,I14,K14,M14) -> 5 | E14: 60 | F14: =IF(E14="","",ROUND(((E14-Q$7)/Q$8)*Q$18+Q$17,1)) -> 51.9 | G14: 30 | H14: =IF(G14="","",ROUND(((G14-Q$9)/Q$10)*Q$18+Q$17,1)) -> 45.8 | I14: 45.2 | J14: =IF(I14="","",ROUND(((I14-Q$11)/Q$12)*Q$18+Q$17,1)) -> 43.9 | K14: 1797 | L14: =IF(K14="","",ROUND(((K14-Q$13)/Q$14)*Q$18+Q$17,1)) -> 41.9 | M14: 52 | N14: =IF(M14="","",ROUND(((M14-Q$15)/Q$16)*Q$18+Q$17,1)) -> 52 | P14: RSJ StDev | Q14: =IFERROR(STDEVP(K6:K400),"") -> 882.70649 | T14: RB | U14: Javonte Williams | V14: =IFERROR(MIN(ROUND(MAX(0,AVERAGE(Y14,AA14,AC14,AE14,AG14)),1),47),"") -> 45.8 | W14: =COUNT(X14,Z14,AB14,AD14,AF14) -> 5 | X14: 58 | Y14: =IF(X14="","",ROUND(((X14-AJ$7)/AJ$8)*AJ$18+AJ$17,1)) -> 50.4 | Z14: 29 | AA14: =IF(Z14="","",ROUND(((Z14-AJ$9)/AJ$10)*AJ$18+AJ$17,1)) -> 44.7 | AB14: 43.7 | AC14: =IF(AB14="","",ROUND(((AB14-AJ$11)/AJ$12)*AJ$18+AJ$17,1)) -> 43.5 | AD14: 1737.1 | AE14: =IF(AD14="","",ROUND(((AD14-AJ$13)/AJ$14)*AJ$18+AJ$17,1)) -> 40.3 | AF14: 50 | AG14: =IF(AF14="","",ROUND(((AF14-AJ$15)/AJ$16)*AJ$18+AJ$17,1)) -> 50 | AI14: RSJ StDev | AJ14: =IFERROR(STDEVP(AD6:AD400),"") -> 867.7642 | AM14: RB | AN14: Javonte Williams | AO14: =IFERROR(ROUND(MAX(0,AVERAGE(AR14,AT14)),1),"") -> 33.9 | AP14: =COUNT(AQ14,AS14) -> 2 | AQ14: 28 | AR14: =IF(AQ14="","",ROUND(((AQ14-BC$7)/BC$8)*BC$12+BC$11,1)) -> 33.1 | AS14: 49 | AT14: =IF(AS14="","",ROUND(((AS14-BC$9)/BC$10)*BC$12+BC$11,1)) -> 34.7
A15: RB | B15: Jaylen Warren | C15: =IFERROR(ROUND(MAX(0,AVERAGE(F15,H15,J15,L15,N15)),1),"") -> 45.9 | D15: =COUNT(E15,G15,I15,K15,M15) -> 5 | E15: 64 | F15: =IF(E15="","",ROUND(((E15-Q$7)/Q$8)*Q$18+Q$17,1)) -> 55.3 | G15: 26 | H15: =IF(G15="","",ROUND(((G15-Q$9)/Q$10)*Q$18+Q$17,1)) -> 39.9 | I15: 42.8 | J15: =IF(I15="","",ROUND(((I15-Q$11)/Q$12)*Q$18+Q$17,1)) -> 41.3 | K15: 2101 | L15: =IF(K15="","",ROUND(((K15-Q$13)/Q$14)*Q$18+Q$17,1)) -> 48.9 | M15: 44 | N15: =IF(M15="","",ROUND(((M15-Q$15)/Q$16)*Q$18+Q$17,1)) -> 44 | P15: USA Mean | Q15: =IFERROR(AVERAGE(M6:M400),"") -> 26.433333 | T15: RB | U15: Jaylen Warren | V15: =IFERROR(MIN(ROUND(MAX(0,AVERAGE(Y15,AA15,AC15,AE15,AG15)),1),45.8),"") -> 43.5 | W15: =COUNT(X15,Z15,AB15,AD15,AF15) -> 5 | X15: 61 | Y15: =IF(X15="","",ROUND(((X15-AJ$7)/AJ$8)*AJ$18+AJ$17,1)) -> 52.9 | Z15: 24.5 | AA15: =IF(Z15="","",ROUND(((Z15-AJ$9)/AJ$10)*AJ$18+AJ$17,1)) -> 38.1 | AB15: 40.3 | AC15: =IF(AB15="","",ROUND(((AB15-AJ$11)/AJ$12)*AJ$18+AJ$17,1)) -> 39.8 | AD15: 1979.8 | AE15: =IF(AD15="","",ROUND(((AD15-AJ$13)/AJ$14)*AJ$18+AJ$17,1)) -> 45.8 | AF15: 41 | AG15: =IF(AF15="","",ROUND(((AF15-AJ$15)/AJ$16)*AJ$18+AJ$17,1)) -> 41 | AI15: USA Mean | AJ15: =IFERROR(AVERAGE(AF6:AF400),"") -> 26.017241 | AM15: RB | AN15: Chuba Hubbard | AO15: =IFERROR(ROUND(MAX(0,AVERAGE(AR15,AT15)),1),"") -> 32.1 | AP15: =COUNT(AQ15,AS15) -> 2 | AQ15: 25 | AR15: =IF(AQ15="","",ROUND(((AQ15-BC$7)/BC$8)*BC$12+BC$11,1)) -> 29.4 | AS15: 49 | AT15: =IF(AS15="","",ROUND(((AS15-BC$9)/BC$10)*BC$12+BC$11,1)) -> 34.7
A16: RB | B16: Ashton Jeanty | C16: =IFERROR(ROUND(MAX(0,AVERAGE(F16,H16,J16,L16,N16)),1),"") -> 43.9 | D16: =COUNT(E16,G16,I16,K16,M16) -> 5 | E16: 54 | F16: =IF(E16="","",ROUND(((E16-Q$7)/Q$8)*Q$18+Q$17,1)) -> 46.8 | G16: 23 | H16: =IF(G16="","",ROUND(((G16-Q$9)/Q$10)*Q$18+Q$17,1)) -> 35.5 | I16: 48.2 | J16: =IF(I16="","",ROUND(((I16-Q$11)/Q$12)*Q$18+Q$17,1)) -> 47.1 | K16: 2065 | L16: =IF(K16="","",ROUND(((K16-Q$13)/Q$14)*Q$18+Q$17,1)) -> 48.1 | M16: 42 | N16: =IF(M16="","",ROUND(((M16-Q$15)/Q$16)*Q$18+Q$17,1)) -> 42 | P16: USA StDev | Q16: =IFERROR(STDEVP(M6:M400),"") -> 20.327622 | T16: RB | U16: Ashton Jeanty | V16: =IFERROR(MIN(ROUND(MAX(0,AVERAGE(Y16,AA16,AC16,AE16,AG16)),1),43.9),"") -> 42.1 | W16: =COUNT(X16,Z16,AB16,AD16,AF16) -> 5 | X16: 52 | Y16: =IF(X16="","",ROUND(((X16-AJ$7)/AJ$8)*AJ$18+AJ$17,1)) -> 45.3 | Z16: 21.5 | AA16: =IF(Z16="","",ROUND(((Z16-AJ$9)/AJ$10)*AJ$18+AJ$17,1)) -> 33.7 | AB16: 45.9 | AC16: =IF(AB16="","",ROUND(((AB16-AJ$11)/AJ$12)*AJ$18+AJ$17,1)) -> 45.9 | AD16: 1966.7 | AE16: =IF(AD16="","",ROUND(((AD16-AJ$13)/AJ$14)*AJ$18+AJ$17,1)) -> 45.5 | AF16: 40 | AG16: =IF(AF16="","",ROUND(((AF16-AJ$15)/AJ$16)*AJ$18+AJ$17,1)) -> 40 | AI16: USA StDev | AJ16: =IFERROR(STDEVP(AF6:AF400),"") -> 19.799418 | AM16: RB | AN16: Jaylen Warren | AO16: =IFERROR(ROUND(MAX(0,AVERAGE(AR16,AT16)),1),"") -> 26.4 | AP16: =COUNT(AQ16,AS16) -> 2 | AQ16: 23 | AR16: =IF(AQ16="","",ROUND(((AQ16-BC$7)/BC$8)*BC$12+BC$11,1)) -> 26.9 | AS16: 39 | AT16: =IF(AS16="","",ROUND(((AS16-BC$9)/BC$10)*BC$12+BC$11,1)) -> 25.9
A17: RB | B17: Chuba Hubbard | C17: =IFERROR(ROUND(MAX(0,AVERAGE(F17,H17,J17,L17,N17)),1),"") -> 43.5 | D17: =COUNT(E17,G17,I17,K17,M17) -> 5 | E17: 50 | F17: =IF(E17="","",ROUND(((E17-Q$7)/Q$8)*Q$18+Q$17,1)) -> 43.4 | G17: 27 | H17: =IF(G17="","",ROUND(((G17-Q$9)/Q$10)*Q$18+Q$17,1)) -> 41.4 | I17: 42.4 | J17: =IF(I17="","",ROUND(((I17-Q$11)/Q$12)*Q$18+Q$17,1)) -> 40.9 | K17: 1693 | L17: =IF(K17="","",ROUND(((K17-Q$13)/Q$14)*Q$18+Q$17,1)) -> 39.6 | M17: 52 | N17: =IF(M17="","",ROUND(((M17-Q$15)/Q$16)*Q$18+Q$17,1)) -> 52 | P17: Target Mean (anchor sites, median) | Q17: =MEDIAN(Q$7,Q$9,Q$15) -> 26.433333 | T17: RB | U17: Chuba Hubbard | V17: =IFERROR(MIN(ROUND(MAX(0,AVERAGE(Y17,AA17,AC17,AE17,AG17)),1),43.4),"") -> 42.1 | W17: =COUNT(X17,Z17,AB17,AD17,AF17) -> 5 | X17: 48 | Y17: =IF(X17="","",ROUND(((X17-AJ$7)/AJ$8)*AJ$18+AJ$17,1)) -> 42 | Z17: 26 | AA17: =IF(Z17="","",ROUND(((Z17-AJ$9)/AJ$10)*AJ$18+AJ$17,1)) -> 40.3 | AB17: 40.8 | AC17: =IF(AB17="","",ROUND(((AB17-AJ$11)/AJ$12)*AJ$18+AJ$17,1)) -> 40.3 | AD17: 1627.9 | AE17: =IF(AD17="","",ROUND(((AD17-AJ$13)/AJ$14)*AJ$18+AJ$17,1)) -> 37.8 | AF17: 50 | AG17: =IF(AF17="","",ROUND(((AF17-AJ$15)/AJ$16)*AJ$18+AJ$17,1)) -> 50 | AI17: Target Mean (anchor sites, median) | AJ17: =MEDIAN(AJ$7,AJ$9,AJ$15) -> 26.017241 | AM17: RB | AN17: D'Andre Swift | AO17: =IFERROR(ROUND(MAX(0,AVERAGE(AR17,AT17)),1),"") -> 26 | AP17: =COUNT(AQ17,AS17) -> 2 | AQ17: 23 | AR17: =IF(AQ17="","",ROUND(((AQ17-BC$7)/BC$8)*BC$12+BC$11,1)) -> 26.9 | AS17: 38 | AT17: =IF(AS17="","",ROUND(((AS17-BC$9)/BC$10)*BC$12+BC$11,1)) -> 25
A18: RB | B18: Chase Brown | C18: =IFERROR(ROUND(MAX(0,AVERAGE(F18,H18,J18,L18,N18)),1),"") -> 42.4 | D18: =COUNT(E18,G18,I18,K18,M18) -> 5 | E18: 53 | F18: =IF(E18="","",ROUND(((E18-Q$7)/Q$8)*Q$18+Q$17,1)) -> 45.9 | G18: 21 | H18: =IF(G18="","",ROUND(((G18-Q$9)/Q$10)*Q$18+Q$17,1)) -> 32.6 | I18: 44.5 | J18: =IF(I18="","",ROUND(((I18-Q$11)/Q$12)*Q$18+Q$17,1)) -> 43.1 | K18: 2029 | L18: =IF(K18="","",ROUND(((K18-Q$13)/Q$14)*Q$18+Q$17,1)) -> 47.3 | M18: 43 | N18: =IF(M18="","",ROUND(((M18-Q$15)/Q$16)*Q$18+Q$17,1)) -> 43 | P18: Target StDev (anchor sites, median) | Q18: =MEDIAN(Q$8,Q$10,Q$16) -> 20.327622 | T18: RB | U18: Chase Brown | V18: =IFERROR(MIN(ROUND(MAX(0,AVERAGE(Y18,AA18,AC18,AE18,AG18)),1),42.3),"") -> 40.6 | W18: =COUNT(X18,Z18,AB18,AD18,AF18) -> 5 | X18: 51 | Y18: =IF(X18="","",ROUND(((X18-AJ$7)/AJ$8)*AJ$18+AJ$17,1)) -> 44.5 | Z18: 19.5 | AA18: =IF(Z18="","",ROUND(((Z18-AJ$9)/AJ$10)*AJ$18+AJ$17,1)) -> 30.7 | AB18: 42.4 | AC18: =IF(AB18="","",ROUND(((AB18-AJ$11)/AJ$12)*AJ$18+AJ$17,1)) -> 42.1 | AD18: 1934.6 | AE18: =IF(AD18="","",ROUND(((AD18-AJ$13)/AJ$14)*AJ$18+AJ$17,1)) -> 44.8 | AF18: 41 | AG18: =IF(AF18="","",ROUND(((AF18-AJ$15)/AJ$16)*AJ$18+AJ$17,1)) -> 41 | AI18: Target StDev (anchor sites, median) | AJ18: =MEDIAN(AJ$8,AJ$10,AJ$16) -> 19.799418 | AM18: RB | AN18: Breece Hall | AO18: =IFERROR(ROUND(MAX(0,AVERAGE(AR18,AT18)),1),"") -> 24.9 | AP18: =COUNT(AQ18,AS18) -> 2 | AQ18: 22 | AR18: =IF(AQ18="","",ROUND(((AQ18-BC$7)/BC$8)*BC$12+BC$11,1)) -> 25.7 | AS18: 37 | AT18: =IF(AS18="","",ROUND(((AS18-BC$9)/BC$10)*BC$12+BC$11,1)) -> 24.1
A19: RB | B19: D'Andre Swift | C19: =IFERROR(ROUND(MAX(0,AVERAGE(F19,H19,J19,L19,N19)),1),"") -> 40 | D19: =COUNT(E19,G19,I19,K19,M19) -> 5 | E19: 48 | F19: =IF(E19="","",ROUND(((E19-Q$7)/Q$8)*Q$18+Q$17,1)) -> 41.7 | G19: 24 | H19: =IF(G19="","",ROUND(((G19-Q$9)/Q$10)*Q$18+Q$17,1)) -> 37 | I19: 43.4 | J19: =IF(I19="","",ROUND(((I19-Q$11)/Q$12)*Q$18+Q$17,1)) -> 41.9 | K19: 1589 | L19: =IF(K19="","",ROUND(((K19-Q$13)/Q$14)*Q$18+Q$17,1)) -> 37.2 | M19: 42 | N19: =IF(M19="","",ROUND(((M19-Q$15)/Q$16)*Q$18+Q$17,1)) -> 42 | T19: RB | U19: D'Andre Swift | V19: =IFERROR(MIN(ROUND(MAX(0,AVERAGE(Y19,AA19,AC19,AE19,AG19)),1),39.9),"") -> 38.7 | W19: =COUNT(X19,Z19,AB19,AD19,AF19) -> 5 | X19: 46 | Y19: =IF(X19="","",ROUND(((X19-AJ$7)/AJ$8)*AJ$18+AJ$17,1)) -> 40.3 | Z19: 23.5 | AA19: =IF(Z19="","",ROUND(((Z19-AJ$9)/AJ$10)*AJ$18+AJ$17,1)) -> 36.6 | AB19: 41.6 | AC19: =IF(AB19="","",ROUND(((AB19-AJ$11)/AJ$12)*AJ$18+AJ$17,1)) -> 41.2 | AD19: 1522.8 | AE19: =IF(AD19="","",ROUND(((AD19-AJ$13)/AJ$14)*AJ$18+AJ$17,1)) -> 35.4 | AF19: 40 | AG19: =IF(AF19="","",ROUND(((AF19-AJ$15)/AJ$16)*AJ$18+AJ$17,1)) -> 40 | AM19: RB | AN19: Ashton Jeanty | AO19: =IFERROR(ROUND(MAX(0,AVERAGE(AR19,AT19)),1),"") -> 24.1 | AP19: =COUNT(AQ19,AS19) -> 2 | AQ19: 20 | AR19: =IF(AQ19="","",ROUND(((AQ19-BC$7)/BC$8)*BC$12+BC$11,1)) -> 23.2 | AS19: 38 | AT19: =IF(AS19="","",ROUND(((AS19-BC$9)/BC$10)*BC$12+BC$11,1)) -> 25
A20: RB | B20: Breece Hall | C20: =IFERROR(ROUND(MAX(0,AVERAGE(F20,H20,J20,L20,N20)),1),"") -> 36.8 | D20: =COUNT(E20,G20,I20,K20,M20) -> 5 | E20: 42 | F20: =IF(E20="","",ROUND(((E20-Q$7)/Q$8)*Q$18+Q$17,1)) -> 36.6 | G20: 24 | H20: =IF(G20="","",ROUND(((G20-Q$9)/Q$10)*Q$18+Q$17,1)) -> 37 | I20: 38.4 | J20: =IF(I20="","",ROUND(((I20-Q$11)/Q$12)*Q$18+Q$17,1)) -> 36.5 | K20: 1409 | L20: =IF(K20="","",ROUND(((K20-Q$13)/Q$14)*Q$18+Q$17,1)) -> 33 | M20: 41 | N20: =IF(M20="","",ROUND(((M20-Q$15)/Q$16)*Q$18+Q$17,1)) -> 41 | T20: RB | U20: Breece Hall | V20: =IFERROR(MIN(ROUND(MAX(0,AVERAGE(Y20,AA20,AC20,AE20,AG20)),1),36.8),"") -> 35.4 | W20: =COUNT(X20,Z20,AB20,AD20,AF20) -> 5 | X20: 40 | Y20: =IF(X20="","",ROUND(((X20-AJ$7)/AJ$8)*AJ$18+AJ$17,1)) -> 35.2 | Z20: 23 | AA20: =IF(Z20="","",ROUND(((Z20-AJ$9)/AJ$10)*AJ$18+AJ$17,1)) -> 35.9 | AB20: 36.6 | AC20: =IF(AB20="","",ROUND(((AB20-AJ$11)/AJ$12)*AJ$18+AJ$17,1)) -> 35.8 | AD20: 1341.9 | AE20: =IF(AD20="","",ROUND(((AD20-AJ$13)/AJ$14)*AJ$18+AJ$17,1)) -> 31.2 | AF20: 39 | AG20: =IF(AF20="","",ROUND(((AF20-AJ$15)/AJ$16)*AJ$18+AJ$17,1)) -> 39 | AM20: RB | AN20: Chase Brown | AO20: =IFERROR(ROUND(MAX(0,AVERAGE(AR20,AT20)),1),"") -> 23.3 | AP20: =COUNT(AQ20,AS20) -> 2 | AQ20: 18 | AR20: =IF(AQ20="","",ROUND(((AQ20-BC$7)/BC$8)*BC$12+BC$11,1)) -> 20.7 | AS20: 39 | AT20: =IF(AS20="","",ROUND(((AS20-BC$9)/BC$10)*BC$12+BC$11,1)) -> 25.9
A21: RB | B21: Bhayshul Tuten | C21: =IFERROR(ROUND(MAX(0,AVERAGE(F21,H21,J21,L21,N21)),1),"") -> 36.6 | D21: =COUNT(E21,G21,I21,K21,M21) -> 5 | E21: 50 | F21: =IF(E21="","",ROUND(((E21-Q$7)/Q$8)*Q$18+Q$17,1)) -> 43.4 | G21: 16 | H21: =IF(G21="","",ROUND(((G21-Q$9)/Q$10)*Q$18+Q$17,1)) -> 25.2 | I21: 39.8 | J21: =IF(I21="","",ROUND(((I21-Q$11)/Q$12)*Q$18+Q$17,1)) -> 38 | K21: 1641 | L21: =IF(K21="","",ROUND(((K21-Q$13)/Q$14)*Q$18+Q$17,1)) -> 38.4 | M21: 38 | N21: =IF(M21="","",ROUND(((M21-Q$15)/Q$16)*Q$18+Q$17,1)) -> 38 | T21: RB | U21: Bhayshul Tuten | V21: =IFERROR(MIN(ROUND(MAX(0,AVERAGE(Y21,AA21,AC21,AE21,AG21)),1),36.6),"") -> 35.9 | W21: =COUNT(X21,Z21,AB21,AD21,AF21) -> 5 | X21: 48 | Y21: =IF(X21="","",ROUND(((X21-AJ$7)/AJ$8)*AJ$18+AJ$17,1)) -> 42 | Z21: 15.5 | AA21: =IF(Z21="","",ROUND(((Z21-AJ$9)/AJ$10)*AJ$18+AJ$17,1)) -> 24.9 | AB21: 38.6 | AC21: =IF(AB21="","",ROUND(((AB21-AJ$11)/AJ$12)*AJ$18+AJ$17,1)) -> 37.9 | AD21: 1589.7 | AE21: =IF(AD21="","",ROUND(((AD21-AJ$13)/AJ$14)*AJ$18+AJ$17,1)) -> 36.9 | AF21: 38 | AG21: =IF(AF21="","",ROUND(((AF21-AJ$15)/AJ$16)*AJ$18+AJ$17,1)) -> 38 | AM21: RB | AN21: Bucky Irving | AO21: =IFERROR(ROUND(MAX(0,AVERAGE(AR21,AT21)),1),"") -> 23.3 | AP21: =COUNT(AQ21,AS21) -> 2 | AQ21: 18 | AR21: =IF(AQ21="","",ROUND(((AQ21-BC$7)/BC$8)*BC$12+BC$11,1)) -> 20.7 | AS21: 39 | AT21: =IF(AS21="","",ROUND(((AS21-BC$9)/BC$10)*BC$12+BC$11,1)) -> 25.9
A22: RB | B22: Bucky Irving | C22: =IFERROR(ROUND(MAX(0,AVERAGE(F22,H22,J22,L22,N22)),1),"") -> 36 | D22: =COUNT(E22,G22,I22,K22,M22) -> 5 | E22: 40 | F22: =IF(E22="","",ROUND(((E22-Q$7)/Q$8)*Q$18+Q$17,1)) -> 34.9 | G22: 20 | H22: =IF(G22="","",ROUND(((G22-Q$9)/Q$10)*Q$18+Q$17,1)) -> 31.1 | I22: 36.5 | J22: =IF(I22="","",ROUND(((I22-Q$11)/Q$12)*Q$18+Q$17,1)) -> 34.5 | K22: 1563 | L22: =IF(K22="","",ROUND(((K22-Q$13)/Q$14)*Q$18+Q$17,1)) -> 36.6 | M22: 43 | N22: =IF(M22="","",ROUND(((M22-Q$15)/Q$16)*Q$18+Q$17,1)) -> 43 | T22: RB | U22: Bucky Irving | V22: =IFERROR(MIN(ROUND(MAX(0,AVERAGE(Y22,AA22,AC22,AE22,AG22)),1),35.9),"") -> 34.5 | W22: =COUNT(X22,Z22,AB22,AD22,AF22) -> 5 | X22: 38 | Y22: =IF(X22="","",ROUND(((X22-AJ$7)/AJ$8)*AJ$18+AJ$17,1)) -> 33.5 | Z22: 19 | AA22: =IF(Z22="","",ROUND(((Z22-AJ$9)/AJ$10)*AJ$18+AJ$17,1)) -> 30 | AB22: 34.7 | AC22: =IF(AB22="","",ROUND(((AB22-AJ$11)/AJ$12)*AJ$18+AJ$17,1)) -> 33.7 | AD22: 1484.8 | AE22: =IF(AD22="","",ROUND(((AD22-AJ$13)/AJ$14)*AJ$18+AJ$17,1)) -> 34.5 | AF22: 41 | AG22: =IF(AF22="","",ROUND(((AF22-AJ$15)/AJ$16)*AJ$18+AJ$17,1)) -> 41 | AM22: RB | AN22: Bhayshul Tuten | AO22: =IFERROR(ROUND(MAX(0,AVERAGE(AR22,AT22)),1),"") -> 20.6 | AP22: =COUNT(AQ22,AS22) -> 2 | AQ22: 15 | AR22: =IF(AQ22="","",ROUND(((AQ22-BC$7)/BC$8)*BC$12+BC$11,1)) -> 17 | AS22: 37 | AT22: =IF(AS22="","",ROUND(((AS22-BC$9)/BC$10)*BC$12+BC$11,1)) -> 24.1
A23: RB | B23: Saquon Barkley | C23: =IFERROR(ROUND(MAX(0,AVERAGE(F23,H23,J23,L23,N23)),1),"") -> 33.3 | D23: =COUNT(E23,G23,I23,K23,M23) -> 5 | E23: 40 | F23: =IF(E23="","",ROUND(((E23-Q$7)/Q$8)*Q$18+Q$17,1)) -> 34.9 | G23: 18 | H23: =IF(G23="","",ROUND(((G23-Q$9)/Q$10)*Q$18+Q$17,1)) -> 28.2 | I23: 38.9 | J23: =IF(I23="","",ROUND(((I23-Q$11)/Q$12)*Q$18+Q$17,1)) -> 37.1 | K23: 1511 | L23: =IF(K23="","",ROUND(((K23-Q$13)/Q$14)*Q$18+Q$17,1)) -> 35.4 | M23: 31 | N23: =IF(M23="","",ROUND(((M23-Q$15)/Q$16)*Q$18+Q$17,1)) -> 31 | T23: RB | U23: Saquon Barkley | V23: =IFERROR(MIN(ROUND(MAX(0,AVERAGE(Y23,AA23,AC23,AE23,AG23)),1),33.2),"") -> 32.4 | W23: =COUNT(X23,Z23,AB23,AD23,AF23) -> 5 | X23: 38 | Y23: =IF(X23="","",ROUND(((X23-AJ$7)/AJ$8)*AJ$18+AJ$17,1)) -> 33.5 | Z23: 17.5 | AA23: =IF(Z23="","",ROUND(((Z23-AJ$9)/AJ$10)*AJ$18+AJ$17,1)) -> 27.8 | AB23: 37.6 | AC23: =IF(AB23="","",ROUND(((AB23-AJ$11)/AJ$12)*AJ$18+AJ$17,1)) -> 36.9 | AD23: 1462.3 | AE23: =IF(AD23="","",ROUND(((AD23-AJ$13)/AJ$14)*AJ$18+AJ$17,1)) -> 34 | AF23: 30 | AG23: =IF(AF23="","",ROUND(((AF23-AJ$15)/AJ$16)*AJ$18+AJ$17,1)) -> 30 | AM23: RB | AN23: Rhamondre Stevenson | AO23: =IFERROR(ROUND(MAX(0,AVERAGE(AR23,AT23)),1),"") -> 19.6 | AP23: =COUNT(AQ23,AS23) -> 2 | AQ23: 17 | AR23: =IF(AQ23="","",ROUND(((AQ23-BC$7)/BC$8)*BC$12+BC$11,1)) -> 19.5 | AS23: 32 | AT23: =IF(AS23="","",ROUND(((AS23-BC$9)/BC$10)*BC$12+BC$11,1)) -> 19.7
A24: RB | B24: Jeremiyah Love | C24: =IFERROR(ROUND(MAX(0,AVERAGE(F24,H24,J24,L24,N24)),1),"") -> 31.1 | D24: =COUNT(E24,G24,I24,K24,M24) -> 5 | E24: 37 | F24: =IF(E24="","",ROUND(((E24-Q$7)/Q$8)*Q$18+Q$17,1)) -> 32.3 | G24: 13 | H24: =IF(G24="","",ROUND(((G24-Q$9)/Q$10)*Q$18+Q$17,1)) -> 20.9 | I24: 41.9 | J24: =IF(I24="","",ROUND(((I24-Q$11)/Q$12)*Q$18+Q$17,1)) -> 40.3 | K24: 1375 | L24: =IF(K24="","",ROUND(((K24-Q$13)/Q$14)*Q$18+Q$17,1)) -> 32.2 | M24: 30 | N24: =IF(M24="","",ROUND(((M24-Q$15)/Q$16)*Q$18+Q$17,1)) -> 30 | T24: RB | U24: Jeremiyah Love | V24: =IFERROR(MIN(ROUND(MAX(0,AVERAGE(Y24,AA24,AC24,AE24,AG24)),1),31.1),"") -> 29.8 | W24: =COUNT(X24,Z24,AB24,AD24,AF24) -> 5 | X24: 35 | Y24: =IF(X24="","",ROUND(((X24-AJ$7)/AJ$8)*AJ$18+AJ$17,1)) -> 31 | Z24: 12 | AA24: =IF(Z24="","",ROUND(((Z24-AJ$9)/AJ$10)*AJ$18+AJ$17,1)) -> 19.7 | AB24: 39.6 | AC24: =IF(AB24="","",ROUND(((AB24-AJ$11)/AJ$12)*AJ$18+AJ$17,1)) -> 39 | AD24: 1300.7 | AE24: =IF(AD24="","",ROUND(((AD24-AJ$13)/AJ$14)*AJ$18+AJ$17,1)) -> 30.3 | AF24: 29 | AG24: =IF(AF24="","",ROUND(((AF24-AJ$15)/AJ$16)*AJ$18+AJ$17,1)) -> 29 | AM24: RB | AN24: Saquon Barkley | AO24: =IFERROR(ROUND(MAX(0,AVERAGE(AR24,AT24)),1),"") -> 18.3 | AP24: =COUNT(AQ24,AS24) -> 2 | AQ24: 17 | AR24: =IF(AQ24="","",ROUND(((AQ24-BC$7)/BC$8)*BC$12+BC$11,1)) -> 19.5 | AS24: 29 | AT24: =IF(AS24="","",ROUND(((AS24-BC$9)/BC$10)*BC$12+BC$11,1)) -> 17
A25: RB | B25: Rhamondre Stevenson | C25: =IFERROR(ROUND(MAX(0,AVERAGE(F25,H25,J25,L25,N25)),1),"") -> 30.1 | D25: =COUNT(E25,G25,I25,K25,M25) -> 5 | E25: 34 | F25: =IF(E25="","",ROUND(((E25-Q$7)/Q$8)*Q$18+Q$17,1)) -> 29.8 | G25: 18 | H25: =IF(G25="","",ROUND(((G25-Q$9)/Q$10)*Q$18+Q$17,1)) -> 28.2 | I25: 33.6 | J25: =IF(I25="","",ROUND(((I25-Q$11)/Q$12)*Q$18+Q$17,1)) -> 31.3 | K25: 1105 | L25: =IF(K25="","",ROUND(((K25-Q$13)/Q$14)*Q$18+Q$17,1)) -> 26 | M25: 35 | N25: =IF(M25="","",ROUND(((M25-Q$15)/Q$16)*Q$18+Q$17,1)) -> 35 | T25: RB | U25: Rhamondre Stevenson | V25: =IFERROR(MIN(ROUND(MAX(0,AVERAGE(Y25,AA25,AC25,AE25,AG25)),1),30),"") -> 28.8 | W25: =COUNT(X25,Z25,AB25,AD25,AF25) -> 5 | X25: 32 | Y25: =IF(X25="","",ROUND(((X25-AJ$7)/AJ$8)*AJ$18+AJ$17,1)) -> 28.5 | Z25: 17.5 | AA25: =IF(Z25="","",ROUND(((Z25-AJ$9)/AJ$10)*AJ$18+AJ$17,1)) -> 27.8 | AB25: 31.7 | AC25: =IF(AB25="","",ROUND(((AB25-AJ$11)/AJ$12)*AJ$18+AJ$17,1)) -> 30.5 | AD25: 1041.9 | AE25: =IF(AD25="","",ROUND(((AD25-AJ$13)/AJ$14)*AJ$18+AJ$17,1)) -> 24.4 | AF25: 33 | AG25: =IF(AF25="","",ROUND(((AF25-AJ$15)/AJ$16)*AJ$18+AJ$17,1)) -> 33 | AM25: RB | AN25: Jeremiyah Love | AO25: =IFERROR(ROUND(MAX(0,AVERAGE(AR25,AT25)),1),"") -> 14.1 | AP25: =COUNT(AQ25,AS25) -> 2 | AQ25: 11 | AR25: =IF(AQ25="","",ROUND(((AQ25-BC$7)/BC$8)*BC$12+BC$11,1)) -> 12 | AS25: 28 | AT25: =IF(AS25="","",ROUND(((AS25-BC$9)/BC$10)*BC$12+BC$11,1)) -> 16.2
A26: RB | B26: Cam Skattebo | C26: =IFERROR(ROUND(MAX(0,AVERAGE(F26,H26,J26,L26,N26)),1),"") -> 26.9 | D26: =COUNT(E26,G26,I26,K26,M26) -> 5 | E26: 30 | F26: =IF(E26="","",ROUND(((E26-Q$7)/Q$8)*Q$18+Q$17,1)) -> 26.3 | G26: 13 | H26: =IF(G26="","",ROUND(((G26-Q$9)/Q$10)*Q$18+Q$17,1)) -> 20.9 | I26: 34.4 | J26: =IF(I26="","",ROUND(((I26-Q$11)/Q$12)*Q$18+Q$17,1)) -> 32.2 | K26: 1205 | L26: =IF(K26="","",ROUND(((K26-Q$13)/Q$14)*Q$18+Q$17,1)) -> 28.3 | M26: 27 | N26: =IF(M26="","",ROUND(((M26-Q$15)/Q$16)*Q$18+Q$17,1)) -> 27 | T26: RB | U26: Cam Skattebo | V26: =IFERROR(MIN(ROUND(MAX(0,AVERAGE(Y26,AA26,AC26,AE26,AG26)),1),26.9),"") -> 26.1 | W26: =COUNT(X26,Z26,AB26,AD26,AF26) -> 5 | X26: 28 | Y26: =IF(X26="","",ROUND(((X26-AJ$7)/AJ$8)*AJ$18+AJ$17,1)) -> 25.1 | Z26: 12.5 | AA26: =IF(Z26="","",ROUND(((Z26-AJ$9)/AJ$10)*AJ$18+AJ$17,1)) -> 20.5 | AB26: 33.1 | AC26: =IF(AB26="","",ROUND(((AB26-AJ$11)/AJ$12)*AJ$18+AJ$17,1)) -> 32 | AD26: 1158.7 | AE26: =IF(AD26="","",ROUND(((AD26-AJ$13)/AJ$14)*AJ$18+AJ$17,1)) -> 27.1 | AF26: 26 | AG26: =IF(AF26="","",ROUND(((AF26-AJ$15)/AJ$16)*AJ$18+AJ$17,1)) -> 26 | AM26: RB | AN26: Cam Skattebo | AO26: =IFERROR(ROUND(MAX(0,AVERAGE(AR26,AT26)),1),"") -> 13.4 | AP26: =COUNT(AQ26,AS26) -> 2 | AQ26: 12 | AR26: =IF(AQ26="","",ROUND(((AQ26-BC$7)/BC$8)*BC$12+BC$11,1)) -> 13.2 | AS26: 25 | AT26: =IF(AS26="","",ROUND(((AS26-BC$9)/BC$10)*BC$12+BC$11,1)) -> 13.5
A27: RB | B27: Quinshon Judkins | C27: =IFERROR(ROUND(MAX(0,AVERAGE(F27,H27,J27,L27,N27)),1),"") -> 26.7 | D27: =COUNT(E27,G27,I27,K27,M27) -> 5 | E27: 30 | F27: =IF(E27="","",ROUND(((E27-Q$7)/Q$8)*Q$18+Q$17,1)) -> 26.3 | G27: 12 | H27: =IF(G27="","",ROUND(((G27-Q$9)/Q$10)*Q$18+Q$17,1)) -> 19.4 | I27: 34.5 | J27: =IF(I27="","",ROUND(((I27-Q$11)/Q$12)*Q$18+Q$17,1)) -> 32.3 | K27: 1256 | L27: =IF(K27="","",ROUND(((K27-Q$13)/Q$14)*Q$18+Q$17,1)) -> 29.5 | M27: 26 | N27: =IF(M27="","",ROUND(((M27-Q$15)/Q$16)*Q$18+Q$17,1)) -> 26 | T27: RB | U27: Quinshon Judkins | V27: =IFERROR(MIN(ROUND(MAX(0,AVERAGE(Y27,AA27,AC27,AE27,AG27)),1),26.7),"") -> 25.8 | W27: =COUNT(X27,Z27,AB27,AD27,AF27) -> 5 | X27: 28 | Y27: =IF(X27="","",ROUND(((X27-AJ$7)/AJ$8)*AJ$18+AJ$17,1)) -> 25.1 | Z27: 11.5 | AA27: =IF(Z27="","",ROUND(((Z27-AJ$9)/AJ$10)*AJ$18+AJ$17,1)) -> 19 | AB27: 33.1 | AC27: =IF(AB27="","",ROUND(((AB27-AJ$11)/AJ$12)*AJ$18+AJ$17,1)) -> 32 | AD27: 1203.7 | AE27: =IF(AD27="","",ROUND(((AD27-AJ$13)/AJ$14)*AJ$18+AJ$17,1)) -> 28.1 | AF27: 25 | AG27: =IF(AF27="","",ROUND(((AF27-AJ$15)/AJ$16)*AJ$18+AJ$17,1)) -> 25 | AM27: RB | AN27: Quinshon Judkins | AO27: =IFERROR(ROUND(MAX(0,AVERAGE(AR27,AT27)),1),"") -> 12.3 | AP27: =COUNT(AQ27,AS27) -> 2 | AQ27: 11 | AR27: =IF(AQ27="","",ROUND(((AQ27-BC$7)/BC$8)*BC$12+BC$11,1)) -> 12 | AS27: 24 | AT27: =IF(AS27="","",ROUND(((AS27-BC$9)/BC$10)*BC$12+BC$11,1)) -> 12.6
A28: RB | B28: Aaron Jones Sr. | C28: =IFERROR(ROUND(MAX(0,AVERAGE(F28,H28,J28,L28,N28)),1),"") -> 23.4 | D28: =COUNT(E28,G28,I28,K28,M28) -> 5 | E28: 30 | F28: =IF(E28="","",ROUND(((E28-Q$7)/Q$8)*Q$18+Q$17,1)) -> 26.3 | G28: 7 | H28: =IF(G28="","",ROUND(((G28-Q$9)/Q$10)*Q$18+Q$17,1)) -> 12.1 | I28: 29.5 | J28: =IF(I28="","",ROUND(((I28-Q$11)/Q$12)*Q$18+Q$17,1)) -> 26.9 | K28: 1273 | L28: =IF(K28="","",ROUND(((K28-Q$13)/Q$14)*Q$18+Q$17,1)) -> 29.9 | M28: 22 | N28: =IF(M28="","",ROUND(((M28-Q$15)/Q$16)*Q$18+Q$17,1)) -> 22 | T28: RB | U28: Aaron Jones Sr. | V28: =IFERROR(MIN(ROUND(MAX(0,AVERAGE(Y28,AA28,AC28,AE28,AG28)),1),23.4),"") -> 22.7 | W28: =COUNT(X28,Z28,AB28,AD28,AF28) -> 5 | X28: 28 | Y28: =IF(X28="","",ROUND(((X28-AJ$7)/AJ$8)*AJ$18+AJ$17,1)) -> 25.1 | Z28: 7 | AA28: =IF(Z28="","",ROUND(((Z28-AJ$9)/AJ$10)*AJ$18+AJ$17,1)) -> 12.4 | AB28: 28.2 | AC28: =IF(AB28="","",ROUND(((AB28-AJ$11)/AJ$12)*AJ$18+AJ$17,1)) -> 26.7 | AD28: 1215.1 | AE28: =IF(AD28="","",ROUND(((AD28-AJ$13)/AJ$14)*AJ$18+AJ$17,1)) -> 28.4 | AF28: 21 | AG28: =IF(AF28="","",ROUND(((AF28-AJ$15)/AJ$16)*AJ$18+AJ$17,1)) -> 21 | AM28: RB | AN28: Omarion Hampton | AO28: =IFERROR(ROUND(MAX(0,AVERAGE(AR28,AT28)),1),"") -> 11.5 | AP28: =COUNT(AQ28,AS28) -> 2 | AQ28: 9 | AR28: =IF(AQ28="","",ROUND(((AQ28-BC$7)/BC$8)*BC$12+BC$11,1)) -> 9.5 | AS28: 25 | AT28: =IF(AS28="","",ROUND(((AS28-BC$9)/BC$10)*BC$12+BC$11,1)) -> 13.5
A29: RB | B29: Omarion Hampton | C29: =IFERROR(ROUND(MAX(0,AVERAGE(F29,H29,J29,L29,N29)),1),"") -> 22.7 | D29: =COUNT(E29,G29,I29,K29,M29) -> 5 | E29: 26 | F29: =IF(E29="","",ROUND(((E29-Q$7)/Q$8)*Q$18+Q$17,1)) -> 22.9 | G29: 9 | H29: =IF(G29="","",ROUND(((G29-Q$9)/Q$10)*Q$18+Q$17,1)) -> 15 | I29: 26.7 | J29: =IF(I29="","",ROUND(((I29-Q$11)/Q$12)*Q$18+Q$17,1)) -> 23.8 | K29: 1093 | L29: =IF(K29="","",ROUND(((K29-Q$13)/Q$14)*Q$18+Q$17,1)) -> 25.7 | M29: 26 | N29: =IF(M29="","",ROUND(((M29-Q$15)/Q$16)*Q$18+Q$17,1)) -> 26 | T29: RB | U29: Omarion Hampton | V29: =IFERROR(MIN(ROUND(MAX(0,AVERAGE(Y29,AA29,AC29,AE29,AG29)),1),22.7),"") -> 22.1 | W29: =COUNT(X29,Z29,AB29,AD29,AF29) -> 5 | X29: 24 | Y29: =IF(X29="","",ROUND(((X29-AJ$7)/AJ$8)*AJ$18+AJ$17,1)) -> 21.7 | Z29: 9 | AA29: =IF(Z29="","",ROUND(((Z29-AJ$9)/AJ$10)*AJ$18+AJ$17,1)) -> 15.3 | AB29: 25.7 | AC29: =IF(AB29="","",ROUND(((AB29-AJ$11)/AJ$12)*AJ$18+AJ$17,1)) -> 23.9 | AD29: 1051 | AE29: =IF(AD29="","",ROUND(((AD29-AJ$13)/AJ$14)*AJ$18+AJ$17,1)) -> 24.6 | AF29: 25 | AG29: =IF(AF29="","",ROUND(((AF29-AJ$15)/AJ$16)*AJ$18+AJ$17,1)) -> 25 | AM29: RB | AN29: Josh Jacobs | AO29: =IFERROR(ROUND(MAX(0,AVERAGE(AR29,AT29)),1),"") -> 11.4 | AP29: =COUNT(AQ29,AS29) -> 2 | AQ29: 8 | AR29: =IF(AQ29="","",ROUND(((AQ29-BC$7)/BC$8)*BC$12+BC$11,1)) -> 8.3 | AS29: 26 | AT29: =IF(AS29="","",ROUND(((AS29-BC$9)/BC$10)*BC$12+BC$11,1)) -> 14.4
A30: RB | B30: Ollie Gordon II | C30: =IFERROR(ROUND(MAX(0,AVERAGE(F30,H30,J30,L30,N30)),1),"") -> 20.5 | D30: =COUNT(E30,G30,I30,K30,M30) -> 5 | E30: 27 | F30: =IF(E30="","",ROUND(((E30-Q$7)/Q$8)*Q$18+Q$17,1)) -> 23.8 | G30: 8 | H30: =IF(G30="","",ROUND(((G30-Q$9)/Q$10)*Q$18+Q$17,1)) -> 13.5 | I30: 19.1 | J30: =IF(I30="","",ROUND(((I30-Q$11)/Q$12)*Q$18+Q$17,1)) -> 15.6 | K30: 1081 | L30: =IF(K30="","",ROUND(((K30-Q$13)/Q$14)*Q$18+Q$17,1)) -> 25.5 | M30: 24 | N30: =IF(M30="","",ROUND(((M30-Q$15)/Q$16)*Q$18+Q$17,1)) -> 24 | T30: RB | U30: Ollie Gordon II | V30: =IFERROR(MIN(ROUND(MAX(0,AVERAGE(Y30,AA30,AC30,AE30,AG30)),1),20.4),"") -> 20.4 | W30: =COUNT(X30,Z30,AB30,AD30,AF30) -> 5 | X30: 25 | Y30: =IF(X30="","",ROUND(((X30-AJ$7)/AJ$8)*AJ$18+AJ$17,1)) -> 22.6 | Z30: 8 | AA30: =IF(Z30="","",ROUND(((Z30-AJ$9)/AJ$10)*AJ$18+AJ$17,1)) -> 13.9 | AB30: 19.1 | AC30: =IF(AB30="","",ROUND(((AB30-AJ$11)/AJ$12)*AJ$18+AJ$17,1)) -> 16.8 | AD30: 1081 | AE30: =IF(AD30="","",ROUND(((AD30-AJ$13)/AJ$14)*AJ$18+AJ$17,1)) -> 25.3 | AF30: 24 | AG30: =IF(AF30="","",ROUND(((AF30-AJ$15)/AJ$16)*AJ$18+AJ$17,1)) -> 24 | AM30: RB | AN30: Ollie Gordon II | AO30: =IFERROR(ROUND(MAX(0,AVERAGE(AR30,AT30)),1),"") -> 10.5 | AP30: =COUNT(AQ30,AS30) -> 2 | AQ30: 8 | AR30: =IF(AQ30="","",ROUND(((AQ30-BC$7)/BC$8)*BC$12+BC$11,1)) -> 8.3 | AS30: 24 | AT30: =IF(AS30="","",ROUND(((AS30-BC$9)/BC$10)*BC$12+BC$11,1)) -> 12.6
A31: RB | B31: Kyle Monangai | C31: =IFERROR(ROUND(MAX(0,AVERAGE(F31,H31,J31,L31,N31)),1),"") -> 19 | D31: =COUNT(E31,G31,I31,K31,M31) -> 5 | E31: 22 | F31: =IF(E31="","",ROUND(((E31-Q$7)/Q$8)*Q$18+Q$17,1)) -> 19.5 | G31: 6 | H31: =IF(G31="","",ROUND(((G31-Q$9)/Q$10)*Q$18+Q$17,1)) -> 10.6 | I31: 26.8 | J31: =IF(I31="","",ROUND(((I31-Q$11)/Q$12)*Q$18+Q$17,1)) -> 24 | K31: 829 | L31: =IF(K31="","",ROUND(((K31-Q$13)/Q$14)*Q$18+Q$17,1)) -> 19.7 | M31: 21 | N31: =IF(M31="","",ROUND(((M31-Q$15)/Q$16)*Q$18+Q$17,1)) -> 21 | T31: RB | U31: Kyle Monangai | V31: =IFERROR(MIN(ROUND(MAX(0,AVERAGE(Y31,AA31,AC31,AE31,AG31)),1),18.9),"") -> 18.3 | W31: =COUNT(X31,Z31,AB31,AD31,AF31) -> 5 | X31: 20 | Y31: =IF(X31="","",ROUND(((X31-AJ$7)/AJ$8)*AJ$18+AJ$17,1)) -> 18.4 | Z31: 6 | AA31: =IF(Z31="","",ROUND(((Z31-AJ$9)/AJ$10)*AJ$18+AJ$17,1)) -> 11 | AB31: 25.5 | AC31: =IF(AB31="","",ROUND(((AB31-AJ$11)/AJ$12)*AJ$18+AJ$17,1)) -> 23.7 | AD31: 789.5 | AE31: =IF(AD31="","",ROUND(((AD31-AJ$13)/AJ$14)*AJ$18+AJ$17,1)) -> 18.6 | AF31: 20 | AG31: =IF(AF31="","",ROUND(((AF31-AJ$15)/AJ$16)*AJ$18+AJ$17,1)) -> 20 | AM31: RB | AN31: Woody Marks | AO31: =IFERROR(ROUND(MAX(0,AVERAGE(AR31,AT31)),1),"") -> 10 | AP31: =COUNT(AQ31,AS31) -> 2 | AQ31: 10 | AR31: =IF(AQ31="","",ROUND(((AQ31-BC$7)/BC$8)*BC$12+BC$11,1)) -> 10.8 | AS31: 20 | AT31: =IF(AS31="","",ROUND(((AS31-BC$9)/BC$10)*BC$12+BC$11,1)) -> 9.1
A32: RB | B32: Woody Marks | C32: =IFERROR(ROUND(MAX(0,AVERAGE(F32,H32,J32,L32,N32)),1),"") -> 18.1 | D32: =COUNT(E32,G32,I32,K32,M32) -> 5 | E32: 19 | F32: =IF(E32="","",ROUND(((E32-Q$7)/Q$8)*Q$18+Q$17,1)) -> 17 | G32: 12 | H32: =IF(G32="","",ROUND(((G32-Q$9)/Q$10)*Q$18+Q$17,1)) -> 19.4 | I32: 18.1 | J32: =IF(I32="","",ROUND(((I32-Q$11)/Q$12)*Q$18+Q$17,1)) -> 14.5 | K32: 654 | L32: =IF(K32="","",ROUND(((K32-Q$13)/Q$14)*Q$18+Q$17,1)) -> 15.6 | M32: 24 | N32: =IF(M32="","",ROUND(((M32-Q$15)/Q$16)*Q$18+Q$17,1)) -> 24 | T32: RB | U32: Woody Marks | V32: =IFERROR(MIN(ROUND(MAX(0,AVERAGE(Y32,AA32,AC32,AE32,AG32)),1),18.1),"") -> 16.9 | W32: =COUNT(X32,Z32,AB32,AD32,AF32) -> 5 | X32: 17 | Y32: =IF(X32="","",ROUND(((X32-AJ$7)/AJ$8)*AJ$18+AJ$17,1)) -> 15.8 | Z32: 11 | AA32: =IF(Z32="","",ROUND(((Z32-AJ$9)/AJ$10)*AJ$18+AJ$17,1)) -> 18.3 | AB32: 16.6 | AC32: =IF(AB32="","",ROUND(((AB32-AJ$11)/AJ$12)*AJ$18+AJ$17,1)) -> 14.1 | AD32: 599.5 | AE32: =IF(AD32="","",ROUND(((AD32-AJ$13)/AJ$14)*AJ$18+AJ$17,1)) -> 14.3 | AF32: 22 | AG32: =IF(AF32="","",ROUND(((AF32-AJ$15)/AJ$16)*AJ$18+AJ$17,1)) -> 22 | AM32: RB | AN32: Aaron Jones Sr. | AO32: =IFERROR(ROUND(MAX(0,AVERAGE(AR32,AT32)),1),"") -> 8.1 | AP32: =COUNT(AQ32,AS32) -> 2 | AQ32: 7 | AR32: =IF(AQ32="","",ROUND(((AQ32-BC$7)/BC$8)*BC$12+BC$11,1)) -> 7 | AS32: 20 | AT32: =IF(AS32="","",ROUND(((AS32-BC$9)/BC$10)*BC$12+BC$11,1)) -> 9.1
A33: RB | B33: Jacory Croskey-Merritt | C33: =IFERROR(ROUND(MAX(0,AVERAGE(F33,H33,J33,L33,N33)),1),"") -> 18.1 | D33: =COUNT(E33,G33,I33,K33,M33) -> 5 | E33: 22 | F33: =IF(E33="","",ROUND(((E33-Q$7)/Q$8)*Q$18+Q$17,1)) -> 19.5 | G33: 6 | H33: =IF(G33="","",ROUND(((G33-Q$9)/Q$10)*Q$18+Q$17,1)) -> 10.6 | I33: 25.8 | J33: =IF(I33="","",ROUND(((I33-Q$11)/Q$12)*Q$18+Q$17,1)) -> 22.9 | K33: 901 | L33: =IF(K33="","",ROUND(((K33-Q$13)/Q$14)*Q$18+Q$17,1)) -> 21.3 | M33: 16 | N33: =IF(M33="","",ROUND(((M33-Q$15)/Q$16)*Q$18+Q$17,1)) -> 16 | T33: RB | U33: Jacory Croskey-Merritt | V33: =IFERROR(MIN(ROUND(MAX(0,AVERAGE(Y33,AA33,AC33,AE33,AG33)),1),18),"") -> 18 | W33: =COUNT(X33,Z33,AB33,AD33,AF33) -> 5 | X33: 20 | Y33: =IF(X33="","",ROUND(((X33-AJ$7)/AJ$8)*AJ$18+AJ$17,1)) -> 18.4 | Z33: 6 | AA33: =IF(Z33="","",ROUND(((Z33-AJ$9)/AJ$10)*AJ$18+AJ$17,1)) -> 11 | AB33: 25.8 | AC33: =IF(AB33="","",ROUND(((AB33-AJ$11)/AJ$12)*AJ$18+AJ$17,1)) -> 24.1 | AD33: 901 | AE33: =IF(AD33="","",ROUND(((AD33-AJ$13)/AJ$14)*AJ$18+AJ$17,1)) -> 21.2 | AF33: 16 | AG33: =IF(AF33="","",ROUND(((AF33-AJ$15)/AJ$16)*AJ$18+AJ$17,1)) -> 16 | AM33: RB | AN33: J.K. Dobbins | AO33: =IFERROR(ROUND(MAX(0,AVERAGE(AR33,AT33)),1),"") -> 7.7 | AP33: =COUNT(AQ33,AS33) -> 2 | AQ33: 5 | AR33: =IF(AQ33="","",ROUND(((AQ33-BC$7)/BC$8)*BC$12+BC$11,1)) -> 4.5 | AS33: 22 | AT33: =IF(AS33="","",ROUND(((AS33-BC$9)/BC$10)*BC$12+BC$11,1)) -> 10.8
A34: RB | B34: Travis Etienne Jr. | C34: =IFERROR(ROUND(MAX(0,AVERAGE(F34,H34,J34,L34,N34)),1),"") -> 17 | D34: =COUNT(E34,G34,I34,K34,M34) -> 5 | E34: 17 | F34: =IF(E34="","",ROUND(((E34-Q$7)/Q$8)*Q$18+Q$17,1)) -> 15.3 | G34: 7 | H34: =IF(G34="","",ROUND(((G34-Q$9)/Q$10)*Q$18+Q$17,1)) -> 12.1 | I34: 22.7 | J34: =IF(I34="","",ROUND(((I34-Q$11)/Q$12)*Q$18+Q$17,1)) -> 19.5 | K34: 582 | L34: =IF(K34="","",ROUND(((K34-Q$13)/Q$14)*Q$18+Q$17,1)) -> 14 | M34: 24 | N34: =IF(M34="","",ROUND(((M34-Q$15)/Q$16)*Q$18+Q$17,1)) -> 24 | T34: RB | U34: Travis Etienne Jr. | V34: =IFERROR(MIN(ROUND(MAX(0,AVERAGE(Y34,AA34,AC34,AE34,AG34)),1),16.9),"") -> 15.9 | W34: =COUNT(X34,Z34,AB34,AD34,AF34) -> 5 | X34: 15 | Y34: =IF(X34="","",ROUND(((X34-AJ$7)/AJ$8)*AJ$18+AJ$17,1)) -> 14.2 | Z34: 6.5 | AA34: =IF(Z34="","",ROUND(((Z34-AJ$9)/AJ$10)*AJ$18+AJ$17,1)) -> 11.7 | AB34: 20.8 | AC34: =IF(AB34="","",ROUND(((AB34-AJ$11)/AJ$12)*AJ$18+AJ$17,1)) -> 18.6 | AD34: 533.5 | AE34: =IF(AD34="","",ROUND(((AD34-AJ$13)/AJ$14)*AJ$18+AJ$17,1)) -> 12.8 | AF34: 22 | AG34: =IF(AF34="","",ROUND(((AF34-AJ$15)/AJ$16)*AJ$18+AJ$17,1)) -> 22 | AM34: RB | AN34: Travis Etienne Jr. | AO34: =IFERROR(ROUND(MAX(0,AVERAGE(AR34,AT34)),1),"") -> 7.5 | AP34: =COUNT(AQ34,AS34) -> 2 | AQ34: 6 | AR34: =IF(AQ34="","",ROUND(((AQ34-BC$7)/BC$8)*BC$12+BC$11,1)) -> 5.8 | AS34: 20 | AT34: =IF(AS34="","",ROUND(((AS34-BC$9)/BC$10)*BC$12+BC$11,1)) -> 9.1
A35: RB | B35: Tony Pollard | C35: =IFERROR(ROUND(MAX(0,AVERAGE(F35,H35,J35,L35,N35)),1),"") -> 16.6 | D35: =COUNT(E35,G35,I35,K35,M35) -> 5 | E35: 20 | F35: =IF(E35="","",ROUND(((E35-Q$7)/Q$8)*Q$18+Q$17,1)) -> 17.8 | G35: 7 | H35: =IF(G35="","",ROUND(((G35-Q$9)/Q$10)*Q$18+Q$17,1)) -> 12.1 | I35: 25 | J35: =IF(I35="","",ROUND(((I35-Q$11)/Q$12)*Q$18+Q$17,1)) -> 22 | K35: 670 | L35: =IF(K35="","",ROUND(((K35-Q$13)/Q$14)*Q$18+Q$17,1)) -> 16 | M35: 15 | N35: =IF(M35="","",ROUND(((M35-Q$15)/Q$16)*Q$18+Q$17,1)) -> 15 | T35: RB | U35: Tony Pollard | V35: =IFERROR(MIN(ROUND(MAX(0,AVERAGE(Y35,AA35,AC35,AE35,AG35)),1),16.5),"") -> 15.9 | W35: =COUNT(X35,Z35,AB35,AD35,AF35) -> 5 | X35: 18 | Y35: =IF(X35="","",ROUND(((X35-AJ$7)/AJ$8)*AJ$18+AJ$17,1)) -> 16.7 | Z35: 7 | AA35: =IF(Z35="","",ROUND(((Z35-AJ$9)/AJ$10)*AJ$18+AJ$17,1)) -> 12.4 | AB35: 23.3 | AC35: =IF(AB35="","",ROUND(((AB35-AJ$11)/AJ$12)*AJ$18+AJ$17,1)) -> 21.3 | AD35: 625.3 | AE35: =IF(AD35="","",ROUND(((AD35-AJ$13)/AJ$14)*AJ$18+AJ$17,1)) -> 14.9 | AF35: 14 | AG35: =IF(AF35="","",ROUND(((AF35-AJ$15)/AJ$16)*AJ$18+AJ$17,1)) -> 14 | AM35: RB | AN35: Kyle Monangai | AO35: =IFERROR(ROUND(MAX(0,AVERAGE(AR35,AT35)),1),"") -> 7.5 | AP35: =COUNT(AQ35,AS35) -> 2 | AQ35: 6 | AR35: =IF(AQ35="","",ROUND(((AQ35-BC$7)/BC$8)*BC$12+BC$11,1)) -> 5.8 | AS35: 20 | AT35: =IF(AS35="","",ROUND(((AS35-BC$9)/BC$10)*BC$12+BC$11,1)) -> 9.1
A36: RB | B36: Jordan Mason | C36: =IFERROR(ROUND(MAX(0,AVERAGE(F36,H36,J36,L36,N36)),1),"") -> 16.3 | D36: =COUNT(E36,G36,I36,K36,M36) -> 5 | E36: 20 | F36: =IF(E36="","",ROUND(((E36-Q$7)/Q$8)*Q$18+Q$17,1)) -> 17.8 | G36: 7 | H36: =IF(G36="","",ROUND(((G36-Q$9)/Q$10)*Q$18+Q$17,1)) -> 12.1 | I36: 18.9 | J36: =IF(I36="","",ROUND(((I36-Q$11)/Q$12)*Q$18+Q$17,1)) -> 15.4 | K36: 769 | L36: =IF(K36="","",ROUND(((K36-Q$13)/Q$14)*Q$18+Q$17,1)) -> 18.3 | M36: 18 | N36: =IF(M36="","",ROUND(((M36-Q$15)/Q$16)*Q$18+Q$17,1)) -> 18 | T36: RB | U36: Jordan Mason | V36: =IFERROR(MIN(ROUND(MAX(0,AVERAGE(Y36,AA36,AC36,AE36,AG36)),1),16.3),"") -> 16.3 | W36: =COUNT(X36,Z36,AB36,AD36,AF36) -> 5 | X36: 18 | Y36: =IF(X36="","",ROUND(((X36-AJ$7)/AJ$8)*AJ$18+AJ$17,1)) -> 16.7 | Z36: 7 | AA36: =IF(Z36="","",ROUND(((Z36-AJ$9)/AJ$10)*AJ$18+AJ$17,1)) -> 12.4 | AB36: 18.9 | AC36: =IF(AB36="","",ROUND(((AB36-AJ$11)/AJ$12)*AJ$18+AJ$17,1)) -> 16.6 | AD36: 769 | AE36: =IF(AD36="","",ROUND(((AD36-AJ$13)/AJ$14)*AJ$18+AJ$17,1)) -> 18.2 | AF36: 18 | AG36: =IF(AF36="","",ROUND(((AF36-AJ$15)/AJ$16)*AJ$18+AJ$17,1)) -> 18 | AM36: RB | AN36: Jordan Mason | AO36: =IFERROR(ROUND(MAX(0,AVERAGE(AR36,AT36)),1),"") -> 7.2 | AP36: =COUNT(AQ36,AS36) -> 2 | AQ36: 7 | AR36: =IF(AQ36="","",ROUND(((AQ36-BC$7)/BC$8)*BC$12+BC$11,1)) -> 7 | AS36: 18 | AT36: =IF(AS36="","",ROUND(((AS36-BC$9)/BC$10)*BC$12+BC$11,1)) -> 7.3
A37: RB | B37: Josh Jacobs | C37: =IFERROR(ROUND(MAX(0,AVERAGE(F37,H37,J37,L37,N37)),1),"") -> 15.6 | D37: =COUNT(E37,G37,I37,K37,M37) -> 5 | E37: 16 | F37: =IF(E37="","",ROUND(((E37-Q$7)/Q$8)*Q$18+Q$17,1)) -> 14.4 | G37: 8 | H37: =IF(G37="","",ROUND(((G37-Q$9)/Q$10)*Q$18+Q$17,1)) -> 13.5 | I37: 12.1 | J37: =IF(I37="","",ROUND(((I37-Q$11)/Q$12)*Q$18+Q$17,1)) -> 8 | K37: 590 | L37: =IF(K37="","",ROUND(((K37-Q$13)/Q$14)*Q$18+Q$17,1)) -> 14.2 | M37: 28 | N37: =IF(M37="","",ROUND(((M37-Q$15)/Q$16)*Q$18+Q$17,1)) -> 28 | T37: RB | U37: Josh Jacobs | V37: =IFERROR(MIN(ROUND(MAX(0,AVERAGE(Y37,AA37,AC37,AE37,AG37)),1),15.6),"") -> 15.3 | W37: =COUNT(X37,Z37,AB37,AD37,AF37) -> 5 | X37: 14 | Y37: =IF(X37="","",ROUND(((X37-AJ$7)/AJ$8)*AJ$18+AJ$17,1)) -> 13.3 | Z37: 8 | AA37: =IF(Z37="","",ROUND(((Z37-AJ$9)/AJ$10)*AJ$18+AJ$17,1)) -> 13.9 | AB37: 11.7 | AC37: =IF(AB37="","",ROUND(((AB37-AJ$11)/AJ$12)*AJ$18+AJ$17,1)) -> 8.7 | AD37: 568.9 | AE37: =IF(AD37="","",ROUND(((AD37-AJ$13)/AJ$14)*AJ$18+AJ$17,1)) -> 13.6 | AF37: 27 | AG37: =IF(AF37="","",ROUND(((AF37-AJ$15)/AJ$16)*AJ$18+AJ$17,1)) -> 27 | AM37: RB | AN37: Emanuel Wilson | AO37: =IFERROR(ROUND(MAX(0,AVERAGE(AR37,AT37)),1),"") -> 6.7 | AP37: =COUNT(AQ37,AS37) -> 2 | AQ37: 7 | AR37: =IF(AQ37="","",ROUND(((AQ37-BC$7)/BC$8)*BC$12+BC$11,1)) -> 7 | AS37: 17 | AT37: =IF(AS37="","",ROUND(((AS37-BC$9)/BC$10)*BC$12+BC$11,1)) -> 6.4
A38: RB | B38: David Montgomery | C38: =IFERROR(ROUND(MAX(0,AVERAGE(F38,H38,J38,L38,N38)),1),"") -> 15.6 | D38: =COUNT(E38,G38,I38,K38,M38) -> 5 | E38: 15 | F38: =IF(E38="","",ROUND(((E38-Q$7)/Q$8)*Q$18+Q$17,1)) -> 13.6 | G38: 6 | H38: =IF(G38="","",ROUND(((G38-Q$9)/Q$10)*Q$18+Q$17,1)) -> 10.6 | I38: 24.4 | J38: =IF(I38="","",ROUND(((I38-Q$11)/Q$12)*Q$18+Q$17,1)) -> 21.4 | K38: 606 | L38: =IF(K38="","",ROUND(((K38-Q$13)/Q$14)*Q$18+Q$17,1)) -> 14.5 | M38: 18 | N38: =IF(M38="","",ROUND(((M38-Q$15)/Q$16)*Q$18+Q$17,1)) -> 18 | T38: RB | U38: David Montgomery | V38: =IFERROR(MIN(ROUND(MAX(0,AVERAGE(Y38,AA38,AC38,AE38,AG38)),1),15.6),"") -> 15 | W38: =COUNT(X38,Z38,AB38,AD38,AF38) -> 5 | X38: 13 | Y38: =IF(X38="","",ROUND(((X38-AJ$7)/AJ$8)*AJ$18+AJ$17,1)) -> 12.5 | Z38: 6 | AA38: =IF(Z38="","",ROUND(((Z38-AJ$9)/AJ$10)*AJ$18+AJ$17,1)) -> 11 | AB38: 23 | AC38: =IF(AB38="","",ROUND(((AB38-AJ$11)/AJ$12)*AJ$18+AJ$17,1)) -> 21 | AD38: 572.3 | AE38: =IF(AD38="","",ROUND(((AD38-AJ$13)/AJ$14)*AJ$18+AJ$17,1)) -> 13.7 | AF38: 17 | AG38: =IF(AF38="","",ROUND(((AF38-AJ$15)/AJ$16)*AJ$18+AJ$17,1)) -> 17 | AM38: RB | AN38: David Montgomery | AO38: =IFERROR(ROUND(MAX(0,AVERAGE(AR38,AT38)),1),"") -> 6.1 | AP38: =COUNT(AQ38,AS38) -> 2 | AQ38: 6 | AR38: =IF(AQ38="","",ROUND(((AQ38-BC$7)/BC$8)*BC$12+BC$11,1)) -> 5.8 | AS38: 17 | AT38: =IF(AS38="","",ROUND(((AS38-BC$9)/BC$10)*BC$12+BC$11,1)) -> 6.4
A39: RB | B39: J.K. Dobbins | C39: =IFERROR(ROUND(MAX(0,AVERAGE(F39,H39,J39,L39,N39)),1),"") -> 15.4 | D39: =COUNT(E39,G39,I39,K39,M39) -> 5 | E39: 17 | F39: =IF(E39="","",ROUND(((E39-Q$7)/Q$8)*Q$18+Q$17,1)) -> 15.3 | G39: 5 | H39: =IF(G39="","",ROUND(((G39-Q$9)/Q$10)*Q$18+Q$17,1)) -> 9.1 | I39: 15.4 | J39: =IF(I39="","",ROUND(((I39-Q$11)/Q$12)*Q$18+Q$17,1)) -> 11.6 | K39: 805 | L39: =IF(K39="","",ROUND(((K39-Q$13)/Q$14)*Q$18+Q$17,1)) -> 19.1 | M39: 22 | N39: =IF(M39="","",ROUND(((M39-Q$15)/Q$16)*Q$18+Q$17,1)) -> 22 | T39: RB | U39: J.K. Dobbins | V39: =IFERROR(MIN(ROUND(MAX(0,AVERAGE(Y39,AA39,AC39,AE39,AG39)),1),15.4),"") -> 15.4 | W39: =COUNT(X39,Z39,AB39,AD39,AF39) -> 5 | X39: 15 | Y39: =IF(X39="","",ROUND(((X39-AJ$7)/AJ$8)*AJ$18+AJ$17,1)) -> 14.2 | Z39: 5 | AA39: =IF(Z39="","",ROUND(((Z39-AJ$9)/AJ$10)*AJ$18+AJ$17,1)) -> 9.5 | AB39: 15.4 | AC39: =IF(AB39="","",ROUND(((AB39-AJ$11)/AJ$12)*AJ$18+AJ$17,1)) -> 12.8 | AD39: 805 | AE39: =IF(AD39="","",ROUND(((AD39-AJ$13)/AJ$14)*AJ$18+AJ$17,1)) -> 19 | AF39: 22 | AG39: =IF(AF39="","",ROUND(((AF39-AJ$15)/AJ$16)*AJ$18+AJ$17,1)) -> 22 | AM39: RB | AN39: Jacory Croskey-Merritt | AO39: =IFERROR(ROUND(MAX(0,AVERAGE(AR39,AT39)),1),"") -> 5.7 | AP39: =COUNT(AQ39,AS39) -> 2 | AQ39: 6 | AR39: =IF(AQ39="","",ROUND(((AQ39-BC$7)/BC$8)*BC$12+BC$11,1)) -> 5.8 | AS39: 16 | AT39: =IF(AS39="","",ROUND(((AS39-BC$9)/BC$10)*BC$12+BC$11,1)) -> 5.5
A40: RB | B40: TreVeyon Henderson | C40: =IFERROR(ROUND(MAX(0,AVERAGE(F40,H40,J40,L40,N40)),1),"") -> 15.4 | D40: =COUNT(E40,G40,I40,K40,M40) -> 5 | E40: 16 | F40: =IF(E40="","",ROUND(((E40-Q$7)/Q$8)*Q$18+Q$17,1)) -> 14.4 | G40: 6 | H40: =IF(G40="","",ROUND(((G40-Q$9)/Q$10)*Q$18+Q$17,1)) -> 10.6 | I40: 26.4 | J40: =IF(I40="","",ROUND(((I40-Q$11)/Q$12)*Q$18+Q$17,1)) -> 23.5 | K40: 598 | L40: =IF(K40="","",ROUND(((K40-Q$13)/Q$14)*Q$18+Q$17,1)) -> 14.3 | M40: 14 | N40: =IF(M40="","",ROUND(((M40-Q$15)/Q$16)*Q$18+Q$17,1)) -> 14 | T40: RB | U40: TreVeyon Henderson | V40: =IFERROR(MIN(ROUND(MAX(0,AVERAGE(Y40,AA40,AC40,AE40,AG40)),1),15.3),"") -> 14.6 | W40: =COUNT(X40,Z40,AB40,AD40,AF40) -> 5 | X40: 14 | Y40: =IF(X40="","",ROUND(((X40-AJ$7)/AJ$8)*AJ$18+AJ$17,1)) -> 13.3 | Z40: 5.5 | AA40: =IF(Z40="","",ROUND(((Z40-AJ$9)/AJ$10)*AJ$18+AJ$17,1)) -> 10.2 | AB40: 24.2 | AC40: =IF(AB40="","",ROUND(((AB40-AJ$11)/AJ$12)*AJ$18+AJ$17,1)) -> 22.3 | AD40: 548.2 | AE40: =IF(AD40="","",ROUND(((AD40-AJ$13)/AJ$14)*AJ$18+AJ$17,1)) -> 13.1 | AF40: 14 | AG40: =IF(AF40="","",ROUND(((AF40-AJ$15)/AJ$16)*AJ$18+AJ$17,1)) -> 14 | AM40: RB | AN40: Braelon Allen | AO40: =IFERROR(ROUND(MAX(0,AVERAGE(AR40,AT40)),1),"") -> 5.4 | AP40: =COUNT(AQ40,AS40) -> 2 | AQ40: 7 | AR40: =IF(AQ40="","",ROUND(((AQ40-BC$7)/BC$8)*BC$12+BC$11,1)) -> 7 | AS40: 14 | AT40: =IF(AS40="","",ROUND(((AS40-BC$9)/BC$10)*BC$12+BC$11,1)) -> 3.8
A41: RB | B41: Zach Charbonnet | C41: =IFERROR(ROUND(MAX(0,AVERAGE(F41,H41,J41,L41,N41)),1),"") -> 15.3 | D41: =COUNT(E41,G41,I41,K41,M41) -> 4 | E41: 16 | F41: =IF(E41="","",ROUND(((E41-Q$7)/Q$8)*Q$18+Q$17,1)) -> 14.4 | G41: 7 | H41: =IF(G41="","",ROUND(((G41-Q$9)/Q$10)*Q$18+Q$17,1)) -> 12.1 | J41: =IF(I41="","",ROUND(((I41-Q$11)/Q$12)*Q$18+Q$17,1)) | K41: 961 | L41: =IF(K41="","",ROUND(((K41-Q$13)/Q$14)*Q$18+Q$17,1)) -> 22.7 | M41: 12 | N41: =IF(M41="","",ROUND(((M41-Q$15)/Q$16)*Q$18+Q$17,1)) -> 12 | T41: RB | U41: Zach Charbonnet | V41: =IFERROR(MIN(ROUND(MAX(0,AVERAGE(Y41,AA41,AC41,AE41,AG41)),1),15.2),"") -> 11 | W41: =COUNT(X41,Z41,AB41,AD41,AF41) -> 4 | X41: 14 | Y41: =IF(X41="","",ROUND(((X41-AJ$7)/AJ$8)*AJ$18+AJ$17,1)) -> 13.3 | Z41: 7 | AA41: =IF(Z41="","",ROUND(((Z41-AJ$9)/AJ$10)*AJ$18+AJ$17,1)) -> 12.4 | AB41: 8.4 | AC41: =IF(AB41="","",ROUND(((AB41-AJ$11)/AJ$12)*AJ$18+AJ$17,1)) -> 5.2 | AE41: =IF(AD41="","",ROUND(((AD41-AJ$13)/AJ$14)*AJ$18+AJ$17,1)) | AF41: 13 | AG41: =IF(AF41="","",ROUND(((AF41-AJ$15)/AJ$16)*AJ$18+AJ$17,1)) -> 13 | AM41: RB | AN41: Tony Pollard | AO41: =IFERROR(ROUND(MAX(0,AVERAGE(AR41,AT41)),1),"") -> 5.4 | AP41: =COUNT(AQ41,AS41) -> 2 | AQ41: 7 | AR41: =IF(AQ41="","",ROUND(((AQ41-BC$7)/BC$8)*BC$12+BC$11,1)) -> 7 | AS41: 14 | AT41: =IF(AS41="","",ROUND(((AS41-BC$9)/BC$10)*BC$12+BC$11,1)) -> 3.8
A42: RB | B42: Blake Corum | C42: =IFERROR(ROUND(MAX(0,AVERAGE(F42,H42,J42,L42,N42)),1),"") -> 14.9 | D42: =COUNT(E42,G42,I42,K42,M42) -> 5 | E42: 15 | F42: =IF(E42="","",ROUND(((E42-Q$7)/Q$8)*Q$18+Q$17,1)) -> 13.6 | G42: 5 | H42: =IF(G42="","",ROUND(((G42-Q$9)/Q$10)*Q$18+Q$17,1)) -> 9.1 | I42: 24.9 | J42: =IF(I42="","",ROUND(((I42-Q$11)/Q$12)*Q$18+Q$17,1)) -> 21.9 | K42: 662 | L42: =IF(K42="","",ROUND(((K42-Q$13)/Q$14)*Q$18+Q$17,1)) -> 15.8 | M42: 14 | N42: =IF(M42="","",ROUND(((M42-Q$15)/Q$16)*Q$18+Q$17,1)) -> 14 | T42: RB | U42: Blake Corum | V42: =IFERROR(MIN(ROUND(MAX(0,AVERAGE(Y42,AA42,AC42,AE42,AG42)),1),14.8),"") -> 14.8 | W42: =COUNT(X42,Z42,AB42,AD42,AF42) -> 5 | X42: 13 | Y42: =IF(X42="","",ROUND(((X42-AJ$7)/AJ$8)*AJ$18+AJ$17,1)) -> 12.5 | Z42: 5 | AA42: =IF(Z42="","",ROUND(((Z42-AJ$9)/AJ$10)*AJ$18+AJ$17,1)) -> 9.5 | AB42: 24.9 | AC42: =IF(AB42="","",ROUND(((AB42-AJ$11)/AJ$12)*AJ$18+AJ$17,1)) -> 23.1 | AD42: 662 | AE42: =IF(AD42="","",ROUND(((AD42-AJ$13)/AJ$14)*AJ$18+AJ$17,1)) -> 15.7 | AF42: 14 | AG42: =IF(AF42="","",ROUND(((AF42-AJ$15)/AJ$16)*AJ$18+AJ$17,1)) -> 14 | AM42: RB | AN42: Zach Charbonnet | AO42: =IFERROR(ROUND(MAX(0,AVERAGE(AR42,AT42)),1),"") -> 5 | AP42: =COUNT(AQ42,AS42) -> 2 | AQ42: 7 | AR42: =IF(AQ42="","",ROUND(((AQ42-BC$7)/BC$8)*BC$12+BC$11,1)) -> 7 | AS42: 13 | AT42: =IF(AS42="","",ROUND(((AS42-BC$9)/BC$10)*BC$12+BC$11,1)) -> 2.9
A43: RB | B43: Emanuel Wilson | C43: =IFERROR(ROUND(MAX(0,AVERAGE(F43,H43,J43,L43,N43)),1),"") -> 14.9 | D43: =COUNT(E43,G43,I43,K43,M43) -> 5 | E43: 17 | F43: =IF(E43="","",ROUND(((E43-Q$7)/Q$8)*Q$18+Q$17,1)) -> 15.3 | G43: 7 | H43: =IF(G43="","",ROUND(((G43-Q$9)/Q$10)*Q$18+Q$17,1)) -> 12.1 | I43: 17.8 | J43: =IF(I43="","",ROUND(((I43-Q$11)/Q$12)*Q$18+Q$17,1)) -> 14.2 | K43: 574 | L43: =IF(K43="","",ROUND(((K43-Q$13)/Q$14)*Q$18+Q$17,1)) -> 13.8 | M43: 19 | N43: =IF(M43="","",ROUND(((M43-Q$15)/Q$16)*Q$18+Q$17,1)) -> 19 | T43: RB | U43: Emanuel Wilson | V43: =IFERROR(MIN(ROUND(MAX(0,AVERAGE(Y43,AA43,AC43,AE43,AG43)),1),14.8),"") -> 14.4 | W43: =COUNT(X43,Z43,AB43,AD43,AF43) -> 5 | X43: 15 | Y43: =IF(X43="","",ROUND(((X43-AJ$7)/AJ$8)*AJ$18+AJ$17,1)) -> 14.2 | Z43: 7 | AA43: =IF(Z43="","",ROUND(((Z43-AJ$9)/AJ$10)*AJ$18+AJ$17,1)) -> 12.4 | AB43: 16.9 | AC43: =IF(AB43="","",ROUND(((AB43-AJ$11)/AJ$12)*AJ$18+AJ$17,1)) -> 14.4 | AD43: 543.8 | AE43: =IF(AD43="","",ROUND(((AD43-AJ$13)/AJ$14)*AJ$18+AJ$17,1)) -> 13 | AF43: 18 | AG43: =IF(AF43="","",ROUND(((AF43-AJ$15)/AJ$16)*AJ$18+AJ$17,1)) -> 18 | AM43: RB | AN43: Blake Corum | AO43: =IFERROR(ROUND(MAX(0,AVERAGE(AR43,AT43)),1),"") -> 4.2 | AP43: =COUNT(AQ43,AS43) -> 2 | AQ43: 5 | AR43: =IF(AQ43="","",ROUND(((AQ43-BC$7)/BC$8)*BC$12+BC$11,1)) -> 4.5 | AS43: 14 | AT43: =IF(AS43="","",ROUND(((AS43-BC$9)/BC$10)*BC$12+BC$11,1)) -> 3.8
A44: RB | B44: Braelon Allen | C44: =IFERROR(ROUND(MAX(0,AVERAGE(F44,H44,J44,L44,N44)),1),"") -> 14.6 | D44: =COUNT(E44,G44,I44,K44,M44) -> 5 | E44: 17 | F44: =IF(E44="","",ROUND(((E44-Q$7)/Q$8)*Q$18+Q$17,1)) -> 15.3 | G44: 7 | H44: =IF(G44="","",ROUND(((G44-Q$9)/Q$10)*Q$18+Q$17,1)) -> 12.1 | I44: 15.9 | J44: =IF(I44="","",ROUND(((I44-Q$11)/Q$12)*Q$18+Q$17,1)) -> 12.2 | K44: 817 | L44: =IF(K44="","",ROUND(((K44-Q$13)/Q$14)*Q$18+Q$17,1)) -> 19.4 | M44: 14 | N44: =IF(M44="","",ROUND(((M44-Q$15)/Q$16)*Q$18+Q$17,1)) -> 14 | T44: RB | U44: Braelon Allen | V44: =IFERROR(MIN(ROUND(MAX(0,AVERAGE(Y44,AA44,AC44,AE44,AG44)),1),14.5),"") -> 14.5 | W44: =COUNT(X44,Z44,AB44,AD44,AF44) -> 5 | X44: 15 | Y44: =IF(X44="","",ROUND(((X44-AJ$7)/AJ$8)*AJ$18+AJ$17,1)) -> 14.2 | Z44: 7 | AA44: =IF(Z44="","",ROUND(((Z44-AJ$9)/AJ$10)*AJ$18+AJ$17,1)) -> 12.4 | AB44: 15.9 | AC44: =IF(AB44="","",ROUND(((AB44-AJ$11)/AJ$12)*AJ$18+AJ$17,1)) -> 13.3 | AD44: 817 | AE44: =IF(AD44="","",ROUND(((AD44-AJ$13)/AJ$14)*AJ$18+AJ$17,1)) -> 19.3 | AF44: 14 | AG44: =IF(AF44="","",ROUND(((AF44-AJ$15)/AJ$16)*AJ$18+AJ$17,1)) -> 14 | AM44: RB | AN44: Brian Robinson Jr. | AO44: =IFERROR(ROUND(MAX(0,AVERAGE(AR44,AT44)),1),"") -> 4.2 | AP44: =COUNT(AQ44,AS44) -> 2 | AQ44: 5 | AR44: =IF(AQ44="","",ROUND(((AQ44-BC$7)/BC$8)*BC$12+BC$11,1)) -> 4.5 | AS44: 14 | AT44: =IF(AS44="","",ROUND(((AS44-BC$9)/BC$10)*BC$12+BC$11,1)) -> 3.8
A45: RB | B45: RJ Harvey | C45: =IFERROR(ROUND(MAX(0,AVERAGE(F45,H45,J45,L45,N45)),1),"") -> 14.4 | D45: =COUNT(E45,G45,I45,K45,M45) -> 5 | E45: 16 | F45: =IF(E45="","",ROUND(((E45-Q$7)/Q$8)*Q$18+Q$17,1)) -> 14.4 | G45: 7 | H45: =IF(G45="","",ROUND(((G45-Q$9)/Q$10)*Q$18+Q$17,1)) -> 12.1 | I45: 20.5 | J45: =IF(I45="","",ROUND(((I45-Q$11)/Q$12)*Q$18+Q$17,1)) -> 17.1 | K45: 678 | L45: =IF(K45="","",ROUND(((K45-Q$13)/Q$14)*Q$18+Q$17,1)) -> 16.2 | M45: 12 | N45: =IF(M45="","",ROUND(((M45-Q$15)/Q$16)*Q$18+Q$17,1)) -> 12 | T45: RB | U45: RJ Harvey | V45: =IFERROR(MIN(ROUND(MAX(0,AVERAGE(Y45,AA45,AC45,AE45,AG45)),1),14.3),"") -> 12.5 | W45: =COUNT(X45,Z45,AB45,AD45,AF45) -> 5 | X45: 14 | Y45: =IF(X45="","",ROUND(((X45-AJ$7)/AJ$8)*AJ$18+AJ$17,1)) -> 13.3 | Z45: 6 | AA45: =IF(Z45="","",ROUND(((Z45-AJ$9)/AJ$10)*AJ$18+AJ$17,1)) -> 11 | AB45: 17.6 | AC45: =IF(AB45="","",ROUND(((AB45-AJ$11)/AJ$12)*AJ$18+AJ$17,1)) -> 15.1 | AD45: 581.1 | AE45: =IF(AD45="","",ROUND(((AD45-AJ$13)/AJ$14)*AJ$18+AJ$17,1)) -> 13.9 | AF45: 9 | AG45: =IF(AF45="","",ROUND(((AF45-AJ$15)/AJ$16)*AJ$18+AJ$17,1)) -> 9 | AM45: RB | AN45: MarShawn Lloyd | AO45: =IFERROR(ROUND(MAX(0,AVERAGE(AR45,AT45)),1),"") -> 3.9 | AP45: =COUNT(AQ45,AS45) -> 2 | AQ45: 6 | AR45: =IF(AQ45="","",ROUND(((AQ45-BC$7)/BC$8)*BC$12+BC$11,1)) -> 5.8 | AS45: 12 | AT45: =IF(AS45="","",ROUND(((AS45-BC$9)/BC$10)*BC$12+BC$11,1)) -> 2
A46: RB | B46: Alvin Kamara | C46: =IFERROR(ROUND(MAX(0,AVERAGE(F46,H46,J46,L46,N46)),1),"") -> 11.4 | D46: =COUNT(E46,G46,I46,K46,M46) -> 5 | E46: 13 | F46: =IF(E46="","",ROUND(((E46-Q$7)/Q$8)*Q$18+Q$17,1)) -> 11.9 | G46: 6 | H46: =IF(G46="","",ROUND(((G46-Q$9)/Q$10)*Q$18+Q$17,1)) -> 10.6 | I46: 16.7 | J46: =IF(I46="","",ROUND(((I46-Q$11)/Q$12)*Q$18+Q$17,1)) -> 13 | K46: 379 | L46: =IF(K46="","",ROUND(((K46-Q$13)/Q$14)*Q$18+Q$17,1)) -> 9.3 | M46: 12 | N46: =IF(M46="","",ROUND(((M46-Q$15)/Q$16)*Q$18+Q$17,1)) -> 12 | T46: RB | U46: Alvin Kamara | V46: =IFERROR(MIN(ROUND(MAX(0,AVERAGE(Y46,AA46,AC46,AE46,AG46)),1),11.3),"") -> 10.8 | W46: =COUNT(X46,Z46,AB46,AD46,AF46) -> 5 | X46: 12 | Y46: =IF(X46="","",ROUND(((X46-AJ$7)/AJ$8)*AJ$18+AJ$17,1)) -> 11.6 | Z46: 5.5 | AA46: =IF(Z46="","",ROUND(((Z46-AJ$9)/AJ$10)*AJ$18+AJ$17,1)) -> 10.2 | AB46: 15.3 | AC46: =IF(AB46="","",ROUND(((AB46-AJ$11)/AJ$12)*AJ$18+AJ$17,1)) -> 12.7 | AD46: 347.4 | AE46: =IF(AD46="","",ROUND(((AD46-AJ$13)/AJ$14)*AJ$18+AJ$17,1)) -> 8.6 | AF46: 11 | AG46: =IF(AF46="","",ROUND(((AF46-AJ$15)/AJ$16)*AJ$18+AJ$17,1)) -> 11 | AM46: RB | AN46: TreVeyon Henderson | AO46: =IFERROR(ROUND(MAX(0,AVERAGE(AR46,AT46)),1),"") -> 3.7 | AP46: =COUNT(AQ46,AS46) -> 2 | AQ46: 5 | AR46: =IF(AQ46="","",ROUND(((AQ46-BC$7)/BC$8)*BC$12+BC$11,1)) -> 4.5 | AS46: 13 | AT46: =IF(AS46="","",ROUND(((AS46-BC$9)/BC$10)*BC$12+BC$11,1)) -> 2.9
A47: RB | B47: Emmett Johnson | C47: =IFERROR(ROUND(MAX(0,AVERAGE(F47,H47,J47,L47,N47)),1),"") -> 11.3 | D47: =COUNT(E47,G47,I47,K47,M47) -> 4 | E47: 13 | F47: =IF(E47="","",ROUND(((E47-Q$7)/Q$8)*Q$18+Q$17,1)) -> 11.9 | H47: =IF(G47="","",ROUND(((G47-Q$9)/Q$10)*Q$18+Q$17,1)) | I47: 16.1 | J47: =IF(I47="","",ROUND(((I47-Q$11)/Q$12)*Q$18+Q$17,1)) -> 12.4 | K47: 534 | L47: =IF(K47="","",ROUND(((K47-Q$13)/Q$14)*Q$18+Q$17,1)) -> 12.9 | M47: 8 | N47: =IF(M47="","",ROUND(((M47-Q$15)/Q$16)*Q$18+Q$17,1)) -> 8 | T47: RB | U47: Emmett Johnson | V47: =IFERROR(MIN(ROUND(MAX(0,AVERAGE(Y47,AA47,AC47,AE47,AG47)),1),11.2),"") -> 11.2 | W47: =COUNT(X47,Z47,AB47,AD47,AF47) -> 4 | X47: 12 | Y47: =IF(X47="","",ROUND(((X47-AJ$7)/AJ$8)*AJ$18+AJ$17,1)) -> 11.6 | AA47: =IF(Z47="","",ROUND(((Z47-AJ$9)/AJ$10)*AJ$18+AJ$17,1)) | AB47: 16.1 | AC47: =IF(AB47="","",ROUND(((AB47-AJ$11)/AJ$12)*AJ$18+AJ$17,1)) -> 13.5 | AD47: 534 | AE47: =IF(AD47="","",ROUND(((AD47-AJ$13)/AJ$14)*AJ$18+AJ$17,1)) -> 12.8 | AF47: 8 | AG47: =IF(AF47="","",ROUND(((AF47-AJ$15)/AJ$16)*AJ$18+AJ$17,1)) -> 8 | AM47: RB | AN47: Kaelon Black | AO47: =IFERROR(ROUND(MAX(0,AVERAGE(AR47,AT47)),1),"") -> 2.8 | AP47: =COUNT(AQ47,AS47) -> 2 | AQ47: 5 | AR47: =IF(AQ47="","",ROUND(((AQ47-BC$7)/BC$8)*BC$12+BC$11,1)) -> 4.5 | AS47: 11 | AT47: =IF(AS47="","",ROUND(((AS47-BC$9)/BC$10)*BC$12+BC$11,1)) -> 1.1
A48: RB | B48: Brian Robinson Jr. | C48: =IFERROR(ROUND(MAX(0,AVERAGE(F48,H48,J48,L48,N48)),1),"") -> 9.7 | D48: =COUNT(E48,G48,I48,K48,M48) -> 5 | E48: 14 | F48: =IF(E48="","",ROUND(((E48-Q$7)/Q$8)*Q$18+Q$17,1)) -> 12.7 | G48: 5 | H48: =IF(G48="","",ROUND(((G48-Q$9)/Q$10)*Q$18+Q$17,1)) -> 9.1 | I48: 8 | J48: =IF(I48="","",ROUND(((I48-Q$11)/Q$12)*Q$18+Q$17,1)) -> 3.6 | K48: 374 | L48: =IF(K48="","",ROUND(((K48-Q$13)/Q$14)*Q$18+Q$17,1)) -> 9.2 | M48: 14 | N48: =IF(M48="","",ROUND(((M48-Q$15)/Q$16)*Q$18+Q$17,1)) -> 14 | T48: RB | U48: Brian Robinson Jr. | V48: =IFERROR(MIN(ROUND(MAX(0,AVERAGE(Y48,AA48,AC48,AE48,AG48)),1),9.7),"") -> 9.7 | W48: =COUNT(X48,Z48,AB48,AD48,AF48) -> 5 | X48: 13 | Y48: =IF(X48="","",ROUND(((X48-AJ$7)/AJ$8)*AJ$18+AJ$17,1)) -> 12.5 | Z48: 5 | AA48: =IF(Z48="","",ROUND(((Z48-AJ$9)/AJ$10)*AJ$18+AJ$17,1)) -> 9.5 | AB48: 8 | AC48: =IF(AB48="","",ROUND(((AB48-AJ$11)/AJ$12)*AJ$18+AJ$17,1)) -> 4.7 | AD48: 374 | AE48: =IF(AD48="","",ROUND(((AD48-AJ$13)/AJ$14)*AJ$18+AJ$17,1)) -> 9.2 | AF48: 14 | AG48: =IF(AF48="","",ROUND(((AF48-AJ$15)/AJ$16)*AJ$18+AJ$17,1)) -> 14 | AM48: RB | AN48: Alvin Kamara | AO48: =IFERROR(ROUND(MAX(0,AVERAGE(AR48,AT48)),1),"") -> 2.4 | AP48: =COUNT(AQ48,AS48) -> 2 | AQ48: 5 | AR48: =IF(AQ48="","",ROUND(((AQ48-BC$7)/BC$8)*BC$12+BC$11,1)) -> 4.5 | AS48: 10 | AT48: =IF(AS48="","",ROUND(((AS48-BC$9)/BC$10)*BC$12+BC$11,1)) -> 0.2
A49: RB | B49: Keaton Mitchell | C49: =IFERROR(ROUND(MAX(0,AVERAGE(F49,H49,J49,L49,N49)),1),"") -> 9.6 | D49: =COUNT(E49,G49,I49,K49,M49) -> 5 | E49: 14 | F49: =IF(E49="","",ROUND(((E49-Q$7)/Q$8)*Q$18+Q$17,1)) -> 12.7 | G49: 5 | H49: =IF(G49="","",ROUND(((G49-Q$9)/Q$10)*Q$18+Q$17,1)) -> 9.1 | I49: 1.4 | J49: =IF(I49="","",ROUND(((I49-Q$11)/Q$12)*Q$18+Q$17,1)) -> -3.6 | K49: 710 | L49: =IF(K49="","",ROUND(((K49-Q$13)/Q$14)*Q$18+Q$17,1)) -> 16.9 | M49: 13 | N49: =IF(M49="","",ROUND(((M49-Q$15)/Q$16)*Q$18+Q$17,1)) -> 13 | T49: RB | U49: Keaton Mitchell | V49: =IFERROR(MIN(ROUND(MAX(0,AVERAGE(Y49,AA49,AC49,AE49,AG49)),1),9.6),"") -> 8.9 | W49: =COUNT(X49,Z49,AB49,AD49,AF49) -> 5 | X49: 13 | Y49: =IF(X49="","",ROUND(((X49-AJ$7)/AJ$8)*AJ$18+AJ$17,1)) -> 12.5 | Z49: 4.6 | AA49: =IF(Z49="","",ROUND(((Z49-AJ$9)/AJ$10)*AJ$18+AJ$17,1)) -> 8.9 | AB49: 1.3 | AC49: =IF(AB49="","",ROUND(((AB49-AJ$11)/AJ$12)*AJ$18+AJ$17,1)) -> -2.5 | AD49: 659.3 | AE49: =IF(AD49="","",ROUND(((AD49-AJ$13)/AJ$14)*AJ$18+AJ$17,1)) -> 15.7 | AF49: 10 | AG49: =IF(AF49="","",ROUND(((AF49-AJ$15)/AJ$16)*AJ$18+AJ$17,1)) -> 10 | AM49: RB | AN49: RJ Harvey | AO49: =IFERROR(ROUND(MAX(0,AVERAGE(AR49,AT49)),1),"") -> 1.5 | AP49: =COUNT(AQ49,AS49) -> 2 | AQ49: 5 | AR49: =IF(AQ49="","",ROUND(((AQ49-BC$7)/BC$8)*BC$12+BC$11,1)) -> 4.5 | AS49: 8 | AT49: =IF(AS49="","",ROUND(((AS49-BC$9)/BC$10)*BC$12+BC$11,1)) -> -1.5
A50: RB | B50: MarShawn Lloyd | C50: =IFERROR(ROUND(MAX(0,AVERAGE(F50,H50,J50,L50,N50)),1),"") -> 9.2 | D50: =COUNT(E50,G50,I50,K50,M50) -> 5 | E50: 17 | F50: =IF(E50="","",ROUND(((E50-Q$7)/Q$8)*Q$18+Q$17,1)) -> 15.3 | G50: 6 | H50: =IF(G50="","",ROUND(((G50-Q$9)/Q$10)*Q$18+Q$17,1)) -> 10.6 | I50: 6.7 | J50: =IF(I50="","",ROUND(((I50-Q$11)/Q$12)*Q$18+Q$17,1)) -> 2.2 | K50: 150 | L50: =IF(K50="","",ROUND(((K50-Q$13)/Q$14)*Q$18+Q$17,1)) -> 4 | M50: 14 | N50: =IF(M50="","",ROUND(((M50-Q$15)/Q$16)*Q$18+Q$17,1)) -> 14 | T50: RB | U50: MarShawn Lloyd | V50: =IFERROR(MIN(ROUND(MAX(0,AVERAGE(Y50,AA50,AC50,AE50,AG50)),1),9.2),"") -> 9 | W50: =COUNT(X50,Z50,AB50,AD50,AF50) -> 5 | X50: 15 | Y50: =IF(X50="","",ROUND(((X50-AJ$7)/AJ$8)*AJ$18+AJ$17,1)) -> 14.2 | Z50: 6 | AA50: =IF(Z50="","",ROUND(((Z50-AJ$9)/AJ$10)*AJ$18+AJ$17,1)) -> 11 | AB50: 6.2 | AC50: =IF(AB50="","",ROUND(((AB50-AJ$11)/AJ$12)*AJ$18+AJ$17,1)) -> 2.8 | AD50: 139.3 | AE50: =IF(AD50="","",ROUND(((AD50-AJ$13)/AJ$14)*AJ$18+AJ$17,1)) -> 3.8 | AF50: 13 | AG50: =IF(AF50="","",ROUND(((AF50-AJ$15)/AJ$16)*AJ$18+AJ$17,1)) -> 13 | AM50: RB | AN50: Jadarian Price | AO50: =IFERROR(ROUND(MAX(0,AVERAGE(AR50,AT50)),1),"") -> 0.8 | AP50: =COUNT(AQ50,AS50) -> 2 | AQ50: 6 | AR50: =IF(AQ50="","",ROUND(((AQ50-BC$7)/BC$8)*BC$12+BC$11,1)) -> 5.8 | AS50: 5 | AT50: =IF(AS50="","",ROUND(((AS50-BC$9)/BC$10)*BC$12+BC$11,1)) -> -4.2
A51: RB | B51: Rachaad White | C51: =IFERROR(ROUND(MAX(0,AVERAGE(F51,H51,J51,L51,N51)),1),"") -> 8.8 | D51: =COUNT(E51,G51,I51,K51,M51) -> 4 | E51: 9 | F51: =IF(E51="","",ROUND(((E51-Q$7)/Q$8)*Q$18+Q$17,1)) -> 8.5 | G51: 5 | H51: =IF(G51="","",ROUND(((G51-Q$9)/Q$10)*Q$18+Q$17,1)) -> 9.1 | J51: =IF(I51="","",ROUND(((I51-Q$11)/Q$12)*Q$18+Q$17,1)) | K51: 262 | L51: =IF(K51="","",ROUND(((K51-Q$13)/Q$14)*Q$18+Q$17,1)) -> 6.6 | M51: 11 | N51: =IF(M51="","",ROUND(((M51-Q$15)/Q$16)*Q$18+Q$17,1)) -> 11 | T51: RB | U51: Rachaad White | V51: =IFERROR(MIN(ROUND(MAX(0,AVERAGE(Y51,AA51,AC51,AE51,AG51)),1),8.8),"") -> 8 | W51: =COUNT(X51,Z51,AB51,AD51,AF51) -> 4 | X51: 8 | Y51: =IF(X51="","",ROUND(((X51-AJ$7)/AJ$8)*AJ$18+AJ$17,1)) -> 8.3 | Z51: 4.4 | AA51: =IF(Z51="","",ROUND(((Z51-AJ$9)/AJ$10)*AJ$18+AJ$17,1)) -> 8.6 | AC51: =IF(AB51="","",ROUND(((AB51-AJ$11)/AJ$12)*AJ$18+AJ$17,1)) | AD51: 232.9 | AE51: =IF(AD51="","",ROUND(((AD51-AJ$13)/AJ$14)*AJ$18+AJ$17,1)) -> 5.9 | AF51: 9 | AG51: =IF(AF51="","",ROUND(((AF51-AJ$15)/AJ$16)*AJ$18+AJ$17,1)) -> 9
A52: RB | B52: Jadarian Price | C52: =IFERROR(ROUND(MAX(0,AVERAGE(F52,H52,J52,L52,N52)),1),"") -> 8.3 | D52: =COUNT(E52,G52,I52,K52,M52) -> 5 | E52: 12 | F52: =IF(E52="","",ROUND(((E52-Q$7)/Q$8)*Q$18+Q$17,1)) -> 11 | G52: 6 | H52: =IF(G52="","",ROUND(((G52-Q$9)/Q$10)*Q$18+Q$17,1)) -> 10.6 | I52: 14.2 | J52: =IF(I52="","",ROUND(((I52-Q$11)/Q$12)*Q$18+Q$17,1)) -> 10.3 | K52: 186 | L52: =IF(K52="","",ROUND(((K52-Q$13)/Q$14)*Q$18+Q$17,1)) -> 4.8 | M52: 5 | N52: =IF(M52="","",ROUND(((M52-Q$15)/Q$16)*Q$18+Q$17,1)) -> 5 | T52: RB | U52: Jadarian Price | V52: =IFERROR(MIN(ROUND(MAX(0,AVERAGE(Y52,AA52,AC52,AE52,AG52)),1),8.3),"") -> 8.3 | W52: =COUNT(X52,Z52,AB52,AD52,AF52) -> 5 | X52: 11 | Y52: =IF(X52="","",ROUND(((X52-AJ$7)/AJ$8)*AJ$18+AJ$17,1)) -> 10.8 | Z52: 6 | AA52: =IF(Z52="","",ROUND(((Z52-AJ$9)/AJ$10)*AJ$18+AJ$17,1)) -> 11 | AB52: 14.2 | AC52: =IF(AB52="","",ROUND(((AB52-AJ$11)/AJ$12)*AJ$18+AJ$17,1)) -> 11.5 | AD52: 186 | AE52: =IF(AD52="","",ROUND(((AD52-AJ$13)/AJ$14)*AJ$18+AJ$17,1)) -> 4.9 | AF52: 5 | AG52: =IF(AF52="","",ROUND(((AF52-AJ$15)/AJ$16)*AJ$18+AJ$17,1)) -> 5
A53: RB | B53: Kaelon Black | C53: =IFERROR(ROUND(MAX(0,AVERAGE(F53,H53,J53,L53,N53)),1),"") -> 8.3 | D53: =COUNT(E53,G53,I53,K53,M53) -> 5 | E53: 13 | F53: =IF(E53="","",ROUND(((E53-Q$7)/Q$8)*Q$18+Q$17,1)) -> 11.9 | G53: 5 | H53: =IF(G53="","",ROUND(((G53-Q$9)/Q$10)*Q$18+Q$17,1)) -> 9.1 | I53: 1.4 | J53: =IF(I53="","",ROUND(((I53-Q$11)/Q$12)*Q$18+Q$17,1)) -> -3.6 | K53: 539 | L53: =IF(K53="","",ROUND(((K53-Q$13)/Q$14)*Q$18+Q$17,1)) -> 13 | M53: 11 | N53: =IF(M53="","",ROUND(((M53-Q$15)/Q$16)*Q$18+Q$17,1)) -> 11 | T53: RB | U53: Kaelon Black | V53: =IFERROR(MIN(ROUND(MAX(0,AVERAGE(Y53,AA53,AC53,AE53,AG53)),1),8.2),"") -> 8.2 | W53: =COUNT(X53,Z53,AB53,AD53,AF53) -> 5 | X53: 12 | Y53: =IF(X53="","",ROUND(((X53-AJ$7)/AJ$8)*AJ$18+AJ$17,1)) -> 11.6 | Z53: 5 | AA53: =IF(Z53="","",ROUND(((Z53-AJ$9)/AJ$10)*AJ$18+AJ$17,1)) -> 9.5 | AB53: 1.4 | AC53: =IF(AB53="","",ROUND(((AB53-AJ$11)/AJ$12)*AJ$18+AJ$17,1)) -> -2.4 | AD53: 539 | AE53: =IF(AD53="","",ROUND(((AD53-AJ$13)/AJ$14)*AJ$18+AJ$17,1)) -> 12.9 | AF53: 11 | AG53: =IF(AF53="","",ROUND(((AF53-AJ$15)/AJ$16)*AJ$18+AJ$17,1)) -> 11
A54: RB | B54: Jonathon Brooks | C54: =IFERROR(ROUND(MAX(0,AVERAGE(F54,H54,J54,L54,N54)),1),"") -> 8.1 | D54: =COUNT(E54,G54,I54,K54,M54) -> 3 | E54: 8 | F54: =IF(E54="","",ROUND(((E54-Q$7)/Q$8)*Q$18+Q$17,1)) -> 7.6 | H54: =IF(G54="","",ROUND(((G54-Q$9)/Q$10)*Q$18+Q$17,1)) | J54: =IF(I54="","",ROUND(((I54-Q$11)/Q$12)*Q$18+Q$17,1)) | K54: 489 | L54: =IF(K54="","",ROUND(((K54-Q$13)/Q$14)*Q$18+Q$17,1)) -> 11.8 | M54: 5 | N54: =IF(M54="","",ROUND(((M54-Q$15)/Q$16)*Q$18+Q$17,1)) -> 5 | T54: RB | U54: Jonathon Brooks | V54: =IFERROR(MIN(ROUND(MAX(0,AVERAGE(Y54,AA54,AC54,AE54,AG54)),1),8.1),"") -> 8.1 | W54: =COUNT(X54,Z54,AB54,AD54,AF54) -> 3 | X54: 7 | Y54: =IF(X54="","",ROUND(((X54-AJ$7)/AJ$8)*AJ$18+AJ$17,1)) -> 7.4 | AA54: =IF(Z54="","",ROUND(((Z54-AJ$9)/AJ$10)*AJ$18+AJ$17,1)) | AC54: =IF(AB54="","",ROUND(((AB54-AJ$11)/AJ$12)*AJ$18+AJ$17,1)) | AD54: 489 | AE54: =IF(AD54="","",ROUND(((AD54-AJ$13)/AJ$14)*AJ$18+AJ$17,1)) -> 11.8 | AF54: 5 | AG54: =IF(AF54="","",ROUND(((AF54-AJ$15)/AJ$16)*AJ$18+AJ$17,1)) -> 5
A55: RB | B55: Chris Rodriguez Jr. | C55: =IFERROR(ROUND(MAX(0,AVERAGE(F55,H55,J55,L55,N55)),1),"") -> 8 | D55: =COUNT(E55,G55,I55,K55,M55) -> 3 | E55: 8 | F55: =IF(E55="","",ROUND(((E55-Q$7)/Q$8)*Q$18+Q$17,1)) -> 7.6 | H55: =IF(G55="","",ROUND(((G55-Q$9)/Q$10)*Q$18+Q$17,1)) | J55: =IF(I55="","",ROUND(((I55-Q$11)/Q$12)*Q$18+Q$17,1)) | K55: 429 | L55: =IF(K55="","",ROUND(((K55-Q$13)/Q$14)*Q$18+Q$17,1)) -> 10.4 | M55: 6 | N55: =IF(M55="","",ROUND(((M55-Q$15)/Q$16)*Q$18+Q$17,1)) -> 6 | T55: RB | U55: Tyler Allgeier | V55: =IFERROR(MIN(ROUND(MAX(0,AVERAGE(Y55,AA55,AC55,AE55,AG55)),1),7.8),"") -> 7.6 | W55: =COUNT(X55,Z55,AB55,AD55,AF55) -> 4 | X55: 12 | Y55: =IF(X55="","",ROUND(((X55-AJ$7)/AJ$8)*AJ$18+AJ$17,1)) -> 11.6 | AA55: =IF(Z55="","",ROUND(((Z55-AJ$9)/AJ$10)*AJ$18+AJ$17,1)) | AB55: 1.9 | AC55: =IF(AB55="","",ROUND(((AB55-AJ$11)/AJ$12)*AJ$18+AJ$17,1)) -> -1.9 | AD55: 474.5 | AE55: =IF(AD55="","",ROUND(((AD55-AJ$13)/AJ$14)*AJ$18+AJ$17,1)) -> 11.5 | AF55: 9 | AG55: =IF(AF55="","",ROUND(((AF55-AJ$15)/AJ$16)*AJ$18+AJ$17,1)) -> 9
A56: RB | B56: Tyler Allgeier | C56: =IFERROR(ROUND(MAX(0,AVERAGE(F56,H56,J56,L56,N56)),1),"") -> 7.9 | D56: =COUNT(E56,G56,I56,K56,M56) -> 4 | E56: 13 | F56: =IF(E56="","",ROUND(((E56-Q$7)/Q$8)*Q$18+Q$17,1)) -> 11.9 | H56: =IF(G56="","",ROUND(((G56-Q$9)/Q$10)*Q$18+Q$17,1)) | I56: 2.1 | J56: =IF(I56="","",ROUND(((I56-Q$11)/Q$12)*Q$18+Q$17,1)) -> -2.8 | K56: 514 | L56: =IF(K56="","",ROUND(((K56-Q$13)/Q$14)*Q$18+Q$17,1)) -> 12.4 | M56: 10 | N56: =IF(M56="","",ROUND(((M56-Q$15)/Q$16)*Q$18+Q$17,1)) -> 10 | T56: RB | U56: Samaje Perine | V56: =IFERROR(MIN(ROUND(MAX(0,AVERAGE(Y56,AA56,AC56,AE56,AG56)),1),7.3),"") -> 6.2 | W56: =COUNT(X56,Z56,AB56,AD56,AF56) -> 3 | X56: 7 | Y56: =IF(X56="","",ROUND(((X56-AJ$7)/AJ$8)*AJ$18+AJ$17,1)) -> 7.4 | AA56: =IF(Z56="","",ROUND(((Z56-AJ$9)/AJ$10)*AJ$18+AJ$17,1)) | AC56: =IF(AB56="","",ROUND(((AB56-AJ$11)/AJ$12)*AJ$18+AJ$17,1)) | AD56: 152.2 | AE56: =IF(AD56="","",ROUND(((AD56-AJ$13)/AJ$14)*AJ$18+AJ$17,1)) -> 4.1 | AF56: 7 | AG56: =IF(AF56="","",ROUND(((AF56-AJ$15)/AJ$16)*AJ$18+AJ$17,1)) -> 7
A57: RB | B57: Samaje Perine | C57: =IFERROR(ROUND(MAX(0,AVERAGE(F57,H57,J57,L57,N57)),1),"") -> 7.4 | D57: =COUNT(E57,G57,I57,K57,M57) -> 3 | E57: 8 | F57: =IF(E57="","",ROUND(((E57-Q$7)/Q$8)*Q$18+Q$17,1)) -> 7.6 | H57: =IF(G57="","",ROUND(((G57-Q$9)/Q$10)*Q$18+Q$17,1)) | J57: =IF(I57="","",ROUND(((I57-Q$11)/Q$12)*Q$18+Q$17,1)) | K57: 174 | L57: =IF(K57="","",ROUND(((K57-Q$13)/Q$14)*Q$18+Q$17,1)) -> 4.6 | M57: 10 | N57: =IF(M57="","",ROUND(((M57-Q$15)/Q$16)*Q$18+Q$17,1)) -> 10 | T57: RB | U57: Mike Washington Jr. | V57: =IFERROR(MIN(ROUND(MAX(0,AVERAGE(Y57,AA57,AC57,AE57,AG57)),1),6.8),"") -> 6.8 | W57: =COUNT(X57,Z57,AB57,AD57,AF57) -> 4 | X57: 13 | Y57: =IF(X57="","",ROUND(((X57-AJ$7)/AJ$8)*AJ$18+AJ$17,1)) -> 12.5 | AA57: =IF(Z57="","",ROUND(((Z57-AJ$9)/AJ$10)*AJ$18+AJ$17,1)) | AB57: 2 | AC57: =IF(AB57="","",ROUND(((AB57-AJ$11)/AJ$12)*AJ$18+AJ$17,1)) -> -1.8 | AD57: 519 | AE57: =IF(AD57="","",ROUND(((AD57-AJ$13)/AJ$14)*AJ$18+AJ$17,1)) -> 12.5 | AF57: 5 | AG57: =IF(AF57="","",ROUND(((AF57-AJ$15)/AJ$16)*AJ$18+AJ$17,1)) -> 5
A58: RB | B58: Mike Washington Jr. | C58: =IFERROR(ROUND(MAX(0,AVERAGE(F58,H58,J58,L58,N58)),1),"") -> 6.8 | D58: =COUNT(E58,G58,I58,K58,M58) -> 4 | E58: 14 | F58: =IF(E58="","",ROUND(((E58-Q$7)/Q$8)*Q$18+Q$17,1)) -> 12.7 | H58: =IF(G58="","",ROUND(((G58-Q$9)/Q$10)*Q$18+Q$17,1)) | I58: 2 | J58: =IF(I58="","",ROUND(((I58-Q$11)/Q$12)*Q$18+Q$17,1)) -> -2.9 | K58: 519 | L58: =IF(K58="","",ROUND(((K58-Q$13)/Q$14)*Q$18+Q$17,1)) -> 12.5 | M58: 5 | N58: =IF(M58="","",ROUND(((M58-Q$15)/Q$16)*Q$18+Q$17,1)) -> 5 | T58: RB | U58: Kendre Miller | V58: =IFERROR(MIN(ROUND(MAX(0,AVERAGE(Y58,AA58,AC58,AE58,AG58)),1),6.4),"") -> 6.4 | W58: =COUNT(X58,Z58,AB58,AD58,AF58) -> 3 | X58: 7 | Y58: =IF(X58="","",ROUND(((X58-AJ$7)/AJ$8)*AJ$18+AJ$17,1)) -> 7.4 | AA58: =IF(Z58="","",ROUND(((Z58-AJ$9)/AJ$10)*AJ$18+AJ$17,1)) | AC58: =IF(AB58="","",ROUND(((AB58-AJ$11)/AJ$12)*AJ$18+AJ$17,1)) | AD58: 184 | AE58: =IF(AD58="","",ROUND(((AD58-AJ$13)/AJ$14)*AJ$18+AJ$17,1)) -> 4.8 | AF58: 7 | AG58: =IF(AF58="","",ROUND(((AF58-AJ$15)/AJ$16)*AJ$18+AJ$17,1)) -> 7
A59: RB | B59: Tyjae Spears | C59: =IFERROR(ROUND(MAX(0,AVERAGE(F59,H59,J59,L59,N59)),1),"") -> 6.8 | D59: =COUNT(E59,G59,I59,K59,M59) -> 3 | E59: 8 | F59: =IF(E59="","",ROUND(((E59-Q$7)/Q$8)*Q$18+Q$17,1)) -> 7.6 | H59: =IF(G59="","",ROUND(((G59-Q$9)/Q$10)*Q$18+Q$17,1)) | J59: =IF(I59="","",ROUND(((I59-Q$11)/Q$12)*Q$18+Q$17,1)) | K59: 226 | L59: =IF(K59="","",ROUND(((K59-Q$13)/Q$14)*Q$18+Q$17,1)) -> 5.8 | M59: 7 | N59: =IF(M59="","",ROUND(((M59-Q$15)/Q$16)*Q$18+Q$17,1)) -> 7 | T59: RB | U59: Rico Dowdle | V59: =IFERROR(MIN(ROUND(MAX(0,AVERAGE(Y59,AA59,AC59,AE59,AG59)),1),6),"") -> 5.7 | W59: =COUNT(X59,Z59,AB59,AD59,AF59) -> 4 | X59: 8 | Y59: =IF(X59="","",ROUND(((X59-AJ$7)/AJ$8)*AJ$18+AJ$17,1)) -> 8.3 | AA59: =IF(Z59="","",ROUND(((Z59-AJ$9)/AJ$10)*AJ$18+AJ$17,1)) | AB59: 1.7 | AC59: =IF(AB59="","",ROUND(((AB59-AJ$11)/AJ$12)*AJ$18+AJ$17,1)) -> -2.1 | AD59: 430.2 | AE59: =IF(AD59="","",ROUND(((AD59-AJ$13)/AJ$14)*AJ$18+AJ$17,1)) -> 10.4 | AF59: 6 | AG59: =IF(AF59="","",ROUND(((AF59-AJ$15)/AJ$16)*AJ$18+AJ$17,1)) -> 6
A60: RB | B60: Kendre Miller | C60: =IFERROR(ROUND(MAX(0,AVERAGE(F60,H60,J60,L60,N60)),1),"") -> 6.5 | D60: =COUNT(E60,G60,I60,K60,M60) -> 3 | E60: 8 | F60: =IF(E60="","",ROUND(((E60-Q$7)/Q$8)*Q$18+Q$17,1)) -> 7.6 | H60: =IF(G60="","",ROUND(((G60-Q$9)/Q$10)*Q$18+Q$17,1)) | J60: =IF(I60="","",ROUND(((I60-Q$11)/Q$12)*Q$18+Q$17,1)) | K60: 184 | L60: =IF(K60="","",ROUND(((K60-Q$13)/Q$14)*Q$18+Q$17,1)) -> 4.8 | M60: 7 | N60: =IF(M60="","",ROUND(((M60-Q$15)/Q$16)*Q$18+Q$17,1)) -> 7 | T60: RB | U60: Jonah Coleman | V60: =IFERROR(MIN(ROUND(MAX(0,AVERAGE(Y60,AA60,AC60,AE60,AG60)),1),5.6),"") -> 5.6 | W60: =COUNT(X60,Z60,AB60,AD60,AF60) -> 4 | X60: 9 | Y60: =IF(X60="","",ROUND(((X60-AJ$7)/AJ$8)*AJ$18+AJ$17,1)) -> 9.1 | AA60: =IF(Z60="","",ROUND(((Z60-AJ$9)/AJ$10)*AJ$18+AJ$17,1)) | AB60: 3.7 | AC60: =IF(AB60="","",ROUND(((AB60-AJ$11)/AJ$12)*AJ$18+AJ$17,1)) -> 0.1 | AD60: 208 | AE60: =IF(AD60="","",ROUND(((AD60-AJ$13)/AJ$14)*AJ$18+AJ$17,1)) -> 5.4 | AF60: 9 | AG60: =IF(AF60="","",ROUND(((AF60-AJ$15)/AJ$16)*AJ$18+AJ$17,1)) -> 9
A61: RB | B61: Rico Dowdle | C61: =IFERROR(ROUND(MAX(0,AVERAGE(F61,H61,J61,L61,N61)),1),"") -> 6.1 | D61: =COUNT(E61,G61,I61,K61,M61) -> 4 | E61: 9 | F61: =IF(E61="","",ROUND(((E61-Q$7)/Q$8)*Q$18+Q$17,1)) -> 8.5 | H61: =IF(G61="","",ROUND(((G61-Q$9)/Q$10)*Q$18+Q$17,1)) | I61: 1.9 | J61: =IF(I61="","",ROUND(((I61-Q$11)/Q$12)*Q$18+Q$17,1)) -> -3 | K61: 484 | L61: =IF(K61="","",ROUND(((K61-Q$13)/Q$14)*Q$18+Q$17,1)) -> 11.7 | M61: 7 | N61: =IF(M61="","",ROUND(((M61-Q$15)/Q$16)*Q$18+Q$17,1)) -> 7 | T61: RB | U61: Sean Tucker | V61: =IFERROR(MIN(ROUND(MAX(0,AVERAGE(Y61,AA61,AC61,AE61,AG61)),1),3.8),"") -> 3.8 | W61: =COUNT(X61,Z61,AB61,AD61,AF61) -> 3 | X61: 4 | Y61: =IF(X61="","",ROUND(((X61-AJ$7)/AJ$8)*AJ$18+AJ$17,1)) -> 4.9 | AA61: =IF(Z61="","",ROUND(((Z61-AJ$9)/AJ$10)*AJ$18+AJ$17,1)) | AC61: =IF(AB61="","",ROUND(((AB61-AJ$11)/AJ$12)*AJ$18+AJ$17,1)) | AD61: 166 | AE61: =IF(AD61="","",ROUND(((AD61-AJ$13)/AJ$14)*AJ$18+AJ$17,1)) -> 4.4 | AF61: 2 | AG61: =IF(AF61="","",ROUND(((AF61-AJ$15)/AJ$16)*AJ$18+AJ$17,1)) -> 2
A62: RB | B62: Jonah Coleman | C62: =IFERROR(ROUND(MAX(0,AVERAGE(F62,H62,J62,L62,N62)),1),"") -> 5.7 | D62: =COUNT(E62,G62,I62,K62,M62) -> 4 | E62: 10 | F62: =IF(E62="","",ROUND(((E62-Q$7)/Q$8)*Q$18+Q$17,1)) -> 9.3 | H62: =IF(G62="","",ROUND(((G62-Q$9)/Q$10)*Q$18+Q$17,1)) | I62: 3.7 | J62: =IF(I62="","",ROUND(((I62-Q$11)/Q$12)*Q$18+Q$17,1)) -> -1.1 | K62: 208 | L62: =IF(K62="","",ROUND(((K62-Q$13)/Q$14)*Q$18+Q$17,1)) -> 5.4 | M62: 9 | N62: =IF(M62="","",ROUND(((M62-Q$15)/Q$16)*Q$18+Q$17,1)) -> 9 | T62: RB | U62: Ray Davis | V62: =IFERROR(MIN(ROUND(MAX(0,AVERAGE(Y62,AA62,AC62,AE62,AG62)),1),3.7),"") -> 3.6 | W62: =COUNT(X62,Z62,AB62,AD62,AF62) -> 3 | X62: 5 | Y62: =IF(X62="","",ROUND(((X62-AJ$7)/AJ$8)*AJ$18+AJ$17,1)) -> 5.7 | AA62: =IF(Z62="","",ROUND(((Z62-AJ$9)/AJ$10)*AJ$18+AJ$17,1)) | AC62: =IF(AB62="","",ROUND(((AB62-AJ$11)/AJ$12)*AJ$18+AJ$17,1)) | AD62: 158 | AE62: =IF(AD62="","",ROUND(((AD62-AJ$13)/AJ$14)*AJ$18+AJ$17,1)) -> 4.2 | AF62: 1 | AG62: =IF(AF62="","",ROUND(((AF62-AJ$15)/AJ$16)*AJ$18+AJ$17,1)) -> 1
A63: RB | B63: Sean Tucker | C63: =IFERROR(ROUND(MAX(0,AVERAGE(F63,H63,J63,L63,N63)),1),"") -> 3.8 | D63: =COUNT(E63,G63,I63,K63,M63) -> 3 | E63: 5 | F63: =IF(E63="","",ROUND(((E63-Q$7)/Q$8)*Q$18+Q$17,1)) -> 5.1 | H63: =IF(G63="","",ROUND(((G63-Q$9)/Q$10)*Q$18+Q$17,1)) | J63: =IF(I63="","",ROUND(((I63-Q$11)/Q$12)*Q$18+Q$17,1)) | K63: 166 | L63: =IF(K63="","",ROUND(((K63-Q$13)/Q$14)*Q$18+Q$17,1)) -> 4.4 | M63: 2 | N63: =IF(M63="","",ROUND(((M63-Q$15)/Q$16)*Q$18+Q$17,1)) -> 2 | T63: RB | U63: Jaylen Wright | V63: =IFERROR(MIN(ROUND(MAX(0,AVERAGE(Y63,AA63,AC63,AE63,AG63)),1),2.1),"") -> 2.1 | W63: =COUNT(X63,Z63,AB63,AD63,AF63) -> 3 | X63: 2 | Y63: =IF(X63="","",ROUND(((X63-AJ$7)/AJ$8)*AJ$18+AJ$17,1)) -> 3.2 | AA63: =IF(Z63="","",ROUND(((Z63-AJ$9)/AJ$10)*AJ$18+AJ$17,1)) | AB63: 1 | AC63: =IF(AB63="","",ROUND(((AB63-AJ$11)/AJ$12)*AJ$18+AJ$17,1)) -> -2.9 | AE63: =IF(AD63="","",ROUND(((AD63-AJ$13)/AJ$14)*AJ$18+AJ$17,1)) | AF63: 6 | AG63: =IF(AF63="","",ROUND(((AF63-AJ$15)/AJ$16)*AJ$18+AJ$17,1)) -> 6
A64: RB | B64: Ray Davis | C64: =IFERROR(ROUND(MAX(0,AVERAGE(F64,H64,J64,L64,N64)),1),"") -> 3.7 | D64: =COUNT(E64,G64,I64,K64,M64) -> 3 | E64: 6 | F64: =IF(E64="","",ROUND(((E64-Q$7)/Q$8)*Q$18+Q$17,1)) -> 5.9 | H64: =IF(G64="","",ROUND(((G64-Q$9)/Q$10)*Q$18+Q$17,1)) | J64: =IF(I64="","",ROUND(((I64-Q$11)/Q$12)*Q$18+Q$17,1)) | K64: 158 | L64: =IF(K64="","",ROUND(((K64-Q$13)/Q$14)*Q$18+Q$17,1)) -> 4.2 | M64: 1 | N64: =IF(M64="","",ROUND(((M64-Q$15)/Q$16)*Q$18+Q$17,1)) -> 1
A65: RB | B65: Jaylen Wright | C65: =IFERROR(ROUND(MAX(0,AVERAGE(F65,H65,J65,L65,N65)),1),"") -> 2.2 | D65: =COUNT(E65,G65,I65,K65,M65) -> 3 | E65: 3 | F65: =IF(E65="","",ROUND(((E65-Q$7)/Q$8)*Q$18+Q$17,1)) -> 3.4 | H65: =IF(G65="","",ROUND(((G65-Q$9)/Q$10)*Q$18+Q$17,1)) | I65: 1.2 | J65: =IF(I65="","",ROUND(((I65-Q$11)/Q$12)*Q$18+Q$17,1)) -> -3.8 | L65: =IF(K65="","",ROUND(((K65-Q$13)/Q$14)*Q$18+Q$17,1)) | M65: 7 | N65: =IF(M65="","",ROUND(((M65-Q$15)/Q$16)*Q$18+Q$17,1)) -> 7

Sheet WR
A1: WR — PPR | P1: Site stats (this week) | T1: WR — HALF | AI1: Site stats (this week) | AM1: WR — STD | BB1: Site stats (this week)
A2: RSJ Half-PPR and FP full-PPR are estimated (purple) when reliable — see Methodology. | T2: RSJ Half-PPR and FP full-PPR are estimated (purple) when reliable — see Methodology. | AM2: Standard scoring uses a 2-source minimum (CBS + USA Today only), not the 3-source minimum used everywhere else on this sheet — only 2 sites publish Standard at all, so 3 would mean this section is always empty.
A5: POS | B5: Player | C5: AVG (Normalized) | D5: # Sources | E5: YAH (C) | F5: YAH (Norm) | G5: CBS (C) | H5: CBS (Norm) | I5: FP (C) | J5: FP (Norm) | K5: RSJ (C) | L5: RSJ (Norm) | M5: USA (C) | N5: USA (Norm) | T5: POS | U5: Player | V5: AVG (Normalized) | W5: # Sources | X5: YAH (C) | Y5: YAH (Norm) | Z5: CBS (C) | AA5: CBS (Norm) | AB5: FP (C) | AC5: FP (Norm) | AD5: RSJ (C) | AE5: RSJ (Norm) | AF5: USA (C) | AG5: USA (Norm) | AM5: POS | AN5: Player | AO5: AVG (Normalized) | AP5: # Sources | AQ5: CBS (C) | AR5: CBS (Norm) | AS5: USA (C) | AT5: USA (Norm)
A6: WR | B6: Jaxon Smith-Njigba | C6: =IFERROR(ROUND(MAX(0,AVERAGE(F6,H6,J6,L6,N6)),1),"") -> 76 | D6: =COUNT(E6,G6,I6,K6,M6) -> 5 | E6: 85 | F6: =IF(E6="","",ROUND(((E6-Q$7)/Q$8)*Q$18+Q$17,1)) -> 76 | G6: 52 | H6: =IF(G6="","",ROUND(((G6-Q$9)/Q$10)*Q$18+Q$17,1)) -> 72.7 | I6: 59.4 | J6: =IF(I6="","",ROUND(((I6-Q$11)/Q$12)*Q$18+Q$17,1)) -> 75.1 | K6: 3093 | L6: =IF(K6="","",ROUND(((K6-Q$13)/Q$14)*Q$18+Q$17,1)) -> 80 | M6: 76 | N6: =IF(M6="","",ROUND(((M6-Q$15)/Q$16)*Q$18+Q$17,1)) -> 76 | T6: WR | U6: Jaxon Smith-Njigba | V6: =IFERROR(MIN(ROUND(MAX(0,AVERAGE(Y6,AA6,AC6,AE6,AG6)),1),75.9),"") -> 74.1 | W6: =COUNT(X6,Z6,AB6,AD6,AF6) -> 5 | X6: 82 | Y6: =IF(X6="","",ROUND(((X6-AJ$7)/AJ$8)*AJ$18+AJ$17,1)) -> 74.2 | Z6: 50 | AA6: =IF(Z6="","",ROUND(((Z6-AJ$9)/AJ$10)*AJ$18+AJ$17,1)) -> 71.7 | AB6: 57.1 | AC6: =IF(AB6="","",ROUND(((AB6-AJ$11)/AJ$12)*AJ$18+AJ$17,1)) -> 74.6 | AD6: 2974 | AE6: =IF(AD6="","",ROUND(((AD6-AJ$13)/AJ$14)*AJ$18+AJ$17,1)) -> 76.8 | AF6: 73 | AG6: =IF(AF6="","",ROUND(((AF6-AJ$15)/AJ$16)*AJ$18+AJ$17,1)) -> 73 | AM6: WR | AN6: Jaxon Smith-Njigba | AO6: =IFERROR(ROUND(MAX(0,AVERAGE(AR6,AT6)),1),"") -> 53 | AP6: =COUNT(AQ6,AS6) -> 2 | AQ6: 48 | AR6: =IF(AQ6="","",ROUND(((AQ6-BC$7)/BC$8)*BC$12+BC$11,1)) -> 55.1 | AS6: 71 | AT6: =IF(AS6="","",ROUND(((AS6-BC$9)/BC$10)*BC$12+BC$11,1)) -> 50.9
A7: WR | B7: Puka Nacua | C7: =IFERROR(ROUND(MAX(0,AVERAGE(F7,H7,J7,L7,N7)),1),"") -> 71.5 | D7: =COUNT(E7,G7,I7,K7,M7) -> 5 | E7: 76 | F7: =IF(E7="","",ROUND(((E7-Q$7)/Q$8)*Q$18+Q$17,1)) -> 67.9 | G7: 48 | H7: =IF(G7="","",ROUND(((G7-Q$9)/Q$10)*Q$18+Q$17,1)) -> 66.5 | I7: 56.2 | J7: =IF(I7="","",ROUND(((I7-Q$11)/Q$12)*Q$18+Q$17,1)) -> 70.5 | K7: 2995 | L7: =IF(K7="","",ROUND(((K7-Q$13)/Q$14)*Q$18+Q$17,1)) -> 77.4 | M7: 75 | N7: =IF(M7="","",ROUND(((M7-Q$15)/Q$16)*Q$18+Q$17,1)) -> 75 | P7: YAH Mean | Q7: =IFERROR(AVERAGE(E6:E400),"") -> 25.904762 | T7: WR | U7: Puka Nacua | V7: =IFERROR(MIN(ROUND(MAX(0,AVERAGE(Y7,AA7,AC7,AE7,AG7)),1),71.4),"") -> 69.4 | W7: =COUNT(X7,Z7,AB7,AD7,AF7) -> 5 | X7: 73 | Y7: =IF(X7="","",ROUND(((X7-AJ$7)/AJ$8)*AJ$18+AJ$17,1)) -> 66 | Z7: 45.5 | AA7: =IF(Z7="","",ROUND(((Z7-AJ$9)/AJ$10)*AJ$18+AJ$17,1)) -> 64.7 | AB7: 54 | AC7: =IF(AB7="","",ROUND(((AB7-AJ$11)/AJ$12)*AJ$18+AJ$17,1)) -> 70.1 | AD7: 2875.2 | AE7: =IF(AD7="","",ROUND(((AD7-AJ$13)/AJ$14)*AJ$18+AJ$17,1)) -> 74.2 | AF7: 72 | AG7: =IF(AF7="","",ROUND(((AF7-AJ$15)/AJ$16)*AJ$18+AJ$17,1)) -> 72 | AI7: YAH Mean | AJ7: =IFERROR(AVERAGE(X6:X400),"") -> 25.25 | AM7: WR | AN7: Puka Nacua | AO7: =IFERROR(ROUND(MAX(0,AVERAGE(AR7,AT7)),1),"") -> 49 | AP7: =COUNT(AQ7,AS7) -> 2 | AQ7: 43 | AR7: =IF(AQ7="","",ROUND(((AQ7-BC$7)/BC$8)*BC$12+BC$11,1)) -> 48.9 | AS7: 69 | AT7: =IF(AS7="","",ROUND(((AS7-BC$9)/BC$10)*BC$12+BC$11,1)) -> 49 | BB7: CBS Mean | BC7: =IFERROR(AVERAGE(AQ6:AQ400),"") -> 18.02439
A8: WR | B8: Ja'Marr Chase | C8: =IFERROR(ROUND(MAX(0,AVERAGE(F8,H8,J8,L8,N8)),1),"") -> 69.7 | D8: =COUNT(E8,G8,I8,K8,M8) -> 5 | E8: 76 | F8: =IF(E8="","",ROUND(((E8-Q$7)/Q$8)*Q$18+Q$17,1)) -> 67.9 | G8: 47 | H8: =IF(G8="","",ROUND(((G8-Q$9)/Q$10)*Q$18+Q$17,1)) -> 64.9 | I8: 57.2 | J8: =IF(I8="","",ROUND(((I8-Q$11)/Q$12)*Q$18+Q$17,1)) -> 71.9 | K8: 2898 | L8: =IF(K8="","",ROUND(((K8-Q$13)/Q$14)*Q$18+Q$17,1)) -> 74.9 | M8: 69 | N8: =IF(M8="","",ROUND(((M8-Q$15)/Q$16)*Q$18+Q$17,1)) -> 69 | P8: YAH StDev | Q8: =IFERROR(STDEVP(E6:E400),"") -> 22.065174 | T8: WR | U8: Ja'Marr Chase | V8: =IFERROR(MIN(ROUND(MAX(0,AVERAGE(Y8,AA8,AC8,AE8,AG8)),1),69.7),"") -> 68.4 | W8: =COUNT(X8,Z8,AB8,AD8,AF8) -> 5 | X8: 73 | Y8: =IF(X8="","",ROUND(((X8-AJ$7)/AJ$8)*AJ$18+AJ$17,1)) -> 66 | Z8: 45.5 | AA8: =IF(Z8="","",ROUND(((Z8-AJ$9)/AJ$10)*AJ$18+AJ$17,1)) -> 64.7 | AB8: 55.4 | AC8: =IF(AB8="","",ROUND(((AB8-AJ$11)/AJ$12)*AJ$18+AJ$17,1)) -> 72.1 | AD8: 2805.5 | AE8: =IF(AD8="","",ROUND(((AD8-AJ$13)/AJ$14)*AJ$18+AJ$17,1)) -> 72.3 | AF8: 67 | AG8: =IF(AF8="","",ROUND(((AF8-AJ$15)/AJ$16)*AJ$18+AJ$17,1)) -> 67 | AI8: YAH StDev | AJ8: =IFERROR(STDEVP(X6:X400),"") -> 21.182835 | AM8: WR | AN8: Ja'Marr Chase | AO8: =IFERROR(ROUND(MAX(0,AVERAGE(AR8,AT8)),1),"") -> 47.7 | AP8: =COUNT(AQ8,AS8) -> 2 | AQ8: 44 | AR8: =IF(AQ8="","",ROUND(((AQ8-BC$7)/BC$8)*BC$12+BC$11,1)) -> 50.2 | AS8: 65 | AT8: =IF(AS8="","",ROUND(((AS8-BC$9)/BC$10)*BC$12+BC$11,1)) -> 45.2 | BB8: CBS StDev | BC8: =IFERROR(STDEVP(AQ6:AQ400),"") -> 11.884583
A9: WR | B9: Amon-Ra St. Brown | C9: =IFERROR(ROUND(MAX(0,AVERAGE(F9,H9,J9,L9,N9)),1),"") -> 64.3 | D9: =COUNT(E9,G9,I9,K9,M9) -> 5 | E9: 74 | F9: =IF(E9="","",ROUND(((E9-Q$7)/Q$8)*Q$18+Q$17,1)) -> 66 | G9: 41 | H9: =IF(G9="","",ROUND(((G9-Q$9)/Q$10)*Q$18+Q$17,1)) -> 55.6 | I9: 53.5 | J9: =IF(I9="","",ROUND(((I9-Q$11)/Q$12)*Q$18+Q$17,1)) -> 66.5 | K9: 2800 | L9: =IF(K9="","",ROUND(((K9-Q$13)/Q$14)*Q$18+Q$17,1)) -> 72.3 | M9: 61 | N9: =IF(M9="","",ROUND(((M9-Q$15)/Q$16)*Q$18+Q$17,1)) -> 61 | P9: CBS Mean | Q9: =IFERROR(AVERAGE(G6:G400),"") -> 19.727273 | T9: WR | U9: Amon-Ra St. Brown | V9: =IFERROR(MIN(ROUND(MAX(0,AVERAGE(Y9,AA9,AC9,AE9,AG9)),1),64.2),"") -> 62.6 | W9: =COUNT(X9,Z9,AB9,AD9,AF9) -> 5 | X9: 71 | Y9: =IF(X9="","",ROUND(((X9-AJ$7)/AJ$8)*AJ$18+AJ$17,1)) -> 64.2 | Z9: 39 | AA9: =IF(Z9="","",ROUND(((Z9-AJ$9)/AJ$10)*AJ$18+AJ$17,1)) -> 54.6 | AB9: 51.3 | AC9: =IF(AB9="","",ROUND(((AB9-AJ$11)/AJ$12)*AJ$18+AJ$17,1)) -> 66.2 | AD9: 2686.5 | AE9: =IF(AD9="","",ROUND(((AD9-AJ$13)/AJ$14)*AJ$18+AJ$17,1)) -> 69.2 | AF9: 59 | AG9: =IF(AF9="","",ROUND(((AF9-AJ$15)/AJ$16)*AJ$18+AJ$17,1)) -> 59 | AI9: CBS Mean | AJ9: =IFERROR(AVERAGE(Z6:Z400),"") -> 18.436364 | AM9: WR | AN9: CeeDee Lamb | AO9: =IFERROR(ROUND(MAX(0,AVERAGE(AR9,AT9)),1),"") -> 41 | AP9: =COUNT(AQ9,AS9) -> 2 | AQ9: 37 | AR9: =IF(AQ9="","",ROUND(((AQ9-BC$7)/BC$8)*BC$12+BC$11,1)) -> 41.5 | AS9: 60 | AT9: =IF(AS9="","",ROUND(((AS9-BC$9)/BC$10)*BC$12+BC$11,1)) -> 40.4 | BB9: USA Mean | BC9: =IFERROR(AVERAGE(AS6:AS400),"") -> 36.512195
A10: WR | B10: CeeDee Lamb | C10: =IFERROR(ROUND(MAX(0,AVERAGE(F10,H10,J10,L10,N10)),1),"") -> 60.4 | D10: =COUNT(E10,G10,I10,K10,M10) -> 5 | E10: 70 | F10: =IF(E10="","",ROUND(((E10-Q$7)/Q$8)*Q$18+Q$17,1)) -> 62.4 | G10: 41 | H10: =IF(G10="","",ROUND(((G10-Q$9)/Q$10)*Q$18+Q$17,1)) -> 55.6 | I10: 42.3 | J10: =IF(I10="","",ROUND(((I10-Q$11)/Q$12)*Q$18+Q$17,1)) -> 50.2 | K10: 2702 | L10: =IF(K10="","",ROUND(((K10-Q$13)/Q$14)*Q$18+Q$17,1)) -> 69.7 | M10: 64 | N10: =IF(M10="","",ROUND(((M10-Q$15)/Q$16)*Q$18+Q$17,1)) -> 64 | P10: CBS StDev | Q10: =IFERROR(STDEVP(G6:G400),"") -> 12.844107 | T10: WR | U10: CeeDee Lamb | V10: =IFERROR(MIN(ROUND(MAX(0,AVERAGE(Y10,AA10,AC10,AE10,AG10)),1),60.3),"") -> 58.9 | W10: =COUNT(X10,Z10,AB10,AD10,AF10) -> 5 | X10: 67 | Y10: =IF(X10="","",ROUND(((X10-AJ$7)/AJ$8)*AJ$18+AJ$17,1)) -> 60.6 | Z10: 39 | AA10: =IF(Z10="","",ROUND(((Z10-AJ$9)/AJ$10)*AJ$18+AJ$17,1)) -> 54.6 | AB10: 40.5 | AC10: =IF(AB10="","",ROUND(((AB10-AJ$11)/AJ$12)*AJ$18+AJ$17,1)) -> 50.5 | AD10: 2586.2 | AE10: =IF(AD10="","",ROUND(((AD10-AJ$13)/AJ$14)*AJ$18+AJ$17,1)) -> 66.6 | AF10: 62 | AG10: =IF(AF10="","",ROUND(((AF10-AJ$15)/AJ$16)*AJ$18+AJ$17,1)) -> 62 | AI10: CBS StDev | AJ10: =IFERROR(STDEVP(Z6:Z400),"") -> 12.378539 | AM10: WR | AN10: Amon-Ra St. Brown | AO10: =IFERROR(ROUND(MAX(0,AVERAGE(AR10,AT10)),1),"") -> 39.6 | AP10: =COUNT(AQ10,AS10) -> 2 | AQ10: 37 | AR10: =IF(AQ10="","",ROUND(((AQ10-BC$7)/BC$8)*BC$12+BC$11,1)) -> 41.5 | AS10: 57 | AT10: =IF(AS10="","",ROUND(((AS10-BC$9)/BC$10)*BC$12+BC$11,1)) -> 37.6 | BB10: USA StDev | BC10: =IFERROR(STDEVP(AS6:AS400),"") -> 15.417953
A11: WR | B11: Chris Olave | C11: =IFERROR(ROUND(MAX(0,AVERAGE(F11,H11,J11,L11,N11)),1),"") -> 54.4 | D11: =COUNT(E11,G11,I11,K11,M11) -> 5 | E11: 65 | F11: =IF(E11="","",ROUND(((E11-Q$7)/Q$8)*Q$18+Q$17,1)) -> 57.9 | G11: 36 | H11: =IF(G11="","",ROUND(((G11-Q$9)/Q$10)*Q$18+Q$17,1)) -> 47.8 | I11: 42.5 | J11: =IF(I11="","",ROUND(((I11-Q$11)/Q$12)*Q$18+Q$17,1)) -> 50.5 | K11: 2099 | L11: =IF(K11="","",ROUND(((K11-Q$13)/Q$14)*Q$18+Q$17,1)) -> 53.8 | M11: 62 | N11: =IF(M11="","",ROUND(((M11-Q$15)/Q$16)*Q$18+Q$17,1)) -> 62 | P11: FP Mean | Q11: =IFERROR(AVERAGE(I6:I400),"") -> 23.221127 | T11: WR | U11: Chris Olave | V11: =IFERROR(MIN(ROUND(MAX(0,AVERAGE(Y11,AA11,AC11,AE11,AG11)),1),54.4),"") -> 52.6 | W11: =COUNT(X11,Z11,AB11,AD11,AF11) -> 5 | X11: 62 | Y11: =IF(X11="","",ROUND(((X11-AJ$7)/AJ$8)*AJ$18+AJ$17,1)) -> 56 | Z11: 34 | AA11: =IF(Z11="","",ROUND(((Z11-AJ$9)/AJ$10)*AJ$18+AJ$17,1)) -> 46.9 | AB11: 40.4 | AC11: =IF(AB11="","",ROUND(((AB11-AJ$11)/AJ$12)*AJ$18+AJ$17,1)) -> 50.3 | AD11: 1997.4 | AE11: =IF(AD11="","",ROUND(((AD11-AJ$13)/AJ$14)*AJ$18+AJ$17,1)) -> 51 | AF11: 59 | AG11: =IF(AF11="","",ROUND(((AF11-AJ$15)/AJ$16)*AJ$18+AJ$17,1)) -> 59 | AI11: FP Mean | AJ11: =IFERROR(AVERAGE(AB6:AB400),"") -> 21.362162 | AM11: WR | AN11: Chris Olave | AO11: =IFERROR(ROUND(MAX(0,AVERAGE(AR11,AT11)),1),"") -> 36.5 | AP11: =COUNT(AQ11,AS11) -> 2 | AQ11: 32 | AR11: =IF(AQ11="","",ROUND(((AQ11-BC$7)/BC$8)*BC$12+BC$11,1)) -> 35.3 | AS11: 57 | AT11: =IF(AS11="","",ROUND(((AS11-BC$9)/BC$10)*BC$12+BC$11,1)) -> 37.6 | BB11: Target Mean (anchor sites, median) | BC11: =MEDIAN(BC$7,BC$9,16.25) -> 18.02439
A12: WR | B12: Justin Jefferson | C12: =IFERROR(ROUND(MAX(0,AVERAGE(F12,H12,J12,L12,N12)),1),"") -> 52.7 | D12: =COUNT(E12,G12,I12,K12,M12) -> 5 | E12: 65 | F12: =IF(E12="","",ROUND(((E12-Q$7)/Q$8)*Q$18+Q$17,1)) -> 57.9 | G12: 39 | H12: =IF(G12="","",ROUND(((G12-Q$9)/Q$10)*Q$18+Q$17,1)) -> 52.5 | I12: 37.8 | J12: =IF(I12="","",ROUND(((I12-Q$11)/Q$12)*Q$18+Q$17,1)) -> 43.7 | K12: 2167 | L12: =IF(K12="","",ROUND(((K12-Q$13)/Q$14)*Q$18+Q$17,1)) -> 55.6 | M12: 54 | N12: =IF(M12="","",ROUND(((M12-Q$15)/Q$16)*Q$18+Q$17,1)) -> 54 | P12: FP StDev | Q12: =IFERROR(STDEVP(I6:I400),"") -> 13.736873 | T12: WR | U12: Justin Jefferson | V12: =IFERROR(MIN(ROUND(MAX(0,AVERAGE(Y12,AA12,AC12,AE12,AG12)),1),52.7),"") -> 51.3 | W12: =COUNT(X12,Z12,AB12,AD12,AF12) -> 5 | X12: 62 | Y12: =IF(X12="","",ROUND(((X12-AJ$7)/AJ$8)*AJ$18+AJ$17,1)) -> 56 | Z12: 37 | AA12: =IF(Z12="","",ROUND(((Z12-AJ$9)/AJ$10)*AJ$18+AJ$17,1)) -> 51.5 | AB12: 36.1 | AC12: =IF(AB12="","",ROUND(((AB12-AJ$11)/AJ$12)*AJ$18+AJ$17,1)) -> 44.1 | AD12: 2067 | AE12: =IF(AD12="","",ROUND(((AD12-AJ$13)/AJ$14)*AJ$18+AJ$17,1)) -> 52.9 | AF12: 52 | AG12: =IF(AF12="","",ROUND(((AF12-AJ$15)/AJ$16)*AJ$18+AJ$17,1)) -> 52 | AI12: FP StDev | AJ12: =IFERROR(STDEVP(AB6:AB400),"") -> 13.227221 | AM12: WR | AN12: Justin Jefferson | AO12: =IFERROR(ROUND(MAX(0,AVERAGE(AR12,AT12)),1),"") -> 35 | AP12: =COUNT(AQ12,AS12) -> 2 | AQ12: 35 | AR12: =IF(AQ12="","",ROUND(((AQ12-BC$7)/BC$8)*BC$12+BC$11,1)) -> 39 | AS12: 50 | AT12: =IF(AS12="","",ROUND(((AS12-BC$9)/BC$10)*BC$12+BC$11,1)) -> 30.9 | BB12: Target StDev (anchor sites, median) | BC12: =MEDIAN(BC$8,BC$10,14.7) -> 14.7
A13: WR | B13: Drake London | C13: =IFERROR(ROUND(MAX(0,AVERAGE(F13,H13,J13,L13,N13)),1),"") -> 52.3 | D13: =COUNT(E13,G13,I13,K13,M13) -> 5 | E13: 65 | F13: =IF(E13="","",ROUND(((E13-Q$7)/Q$8)*Q$18+Q$17,1)) -> 57.9 | G13: 34 | H13: =IF(G13="","",ROUND(((G13-Q$9)/Q$10)*Q$18+Q$17,1)) -> 44.7 | I13: 40.2 | J13: =IF(I13="","",ROUND(((I13-Q$11)/Q$12)*Q$18+Q$17,1)) -> 47.2 | K13: 2064 | L13: =IF(K13="","",ROUND(((K13-Q$13)/Q$14)*Q$18+Q$17,1)) -> 52.9 | M13: 59 | N13: =IF(M13="","",ROUND(((M13-Q$15)/Q$16)*Q$18+Q$17,1)) -> 59 | P13: RSJ Mean | Q13: =IFERROR(AVERAGE(K6:K400),"") -> 907.55422 | T13: WR | U13: Drake London | V13: =IFERROR(MIN(ROUND(MAX(0,AVERAGE(Y13,AA13,AC13,AE13,AG13)),1),52.3),"") -> 50.7 | W13: =COUNT(X13,Z13,AB13,AD13,AF13) -> 5 | X13: 62 | Y13: =IF(X13="","",ROUND(((X13-AJ$7)/AJ$8)*AJ$18+AJ$17,1)) -> 56 | Z13: 31.5 | AA13: =IF(Z13="","",ROUND(((Z13-AJ$9)/AJ$10)*AJ$18+AJ$17,1)) -> 43 | AB13: 38.3 | AC13: =IF(AB13="","",ROUND(((AB13-AJ$11)/AJ$12)*AJ$18+AJ$17,1)) -> 47.3 | AD13: 1968.7 | AE13: =IF(AD13="","",ROUND(((AD13-AJ$13)/AJ$14)*AJ$18+AJ$17,1)) -> 50.3 | AF13: 57 | AG13: =IF(AF13="","",ROUND(((AF13-AJ$15)/AJ$16)*AJ$18+AJ$17,1)) -> 57 | AI13: RSJ Mean | AJ13: =IFERROR(AVERAGE(AD6:AD400),"") -> 920.93158 | AM13: WR | AN13: Drake London | AO13: =IFERROR(ROUND(MAX(0,AVERAGE(AR13,AT13)),1),"") -> 33.7 | AP13: =COUNT(AQ13,AS13) -> 2 | AQ13: 29 | AR13: =IF(AQ13="","",ROUND(((AQ13-BC$7)/BC$8)*BC$12+BC$11,1)) -> 31.6 | AS13: 55 | AT13: =IF(AS13="","",ROUND(((AS13-BC$9)/BC$10)*BC$12+BC$11,1)) -> 35.7
A14: WR | B14: Zay Flowers | C14: =IFERROR(ROUND(MAX(0,AVERAGE(F14,H14,J14,L14,N14)),1),"") -> 51.5 | D14: =COUNT(E14,G14,I14,K14,M14) -> 5 | E14: 63 | F14: =IF(E14="","",ROUND(((E14-Q$7)/Q$8)*Q$18+Q$17,1)) -> 56.1 | G14: 34 | H14: =IF(G14="","",ROUND(((G14-Q$9)/Q$10)*Q$18+Q$17,1)) -> 44.7 | I14: 43.2 | J14: =IF(I14="","",ROUND(((I14-Q$11)/Q$12)*Q$18+Q$17,1)) -> 51.5 | K14: 2030 | L14: =IF(K14="","",ROUND(((K14-Q$13)/Q$14)*Q$18+Q$17,1)) -> 52 | M14: 53 | N14: =IF(M14="","",ROUND(((M14-Q$15)/Q$16)*Q$18+Q$17,1)) -> 53 | P14: RSJ StDev | Q14: =IFERROR(STDEVP(K6:K400),"") -> 759.11196 | T14: WR | U14: Zay Flowers | V14: =IFERROR(MIN(ROUND(MAX(0,AVERAGE(Y14,AA14,AC14,AE14,AG14)),1),51.4),"") -> 50.2 | W14: =COUNT(X14,Z14,AB14,AD14,AF14) -> 5 | X14: 60 | Y14: =IF(X14="","",ROUND(((X14-AJ$7)/AJ$8)*AJ$18+AJ$17,1)) -> 54.2 | Z14: 32.5 | AA14: =IF(Z14="","",ROUND(((Z14-AJ$9)/AJ$10)*AJ$18+AJ$17,1)) -> 44.5 | AB14: 41.3 | AC14: =IF(AB14="","",ROUND(((AB14-AJ$11)/AJ$12)*AJ$18+AJ$17,1)) -> 51.7 | AD14: 1940.4 | AE14: =IF(AD14="","",ROUND(((AD14-AJ$13)/AJ$14)*AJ$18+AJ$17,1)) -> 49.5 | AF14: 51 | AG14: =IF(AF14="","",ROUND(((AF14-AJ$15)/AJ$16)*AJ$18+AJ$17,1)) -> 51 | AI14: RSJ StDev | AJ14: =IFERROR(STDEVP(AD6:AD400),"") -> 729.39412 | AM14: WR | AN14: Zay Flowers | AO14: =IFERROR(ROUND(MAX(0,AVERAGE(AR14,AT14)),1),"") -> 32 | AP14: =COUNT(AQ14,AS14) -> 2 | AQ14: 31 | AR14: =IF(AQ14="","",ROUND(((AQ14-BC$7)/BC$8)*BC$12+BC$11,1)) -> 34.1 | AS14: 49 | AT14: =IF(AS14="","",ROUND(((AS14-BC$9)/BC$10)*BC$12+BC$11,1)) -> 29.9
A15: WR | B15: Nico Collins | C15: =IFERROR(ROUND(MAX(0,AVERAGE(F15,H15,J15,L15,N15)),1),"") -> 48.7 | D15: =COUNT(E15,G15,I15,K15,M15) -> 5 | E15: 60 | F15: =IF(E15="","",ROUND(((E15-Q$7)/Q$8)*Q$18+Q$17,1)) -> 53.4 | G15: 33 | H15: =IF(G15="","",ROUND(((G15-Q$9)/Q$10)*Q$18+Q$17,1)) -> 43.1 | I15: 41 | J15: =IF(I15="","",ROUND(((I15-Q$11)/Q$12)*Q$18+Q$17,1)) -> 48.3 | K15: 1781 | L15: =IF(K15="","",ROUND(((K15-Q$13)/Q$14)*Q$18+Q$17,1)) -> 45.5 | M15: 53 | N15: =IF(M15="","",ROUND(((M15-Q$15)/Q$16)*Q$18+Q$17,1)) -> 53 | P15: USA Mean | Q15: =IFERROR(AVERAGE(M6:M400),"") -> 22.452381 | T15: WR | U15: Nico Collins | V15: =IFERROR(MIN(ROUND(MAX(0,AVERAGE(Y15,AA15,AC15,AE15,AG15)),1),48.6),"") -> 47.4 | W15: =COUNT(X15,Z15,AB15,AD15,AF15) -> 5 | X15: 57 | Y15: =IF(X15="","",ROUND(((X15-AJ$7)/AJ$8)*AJ$18+AJ$17,1)) -> 51.5 | Z15: 31.5 | AA15: =IF(Z15="","",ROUND(((Z15-AJ$9)/AJ$10)*AJ$18+AJ$17,1)) -> 43 | AB15: 39.1 | AC15: =IF(AB15="","",ROUND(((AB15-AJ$11)/AJ$12)*AJ$18+AJ$17,1)) -> 48.5 | AD15: 1700 | AE15: =IF(AD15="","",ROUND(((AD15-AJ$13)/AJ$14)*AJ$18+AJ$17,1)) -> 43.2 | AF15: 51 | AG15: =IF(AF15="","",ROUND(((AF15-AJ$15)/AJ$16)*AJ$18+AJ$17,1)) -> 51 | AI15: USA Mean | AJ15: =IFERROR(AVERAGE(AF6:AF400),"") -> 22.7 | AM15: WR | AN15: Nico Collins | AO15: =IFERROR(ROUND(MAX(0,AVERAGE(AR15,AT15)),1),"") -> 31.4 | AP15: =COUNT(AQ15,AS15) -> 2 | AQ15: 30 | AR15: =IF(AQ15="","",ROUND(((AQ15-BC$7)/BC$8)*BC$12+BC$11,1)) -> 32.8 | AS15: 49 | AT15: =IF(AS15="","",ROUND(((AS15-BC$9)/BC$10)*BC$12+BC$11,1)) -> 29.9
A16: WR | B16: Malik Nabers | C16: =IFERROR(ROUND(MAX(0,AVERAGE(F16,H16,J16,L16,N16)),1),"") -> 45 | D16: =COUNT(E16,G16,I16,K16,M16) -> 5 | E16: 65 | F16: =IF(E16="","",ROUND(((E16-Q$7)/Q$8)*Q$18+Q$17,1)) -> 57.9 | G16: 24 | H16: =IF(G16="","",ROUND(((G16-Q$9)/Q$10)*Q$18+Q$17,1)) -> 29.1 | I16: 35.5 | J16: =IF(I16="","",ROUND(((I16-Q$11)/Q$12)*Q$18+Q$17,1)) -> 40.3 | K16: 2201 | L16: =IF(K16="","",ROUND(((K16-Q$13)/Q$14)*Q$18+Q$17,1)) -> 56.5 | M16: 41 | N16: =IF(M16="","",ROUND(((M16-Q$15)/Q$16)*Q$18+Q$17,1)) -> 41 | P16: USA StDev | Q16: =IFERROR(STDEVP(M6:M400),"") -> 19.997265 | T16: WR | U16: Malik Nabers | V16: =IFERROR(MIN(ROUND(MAX(0,AVERAGE(Y16,AA16,AC16,AE16,AG16)),1),44.9),"") -> 43.7 | W16: =COUNT(X16,Z16,AB16,AD16,AF16) -> 5 | X16: 62 | Y16: =IF(X16="","",ROUND(((X16-AJ$7)/AJ$8)*AJ$18+AJ$17,1)) -> 56 | Z16: 22.5 | AA16: =IF(Z16="","",ROUND(((Z16-AJ$9)/AJ$10)*AJ$18+AJ$17,1)) -> 29 | AB16: 33.8 | AC16: =IF(AB16="","",ROUND(((AB16-AJ$11)/AJ$12)*AJ$18+AJ$17,1)) -> 40.8 | AD16: 2093.6 | AE16: =IF(AD16="","",ROUND(((AD16-AJ$13)/AJ$14)*AJ$18+AJ$17,1)) -> 53.6 | AF16: 39 | AG16: =IF(AF16="","",ROUND(((AF16-AJ$15)/AJ$16)*AJ$18+AJ$17,1)) -> 39 | AI16: USA StDev | AJ16: =IFERROR(STDEVP(AF6:AF400),"") -> 19.208982 | AM16: WR | AN16: Christian Watson | AO16: =IFERROR(ROUND(MAX(0,AVERAGE(AR16,AT16)),1),"") -> 24 | AP16: =COUNT(AQ16,AS16) -> 2 | AQ16: 18 | AR16: =IF(AQ16="","",ROUND(((AQ16-BC$7)/BC$8)*BC$12+BC$11,1)) -> 18 | AS16: 49 | AT16: =IF(AS16="","",ROUND(((AS16-BC$9)/BC$10)*BC$12+BC$11,1)) -> 29.9
A17: WR | B17: Parker Washington | C17: =IFERROR(ROUND(MAX(0,AVERAGE(F17,H17,J17,L17,N17)),1),"") -> 43.2 | D17: =COUNT(E17,G17,I17,K17,M17) -> 5 | E17: 54 | F17: =IF(E17="","",ROUND(((E17-Q$7)/Q$8)*Q$18+Q$17,1)) -> 47.9 | G17: 24 | H17: =IF(G17="","",ROUND(((G17-Q$9)/Q$10)*Q$18+Q$17,1)) -> 29.1 | I17: 39.4 | J17: =IF(I17="","",ROUND(((I17-Q$11)/Q$12)*Q$18+Q$17,1)) -> 46 | K17: 1806 | L17: =IF(K17="","",ROUND(((K17-Q$13)/Q$14)*Q$18+Q$17,1)) -> 46.1 | M17: 47 | N17: =IF(M17="","",ROUND(((M17-Q$15)/Q$16)*Q$18+Q$17,1)) -> 47 | P17: Target Mean (anchor sites, median) | Q17: =MEDIAN(Q$7,Q$9,Q$15) -> 22.452381 | T17: WR | U17: Parker Washington | V17: =IFERROR(MIN(ROUND(MAX(0,AVERAGE(Y17,AA17,AC17,AE17,AG17)),1),43.2),"") -> 41.9 | W17: =COUNT(X17,Z17,AB17,AD17,AF17) -> 5 | X17: 51 | Y17: =IF(X17="","",ROUND(((X17-AJ$7)/AJ$8)*AJ$18+AJ$17,1)) -> 46.1 | Z17: 22 | AA17: =IF(Z17="","",ROUND(((Z17-AJ$9)/AJ$10)*AJ$18+AJ$17,1)) -> 28.2 | AB17: 37.2 | AC17: =IF(AB17="","",ROUND(((AB17-AJ$11)/AJ$12)*AJ$18+AJ$17,1)) -> 45.7 | AD17: 1705.7 | AE17: =IF(AD17="","",ROUND(((AD17-AJ$13)/AJ$14)*AJ$18+AJ$17,1)) -> 43.4 | AF17: 46 | AG17: =IF(AF17="","",ROUND(((AF17-AJ$15)/AJ$16)*AJ$18+AJ$17,1)) -> 46 | AI17: Target Mean (anchor sites, median) | AJ17: =MEDIAN(AJ$7,AJ$9,AJ$15) -> 22.7 | AM17: WR | AN17: Parker Washington | AO17: =IFERROR(ROUND(MAX(0,AVERAGE(AR17,AT17)),1),"") -> 23.3 | AP17: =COUNT(AQ17,AS17) -> 2 | AQ17: 20 | AR17: =IF(AQ17="","",ROUND(((AQ17-BC$7)/BC$8)*BC$12+BC$11,1)) -> 20.5 | AS17: 45 | AT17: =IF(AS17="","",ROUND(((AS17-BC$9)/BC$10)*BC$12+BC$11,1)) -> 26.1
A18: WR | B18: Christian Watson | C18: =IFERROR(ROUND(MAX(0,AVERAGE(F18,H18,J18,L18,N18)),1),"") -> 43.1 | D18: =COUNT(E18,G18,I18,K18,M18) -> 5 | E18: 57 | F18: =IF(E18="","",ROUND(((E18-Q$7)/Q$8)*Q$18+Q$17,1)) -> 50.6 | G18: 21 | H18: =IF(G18="","",ROUND(((G18-Q$9)/Q$10)*Q$18+Q$17,1)) -> 24.4 | I18: 38.6 | J18: =IF(I18="","",ROUND(((I18-Q$11)/Q$12)*Q$18+Q$17,1)) -> 44.8 | K18: 1757 | L18: =IF(K18="","",ROUND(((K18-Q$13)/Q$14)*Q$18+Q$17,1)) -> 44.8 | M18: 51 | N18: =IF(M18="","",ROUND(((M18-Q$15)/Q$16)*Q$18+Q$17,1)) -> 51 | P18: Target StDev (anchor sites, median) | Q18: =MEDIAN(Q$8,Q$10,Q$16) -> 19.997265 | T18: WR | U18: Christian Watson | V18: =IFERROR(MIN(ROUND(MAX(0,AVERAGE(Y18,AA18,AC18,AE18,AG18)),1),43.1),"") -> 42.1 | W18: =COUNT(X18,Z18,AB18,AD18,AF18) -> 5 | X18: 54 | Y18: =IF(X18="","",ROUND(((X18-AJ$7)/AJ$8)*AJ$18+AJ$17,1)) -> 48.8 | Z18: 19.5 | AA18: =IF(Z18="","",ROUND(((Z18-AJ$9)/AJ$10)*AJ$18+AJ$17,1)) -> 24.4 | AB18: 36.6 | AC18: =IF(AB18="","",ROUND(((AB18-AJ$11)/AJ$12)*AJ$18+AJ$17,1)) -> 44.8 | AD18: 1664.5 | AE18: =IF(AD18="","",ROUND(((AD18-AJ$13)/AJ$14)*AJ$18+AJ$17,1)) -> 42.3 | AF18: 50 | AG18: =IF(AF18="","",ROUND(((AF18-AJ$15)/AJ$16)*AJ$18+AJ$17,1)) -> 50 | AI18: Target StDev (anchor sites, median) | AJ18: =MEDIAN(AJ$8,AJ$10,AJ$16) -> 19.208982 | AM18: WR | AN18: Garrett Wilson | AO18: =IFERROR(ROUND(MAX(0,AVERAGE(AR18,AT18)),1),"") -> 22.1 | AP18: =COUNT(AQ18,AS18) -> 2 | AQ18: 18 | AR18: =IF(AQ18="","",ROUND(((AQ18-BC$7)/BC$8)*BC$12+BC$11,1)) -> 18 | AS18: 45 | AT18: =IF(AS18="","",ROUND(((AS18-BC$9)/BC$10)*BC$12+BC$11,1)) -> 26.1
A19: WR | B19: Garrett Wilson | C19: =IFERROR(ROUND(MAX(0,AVERAGE(F19,H19,J19,L19,N19)),1),"") -> 40.3 | D19: =COUNT(E19,G19,I19,K19,M19) -> 5 | E19: 52 | F19: =IF(E19="","",ROUND(((E19-Q$7)/Q$8)*Q$18+Q$17,1)) -> 46.1 | G19: 22 | H19: =IF(G19="","",ROUND(((G19-Q$9)/Q$10)*Q$18+Q$17,1)) -> 26 | I19: 33.4 | J19: =IF(I19="","",ROUND(((I19-Q$11)/Q$12)*Q$18+Q$17,1)) -> 37.3 | K19: 1732 | L19: =IF(K19="","",ROUND(((K19-Q$13)/Q$14)*Q$18+Q$17,1)) -> 44.2 | M19: 48 | N19: =IF(M19="","",ROUND(((M19-Q$15)/Q$16)*Q$18+Q$17,1)) -> 48 | T19: WR | U19: Garrett Wilson | V19: =IFERROR(MIN(ROUND(MAX(0,AVERAGE(Y19,AA19,AC19,AE19,AG19)),1),40.3),"") -> 38.8 | W19: =COUNT(X19,Z19,AB19,AD19,AF19) -> 5 | X19: 49 | Y19: =IF(X19="","",ROUND(((X19-AJ$7)/AJ$8)*AJ$18+AJ$17,1)) -> 44.2 | Z19: 20 | AA19: =IF(Z19="","",ROUND(((Z19-AJ$9)/AJ$10)*AJ$18+AJ$17,1)) -> 25.1 | AB19: 31.5 | AC19: =IF(AB19="","",ROUND(((AB19-AJ$11)/AJ$12)*AJ$18+AJ$17,1)) -> 37.4 | AD19: 1632.1 | AE19: =IF(AD19="","",ROUND(((AD19-AJ$13)/AJ$14)*AJ$18+AJ$17,1)) -> 41.4 | AF19: 46 | AG19: =IF(AF19="","",ROUND(((AF19-AJ$15)/AJ$16)*AJ$18+AJ$17,1)) -> 46 | AM19: WR | AN19: George Pickens | AO19: =IFERROR(ROUND(MAX(0,AVERAGE(AR19,AT19)),1),"") -> 20.7 | AP19: =COUNT(AQ19,AS19) -> 2 | AQ19: 22 | AR19: =IF(AQ19="","",ROUND(((AQ19-BC$7)/BC$8)*BC$12+BC$11,1)) -> 22.9 | AS19: 37 | AT19: =IF(AS19="","",ROUND(((AS19-BC$9)/BC$10)*BC$12+BC$11,1)) -> 18.5
A20: WR | B20: Tetairoa McMillan | C20: =IFERROR(ROUND(MAX(0,AVERAGE(F20,H20,J20,L20,N20)),1),"") -> 39.3 | D20: =COUNT(E20,G20,I20,K20,M20) -> 5 | E20: 49 | F20: =IF(E20="","",ROUND(((E20-Q$7)/Q$8)*Q$18+Q$17,1)) -> 43.4 | G20: 23 | H20: =IF(G20="","",ROUND(((G20-Q$9)/Q$10)*Q$18+Q$17,1)) -> 27.5 | I20: 35.7 | J20: =IF(I20="","",ROUND(((I20-Q$11)/Q$12)*Q$18+Q$17,1)) -> 40.6 | K20: 1682 | L20: =IF(K20="","",ROUND(((K20-Q$13)/Q$14)*Q$18+Q$17,1)) -> 42.9 | M20: 42 | N20: =IF(M20="","",ROUND(((M20-Q$15)/Q$16)*Q$18+Q$17,1)) -> 42 | T20: WR | U20: Tetairoa McMillan | V20: =IFERROR(MIN(ROUND(MAX(0,AVERAGE(Y20,AA20,AC20,AE20,AG20)),1),39.2),"") -> 37.7 | W20: =COUNT(X20,Z20,AB20,AD20,AF20) -> 5 | X20: 46 | Y20: =IF(X20="","",ROUND(((X20-AJ$7)/AJ$8)*AJ$18+AJ$17,1)) -> 41.5 | Z20: 21 | AA20: =IF(Z20="","",ROUND(((Z20-AJ$9)/AJ$10)*AJ$18+AJ$17,1)) -> 26.7 | AB20: 33.5 | AC20: =IF(AB20="","",ROUND(((AB20-AJ$11)/AJ$12)*AJ$18+AJ$17,1)) -> 40.3 | AD20: 1579 | AE20: =IF(AD20="","",ROUND(((AD20-AJ$13)/AJ$14)*AJ$18+AJ$17,1)) -> 40 | AF20: 40 | AG20: =IF(AF20="","",ROUND(((AF20-AJ$15)/AJ$16)*AJ$18+AJ$17,1)) -> 40 | AM20: WR | AN20: Malik Nabers | AO20: =IFERROR(ROUND(MAX(0,AVERAGE(AR20,AT20)),1),"") -> 20.6 | AP20: =COUNT(AQ20,AS20) -> 2 | AQ20: 21 | AR20: =IF(AQ20="","",ROUND(((AQ20-BC$7)/BC$8)*BC$12+BC$11,1)) -> 21.7 | AS20: 38 | AT20: =IF(AS20="","",ROUND(((AS20-BC$9)/BC$10)*BC$12+BC$11,1)) -> 19.4
A21: WR | B21: George Pickens | C21: =IFERROR(ROUND(MAX(0,AVERAGE(F21,H21,J21,L21,N21)),1),"") -> 37.8 | D21: =COUNT(E21,G21,I21,K21,M21) -> 5 | E21: 47 | F21: =IF(E21="","",ROUND(((E21-Q$7)/Q$8)*Q$18+Q$17,1)) -> 41.6 | G21: 24 | H21: =IF(G21="","",ROUND(((G21-Q$9)/Q$10)*Q$18+Q$17,1)) -> 29.1 | I21: 33.4 | J21: =IF(I21="","",ROUND(((I21-Q$11)/Q$12)*Q$18+Q$17,1)) -> 37.3 | K21: 1658 | L21: =IF(K21="","",ROUND(((K21-Q$13)/Q$14)*Q$18+Q$17,1)) -> 42.2 | M21: 39 | N21: =IF(M21="","",ROUND(((M21-Q$15)/Q$16)*Q$18+Q$17,1)) -> 39 | T21: WR | U21: George Pickens | V21: =IFERROR(MIN(ROUND(MAX(0,AVERAGE(Y21,AA21,AC21,AE21,AG21)),1),37.8),"") -> 37.2 | W21: =COUNT(X21,Z21,AB21,AD21,AF21) -> 5 | X21: 44 | Y21: =IF(X21="","",ROUND(((X21-AJ$7)/AJ$8)*AJ$18+AJ$17,1)) -> 39.7 | Z21: 23 | AA21: =IF(Z21="","",ROUND(((Z21-AJ$9)/AJ$10)*AJ$18+AJ$17,1)) -> 29.8 | AB21: 32 | AC21: =IF(AB21="","",ROUND(((AB21-AJ$11)/AJ$12)*AJ$18+AJ$17,1)) -> 38.1 | AD21: 1588.9 | AE21: =IF(AD21="","",ROUND(((AD21-AJ$13)/AJ$14)*AJ$18+AJ$17,1)) -> 40.3 | AF21: 38 | AG21: =IF(AF21="","",ROUND(((AF21-AJ$15)/AJ$16)*AJ$18+AJ$17,1)) -> 38 | AM21: WR | AN21: Tetairoa McMillan | AO21: =IFERROR(ROUND(MAX(0,AVERAGE(AR21,AT21)),1),"") -> 19.8 | AP21: =COUNT(AQ21,AS21) -> 2 | AQ21: 19 | AR21: =IF(AQ21="","",ROUND(((AQ21-BC$7)/BC$8)*BC$12+BC$11,1)) -> 19.2 | AS21: 39 | AT21: =IF(AS21="","",ROUND(((AS21-BC$9)/BC$10)*BC$12+BC$11,1)) -> 20.4
A22: WR | B22: Mike Evans | C22: =IFERROR(ROUND(MAX(0,AVERAGE(F22,H22,J22,L22,N22)),1),"") -> 35 | D22: =COUNT(E22,G22,I22,K22,M22) -> 5 | E22: 45 | F22: =IF(E22="","",ROUND(((E22-Q$7)/Q$8)*Q$18+Q$17,1)) -> 39.8 | G22: 20 | H22: =IF(G22="","",ROUND(((G22-Q$9)/Q$10)*Q$18+Q$17,1)) -> 22.9 | I22: 30.6 | J22: =IF(I22="","",ROUND(((I22-Q$11)/Q$12)*Q$18+Q$17,1)) -> 33.2 | K22: 1534 | L22: =IF(K22="","",ROUND(((K22-Q$13)/Q$14)*Q$18+Q$17,1)) -> 39 | M22: 40 | N22: =IF(M22="","",ROUND(((M22-Q$15)/Q$16)*Q$18+Q$17,1)) -> 40 | T22: WR | U22: Mike Evans | V22: =IFERROR(MIN(ROUND(MAX(0,AVERAGE(Y22,AA22,AC22,AE22,AG22)),1),34.9),"") -> 34.2 | W22: =COUNT(X22,Z22,AB22,AD22,AF22) -> 5 | X22: 43 | Y22: =IF(X22="","",ROUND(((X22-AJ$7)/AJ$8)*AJ$18+AJ$17,1)) -> 38.8 | Z22: 18 | AA22: =IF(Z22="","",ROUND(((Z22-AJ$9)/AJ$10)*AJ$18+AJ$17,1)) -> 22 | AB22: 29.2 | AC22: =IF(AB22="","",ROUND(((AB22-AJ$11)/AJ$12)*AJ$18+AJ$17,1)) -> 34.1 | AD22: 1465.8 | AE22: =IF(AD22="","",ROUND(((AD22-AJ$13)/AJ$14)*AJ$18+AJ$17,1)) -> 37 | AF22: 39 | AG22: =IF(AF22="","",ROUND(((AF22-AJ$15)/AJ$16)*AJ$18+AJ$17,1)) -> 39 | AM22: WR | AN22: DeVonta Smith | AO22: =IFERROR(ROUND(MAX(0,AVERAGE(AR22,AT22)),1),"") -> 18.3 | AP22: =COUNT(AQ22,AS22) -> 2 | AQ22: 18 | AR22: =IF(AQ22="","",ROUND(((AQ22-BC$7)/BC$8)*BC$12+BC$11,1)) -> 18 | AS22: 37 | AT22: =IF(AS22="","",ROUND(((AS22-BC$9)/BC$10)*BC$12+BC$11,1)) -> 18.5
A23: WR | B23: DeVonta Smith | C23: =IFERROR(ROUND(MAX(0,AVERAGE(F23,H23,J23,L23,N23)),1),"") -> 34 | D23: =COUNT(E23,G23,I23,K23,M23) -> 5 | E23: 43 | F23: =IF(E23="","",ROUND(((E23-Q$7)/Q$8)*Q$18+Q$17,1)) -> 37.9 | G23: 21 | H23: =IF(G23="","",ROUND(((G23-Q$9)/Q$10)*Q$18+Q$17,1)) -> 24.4 | I23: 32.1 | J23: =IF(I23="","",ROUND(((I23-Q$11)/Q$12)*Q$18+Q$17,1)) -> 35.4 | K23: 1322 | L23: =IF(K23="","",ROUND(((K23-Q$13)/Q$14)*Q$18+Q$17,1)) -> 33.4 | M23: 39 | N23: =IF(M23="","",ROUND(((M23-Q$15)/Q$16)*Q$18+Q$17,1)) -> 39 | T23: WR | U23: DeVonta Smith | V23: =IFERROR(MIN(ROUND(MAX(0,AVERAGE(Y23,AA23,AC23,AE23,AG23)),1),34),"") -> 32.9 | W23: =COUNT(X23,Z23,AB23,AD23,AF23) -> 5 | X23: 40 | Y23: =IF(X23="","",ROUND(((X23-AJ$7)/AJ$8)*AJ$18+AJ$17,1)) -> 36.1 | Z23: 19.5 | AA23: =IF(Z23="","",ROUND(((Z23-AJ$9)/AJ$10)*AJ$18+AJ$17,1)) -> 24.4 | AB23: 29.9 | AC23: =IF(AB23="","",ROUND(((AB23-AJ$11)/AJ$12)*AJ$18+AJ$17,1)) -> 35.1 | AD23: 1229.8 | AE23: =IF(AD23="","",ROUND(((AD23-AJ$13)/AJ$14)*AJ$18+AJ$17,1)) -> 30.8 | AF23: 38 | AG23: =IF(AF23="","",ROUND(((AF23-AJ$15)/AJ$16)*AJ$18+AJ$17,1)) -> 38 | AM23: WR | AN23: A.J. Brown | AO23: =IFERROR(ROUND(MAX(0,AVERAGE(AR23,AT23)),1),"") -> 18 | AP23: =COUNT(AQ23,AS23) -> 2 | AQ23: 16 | AR23: =IF(AQ23="","",ROUND(((AQ23-BC$7)/BC$8)*BC$12+BC$11,1)) -> 15.5 | AS23: 39 | AT23: =IF(AS23="","",ROUND(((AS23-BC$9)/BC$10)*BC$12+BC$11,1)) -> 20.4
A24: WR | B24: Matthew Golden | C24: =IFERROR(ROUND(MAX(0,AVERAGE(F24,H24,J24,L24,N24)),1),"") -> 33.6 | D24: =COUNT(E24,G24,I24,K24,M24) -> 5 | E24: 41 | F24: =IF(E24="","",ROUND(((E24-Q$7)/Q$8)*Q$18+Q$17,1)) -> 36.1 | G24: 17 | H24: =IF(G24="","",ROUND(((G24-Q$9)/Q$10)*Q$18+Q$17,1)) -> 18.2 | I24: 32.9 | J24: =IF(I24="","",ROUND(((I24-Q$11)/Q$12)*Q$18+Q$17,1)) -> 36.5 | K24: 1387 | L24: =IF(K24="","",ROUND(((K24-Q$13)/Q$14)*Q$18+Q$17,1)) -> 35.1 | M24: 42 | N24: =IF(M24="","",ROUND(((M24-Q$15)/Q$16)*Q$18+Q$17,1)) -> 42 | T24: WR | U24: Matthew Golden | V24: =IFERROR(MIN(ROUND(MAX(0,AVERAGE(Y24,AA24,AC24,AE24,AG24)),1),33.5),"") -> 32.7 | W24: =COUNT(X24,Z24,AB24,AD24,AF24) -> 5 | X24: 38 | Y24: =IF(X24="","",ROUND(((X24-AJ$7)/AJ$8)*AJ$18+AJ$17,1)) -> 34.3 | Z24: 16 | AA24: =IF(Z24="","",ROUND(((Z24-AJ$9)/AJ$10)*AJ$18+AJ$17,1)) -> 18.9 | AB24: 31 | AC24: =IF(AB24="","",ROUND(((AB24-AJ$11)/AJ$12)*AJ$18+AJ$17,1)) -> 36.7 | AD24: 1305.4 | AE24: =IF(AD24="","",ROUND(((AD24-AJ$13)/AJ$14)*AJ$18+AJ$17,1)) -> 32.8 | AF24: 41 | AG24: =IF(AF24="","",ROUND(((AF24-AJ$15)/AJ$16)*AJ$18+AJ$17,1)) -> 41 | AM24: WR | AN24: Matthew Golden | AO24: =IFERROR(ROUND(MAX(0,AVERAGE(AR24,AT24)),1),"") -> 17.8 | AP24: =COUNT(AQ24,AS24) -> 2 | AQ24: 15 | AR24: =IF(AQ24="","",ROUND(((AQ24-BC$7)/BC$8)*BC$12+BC$11,1)) -> 14.3 | AS24: 40 | AT24: =IF(AS24="","",ROUND(((AS24-BC$9)/BC$10)*BC$12+BC$11,1)) -> 21.3
A25: WR | B25: A.J. Brown | C25: =IFERROR(ROUND(MAX(0,AVERAGE(F25,H25,J25,L25,N25)),1),"") -> 32.4 | D25: =COUNT(E25,G25,I25,K25,M25) -> 5 | E25: 32 | F25: =IF(E25="","",ROUND(((E25-Q$7)/Q$8)*Q$18+Q$17,1)) -> 28 | G25: 19 | H25: =IF(G25="","",ROUND(((G25-Q$9)/Q$10)*Q$18+Q$17,1)) -> 21.3 | I25: 29 | J25: =IF(I25="","",ROUND(((I25-Q$11)/Q$12)*Q$18+Q$17,1)) -> 30.9 | K25: 1633 | L25: =IF(K25="","",ROUND(((K25-Q$13)/Q$14)*Q$18+Q$17,1)) -> 41.6 | M25: 40 | N25: =IF(M25="","",ROUND(((M25-Q$15)/Q$16)*Q$18+Q$17,1)) -> 40 | T25: WR | U25: A.J. Brown | V25: =IFERROR(MIN(ROUND(MAX(0,AVERAGE(Y25,AA25,AC25,AE25,AG25)),1),32.3),"") -> 31.4 | W25: =COUNT(X25,Z25,AB25,AD25,AF25) -> 5 | X25: 30 | Y25: =IF(X25="","",ROUND(((X25-AJ$7)/AJ$8)*AJ$18+AJ$17,1)) -> 27 | Z25: 17.5 | AA25: =IF(Z25="","",ROUND(((Z25-AJ$9)/AJ$10)*AJ$18+AJ$17,1)) -> 21.2 | AB25: 27.2 | AC25: =IF(AB25="","",ROUND(((AB25-AJ$11)/AJ$12)*AJ$18+AJ$17,1)) -> 31.2 | AD25: 1530.9 | AE25: =IF(AD25="","",ROUND(((AD25-AJ$13)/AJ$14)*AJ$18+AJ$17,1)) -> 38.8 | AF25: 39 | AG25: =IF(AF25="","",ROUND(((AF25-AJ$15)/AJ$16)*AJ$18+AJ$17,1)) -> 39 | AM25: WR | AN25: Mike Evans | AO25: =IFERROR(ROUND(MAX(0,AVERAGE(AR25,AT25)),1),"") -> 17.5 | AP25: =COUNT(AQ25,AS25) -> 2 | AQ25: 16 | AR25: =IF(AQ25="","",ROUND(((AQ25-BC$7)/BC$8)*BC$12+BC$11,1)) -> 15.5 | AS25: 38 | AT25: =IF(AS25="","",ROUND(((AS25-BC$9)/BC$10)*BC$12+BC$11,1)) -> 19.4
A26: WR | B26: Davante Adams | C26: =IFERROR(ROUND(MAX(0,AVERAGE(F26,H26,J26,L26,N26)),1),"") -> 32.3 | D26: =COUNT(E26,G26,I26,K26,M26) -> 5 | E26: 40 | F26: =IF(E26="","",ROUND(((E26-Q$7)/Q$8)*Q$18+Q$17,1)) -> 35.2 | G26: 17 | H26: =IF(G26="","",ROUND(((G26-Q$9)/Q$10)*Q$18+Q$17,1)) -> 18.2 | I26: 33.1 | J26: =IF(I26="","",ROUND(((I26-Q$11)/Q$12)*Q$18+Q$17,1)) -> 36.8 | K26: 1355 | L26: =IF(K26="","",ROUND(((K26-Q$13)/Q$14)*Q$18+Q$17,1)) -> 34.2 | M26: 37 | N26: =IF(M26="","",ROUND(((M26-Q$15)/Q$16)*Q$18+Q$17,1)) -> 37 | T26: WR | U26: Davante Adams | V26: =IFERROR(MIN(ROUND(MAX(0,AVERAGE(Y26,AA26,AC26,AE26,AG26)),1),32.3),"") -> 32 | W26: =COUNT(X26,Z26,AB26,AD26,AF26) -> 5 | X26: 38 | Y26: =IF(X26="","",ROUND(((X26-AJ$7)/AJ$8)*AJ$18+AJ$17,1)) -> 34.3 | Z26: 16 | AA26: =IF(Z26="","",ROUND(((Z26-AJ$9)/AJ$10)*AJ$18+AJ$17,1)) -> 18.9 | AB26: 31.4 | AC26: =IF(AB26="","",ROUND(((AB26-AJ$11)/AJ$12)*AJ$18+AJ$17,1)) -> 37.3 | AD26: 1287.2 | AE26: =IF(AD26="","",ROUND(((AD26-AJ$13)/AJ$14)*AJ$18+AJ$17,1)) -> 32.3 | AF26: 37 | AG26: =IF(AF26="","",ROUND(((AF26-AJ$15)/AJ$16)*AJ$18+AJ$17,1)) -> 37 | AM26: WR | AN26: Davante Adams | AO26: =IFERROR(ROUND(MAX(0,AVERAGE(AR26,AT26)),1),"") -> 16.4 | AP26: =COUNT(AQ26,AS26) -> 2 | AQ26: 15 | AR26: =IF(AQ26="","",ROUND(((AQ26-BC$7)/BC$8)*BC$12+BC$11,1)) -> 14.3 | AS26: 37 | AT26: =IF(AS26="","",ROUND(((AS26-BC$9)/BC$10)*BC$12+BC$11,1)) -> 18.5
A27: WR | B27: Tee Higgins | C27: =IFERROR(ROUND(MAX(0,AVERAGE(F27,H27,J27,L27,N27)),1),"") -> 30.6 | D27: =COUNT(E27,G27,I27,K27,M27) -> 5 | E27: 39 | F27: =IF(E27="","",ROUND(((E27-Q$7)/Q$8)*Q$18+Q$17,1)) -> 34.3 | G27: 17 | H27: =IF(G27="","",ROUND(((G27-Q$9)/Q$10)*Q$18+Q$17,1)) -> 18.2 | I27: 31.3 | J27: =IF(I27="","",ROUND(((I27-Q$11)/Q$12)*Q$18+Q$17,1)) -> 34.2 | K27: 1242 | L27: =IF(K27="","",ROUND(((K27-Q$13)/Q$14)*Q$18+Q$17,1)) -> 31.3 | M27: 35 | N27: =IF(M27="","",ROUND(((M27-Q$15)/Q$16)*Q$18+Q$17,1)) -> 35 | T27: WR | U27: Tee Higgins | V27: =IFERROR(MIN(ROUND(MAX(0,AVERAGE(Y27,AA27,AC27,AE27,AG27)),1),30.6),"") -> 29.8 | W27: =COUNT(X27,Z27,AB27,AD27,AF27) -> 5 | X27: 36 | Y27: =IF(X27="","",ROUND(((X27-AJ$7)/AJ$8)*AJ$18+AJ$17,1)) -> 32.4 | Z27: 16 | AA27: =IF(Z27="","",ROUND(((Z27-AJ$9)/AJ$10)*AJ$18+AJ$17,1)) -> 18.9 | AB27: 29.5 | AC27: =IF(AB27="","",ROUND(((AB27-AJ$11)/AJ$12)*AJ$18+AJ$17,1)) -> 34.5 | AD27: 1168.9 | AE27: =IF(AD27="","",ROUND(((AD27-AJ$13)/AJ$14)*AJ$18+AJ$17,1)) -> 29.2 | AF27: 34 | AG27: =IF(AF27="","",ROUND(((AF27-AJ$15)/AJ$16)*AJ$18+AJ$17,1)) -> 34 | AM27: WR | AN27: Tee Higgins | AO27: =IFERROR(ROUND(MAX(0,AVERAGE(AR27,AT27)),1),"") -> 15 | AP27: =COUNT(AQ27,AS27) -> 2 | AQ27: 15 | AR27: =IF(AQ27="","",ROUND(((AQ27-BC$7)/BC$8)*BC$12+BC$11,1)) -> 14.3 | AS27: 34 | AT27: =IF(AS27="","",ROUND(((AS27-BC$9)/BC$10)*BC$12+BC$11,1)) -> 15.6
A28: WR | B28: Michael Wilson | C28: =IFERROR(ROUND(MAX(0,AVERAGE(F28,H28,J28,L28,N28)),1),"") -> 30.5 | D28: =COUNT(E28,G28,I28,K28,M28) -> 5 | E28: 42 | F28: =IF(E28="","",ROUND(((E28-Q$7)/Q$8)*Q$18+Q$17,1)) -> 37 | G28: 16 | H28: =IF(G28="","",ROUND(((G28-Q$9)/Q$10)*Q$18+Q$17,1)) -> 16.6 | I28: 28.4 | J28: =IF(I28="","",ROUND(((I28-Q$11)/Q$12)*Q$18+Q$17,1)) -> 30 | K28: 1371 | L28: =IF(K28="","",ROUND(((K28-Q$13)/Q$14)*Q$18+Q$17,1)) -> 34.7 | M28: 34 | N28: =IF(M28="","",ROUND(((M28-Q$15)/Q$16)*Q$18+Q$17,1)) -> 34 | T28: WR | U28: Michael Wilson | V28: =IFERROR(MIN(ROUND(MAX(0,AVERAGE(Y28,AA28,AC28,AE28,AG28)),1),30.4),"") -> 28.5 | W28: =COUNT(X28,Z28,AB28,AD28,AF28) -> 5 | X28: 39 | Y28: =IF(X28="","",ROUND(((X28-AJ$7)/AJ$8)*AJ$18+AJ$17,1)) -> 35.2 | Z28: 14 | AA28: =IF(Z28="","",ROUND(((Z28-AJ$9)/AJ$10)*AJ$18+AJ$17,1)) -> 15.8 | AB28: 25.9 | AC28: =IF(AB28="","",ROUND(((AB28-AJ$11)/AJ$12)*AJ$18+AJ$17,1)) -> 29.3 | AD28: 1250 | AE28: =IF(AD28="","",ROUND(((AD28-AJ$13)/AJ$14)*AJ$18+AJ$17,1)) -> 31.4 | AF28: 31 | AG28: =IF(AF28="","",ROUND(((AF28-AJ$15)/AJ$16)*AJ$18+AJ$17,1)) -> 31 | AM28: WR | AN28: DJ Moore | AO28: =IFERROR(ROUND(MAX(0,AVERAGE(AR28,AT28)),1),"") -> 12 | AP28: =COUNT(AQ28,AS28) -> 2 | AQ28: 14 | AR28: =IF(AQ28="","",ROUND(((AQ28-BC$7)/BC$8)*BC$12+BC$11,1)) -> 13 | AS28: 29 | AT28: =IF(AS28="","",ROUND(((AS28-BC$9)/BC$10)*BC$12+BC$11,1)) -> 10.9
A29: WR | B29: DJ Moore | C29: =IFERROR(ROUND(MAX(0,AVERAGE(F29,H29,J29,L29,N29)),1),"") -> 27.2 | D29: =COUNT(E29,G29,I29,K29,M29) -> 5 | E29: 36 | F29: =IF(E29="","",ROUND(((E29-Q$7)/Q$8)*Q$18+Q$17,1)) -> 31.6 | G29: 16 | H29: =IF(G29="","",ROUND(((G29-Q$9)/Q$10)*Q$18+Q$17,1)) -> 16.6 | I29: 27.5 | J29: =IF(I29="","",ROUND(((I29-Q$11)/Q$12)*Q$18+Q$17,1)) -> 28.7 | K29: 1129 | L29: =IF(K29="","",ROUND(((K29-Q$13)/Q$14)*Q$18+Q$17,1)) -> 28.3 | M29: 31 | N29: =IF(M29="","",ROUND(((M29-Q$15)/Q$16)*Q$18+Q$17,1)) -> 31 | T29: WR | U29: DJ Moore | V29: =IFERROR(MIN(ROUND(MAX(0,AVERAGE(Y29,AA29,AC29,AE29,AG29)),1),27.2),"") -> 26.5 | W29: =COUNT(X29,Z29,AB29,AD29,AF29) -> 5 | X29: 33 | Y29: =IF(X29="","",ROUND(((X29-AJ$7)/AJ$8)*AJ$18+AJ$17,1)) -> 29.7 | Z29: 15 | AA29: =IF(Z29="","",ROUND(((Z29-AJ$9)/AJ$10)*AJ$18+AJ$17,1)) -> 17.4 | AB29: 25.8 | AC29: =IF(AB29="","",ROUND(((AB29-AJ$11)/AJ$12)*AJ$18+AJ$17,1)) -> 29.1 | AD29: 1058.4 | AE29: =IF(AD29="","",ROUND(((AD29-AJ$13)/AJ$14)*AJ$18+AJ$17,1)) -> 26.3 | AF29: 30 | AG29: =IF(AF29="","",ROUND(((AF29-AJ$15)/AJ$16)*AJ$18+AJ$17,1)) -> 30 | AM29: WR | AN29: Michael Wilson | AO29: =IFERROR(ROUND(MAX(0,AVERAGE(AR29,AT29)),1),"") -> 10.8 | AP29: =COUNT(AQ29,AS29) -> 2 | AQ29: 12 | AR29: =IF(AQ29="","",ROUND(((AQ29-BC$7)/BC$8)*BC$12+BC$11,1)) -> 10.6 | AS29: 29 | AT29: =IF(AS29="","",ROUND(((AS29-BC$9)/BC$10)*BC$12+BC$11,1)) -> 10.9
A30: WR | B30: Jalen Coker | C30: =IFERROR(ROUND(MAX(0,AVERAGE(F30,H30,J30,L30,N30)),1),"") -> 24.5 | D30: =COUNT(E30,G30,I30,K30,M30) -> 5 | E30: 37 | F30: =IF(E30="","",ROUND(((E30-Q$7)/Q$8)*Q$18+Q$17,1)) -> 32.5 | G30: 13 | H30: =IF(G30="","",ROUND(((G30-Q$9)/Q$10)*Q$18+Q$17,1)) -> 12 | I30: 24.8 | J30: =IF(I30="","",ROUND(((I30-Q$11)/Q$12)*Q$18+Q$17,1)) -> 24.8 | K30: 1016 | L30: =IF(K30="","",ROUND(((K30-Q$13)/Q$14)*Q$18+Q$17,1)) -> 25.3 | M30: 28 | N30: =IF(M30="","",ROUND(((M30-Q$15)/Q$16)*Q$18+Q$17,1)) -> 28 | T30: WR | U30: Jalen Coker | V30: =IFERROR(MIN(ROUND(MAX(0,AVERAGE(Y30,AA30,AC30,AE30,AG30)),1),24.5),"") -> 23.7 | W30: =COUNT(X30,Z30,AB30,AD30,AF30) -> 5 | X30: 34 | Y30: =IF(X30="","",ROUND(((X30-AJ$7)/AJ$8)*AJ$18+AJ$17,1)) -> 30.6 | Z30: 12 | AA30: =IF(Z30="","",ROUND(((Z30-AJ$9)/AJ$10)*AJ$18+AJ$17,1)) -> 12.7 | AB30: 22.9 | AC30: =IF(AB30="","",ROUND(((AB30-AJ$11)/AJ$12)*AJ$18+AJ$17,1)) -> 24.9 | AD30: 937.8 | AE30: =IF(AD30="","",ROUND(((AD30-AJ$13)/AJ$14)*AJ$18+AJ$17,1)) -> 23.1 | AF30: 27 | AG30: =IF(AF30="","",ROUND(((AF30-AJ$15)/AJ$16)*AJ$18+AJ$17,1)) -> 27 | AM30: WR | AN30: Rashee Rice | AO30: =IFERROR(ROUND(MAX(0,AVERAGE(AR30,AT30)),1),"") -> 10.3 | AP30: =COUNT(AQ30,AS30) -> 2 | AQ30: 12 | AR30: =IF(AQ30="","",ROUND(((AQ30-BC$7)/BC$8)*BC$12+BC$11,1)) -> 10.6 | AS30: 28 | AT30: =IF(AS30="","",ROUND(((AS30-BC$9)/BC$10)*BC$12+BC$11,1)) -> 9.9
A31: WR | B31: Rashee Rice | C31: =IFERROR(ROUND(MAX(0,AVERAGE(F31,H31,J31,L31,N31)),1),"") -> 24.1 | D31: =COUNT(E31,G31,I31,K31,M31) -> 5 | E31: 31 | F31: =IF(E31="","",ROUND(((E31-Q$7)/Q$8)*Q$18+Q$17,1)) -> 27.1 | G31: 15 | H31: =IF(G31="","",ROUND(((G31-Q$9)/Q$10)*Q$18+Q$17,1)) -> 15.1 | I31: 26.9 | J31: =IF(I31="","",ROUND(((I31-Q$11)/Q$12)*Q$18+Q$17,1)) -> 27.8 | K31: 799 | L31: =IF(K31="","",ROUND(((K31-Q$13)/Q$14)*Q$18+Q$17,1)) -> 19.6 | M31: 31 | N31: =IF(M31="","",ROUND(((M31-Q$15)/Q$16)*Q$18+Q$17,1)) -> 31 | T31: WR | U31: Rashee Rice | V31: =IFERROR(MIN(ROUND(MAX(0,AVERAGE(Y31,AA31,AC31,AE31,AG31)),1),24.1),"") -> 23.3 | W31: =COUNT(X31,Z31,AB31,AD31,AF31) -> 5 | X31: 29 | Y31: =IF(X31="","",ROUND(((X31-AJ$7)/AJ$8)*AJ$18+AJ$17,1)) -> 26.1 | Z31: 13.5 | AA31: =IF(Z31="","",ROUND(((Z31-AJ$9)/AJ$10)*AJ$18+AJ$17,1)) -> 15 | AB31: 25.2 | AC31: =IF(AB31="","",ROUND(((AB31-AJ$11)/AJ$12)*AJ$18+AJ$17,1)) -> 28.3 | AD31: 747.5 | AE31: =IF(AD31="","",ROUND(((AD31-AJ$13)/AJ$14)*AJ$18+AJ$17,1)) -> 18.1 | AF31: 29 | AG31: =IF(AF31="","",ROUND(((AF31-AJ$15)/AJ$16)*AJ$18+AJ$17,1)) -> 29 | AM31: WR | AN31: Terry McLaurin | AO31: =IFERROR(ROUND(MAX(0,AVERAGE(AR31,AT31)),1),"") -> 9.2 | AP31: =COUNT(AQ31,AS31) -> 2 | AQ31: 11 | AR31: =IF(AQ31="","",ROUND(((AQ31-BC$7)/BC$8)*BC$12+BC$11,1)) -> 9.3 | AS31: 27 | AT31: =IF(AS31="","",ROUND(((AS31-BC$9)/BC$10)*BC$12+BC$11,1)) -> 9
A32: WR | B32: Jameson Williams | C32: =IFERROR(ROUND(MAX(0,AVERAGE(F32,H32,J32,L32,N32)),1),"") -> 23.9 | D32: =COUNT(E32,G32,I32,K32,M32) -> 5 | E32: 31 | F32: =IF(E32="","",ROUND(((E32-Q$7)/Q$8)*Q$18+Q$17,1)) -> 27.1 | G32: 12 | H32: =IF(G32="","",ROUND(((G32-Q$9)/Q$10)*Q$18+Q$17,1)) -> 10.4 | I32: 28 | J32: =IF(I32="","",ROUND(((I32-Q$11)/Q$12)*Q$18+Q$17,1)) -> 29.4 | K32: 1177 | L32: =IF(K32="","",ROUND(((K32-Q$13)/Q$14)*Q$18+Q$17,1)) -> 29.6 | M32: 23 | N32: =IF(M32="","",ROUND(((M32-Q$15)/Q$16)*Q$18+Q$17,1)) -> 23 | T32: WR | U32: Jameson Williams | V32: =IFERROR(MIN(ROUND(MAX(0,AVERAGE(Y32,AA32,AC32,AE32,AG32)),1),23.8),"") -> 23.7 | W32: =COUNT(X32,Z32,AB32,AD32,AF32) -> 5 | X32: 29 | Y32: =IF(X32="","",ROUND(((X32-AJ$7)/AJ$8)*AJ$18+AJ$17,1)) -> 26.1 | Z32: 11 | AA32: =IF(Z32="","",ROUND(((Z32-AJ$9)/AJ$10)*AJ$18+AJ$17,1)) -> 11.2 | AB32: 26.2 | AC32: =IF(AB32="","",ROUND(((AB32-AJ$11)/AJ$12)*AJ$18+AJ$17,1)) -> 29.7 | AD32: 1101.1 | AE32: =IF(AD32="","",ROUND(((AD32-AJ$13)/AJ$14)*AJ$18+AJ$17,1)) -> 27.4 | AF32: 24 | AG32: =IF(AF32="","",ROUND(((AF32-AJ$15)/AJ$16)*AJ$18+AJ$17,1)) -> 24 | AM32: WR | AN32: Ladd McConkey | AO32: =IFERROR(ROUND(MAX(0,AVERAGE(AR32,AT32)),1),"") -> 9 | AP32: =COUNT(AQ32,AS32) -> 2 | AQ32: 10 | AR32: =IF(AQ32="","",ROUND(((AQ32-BC$7)/BC$8)*BC$12+BC$11,1)) -> 8.1 | AS32: 28 | AT32: =IF(AS32="","",ROUND(((AS32-BC$9)/BC$10)*BC$12+BC$11,1)) -> 9.9
A33: WR | B33: Terry McLaurin | C33: =IFERROR(ROUND(MAX(0,AVERAGE(F33,H33,J33,L33,N33)),1),"") -> 23.6 | D33: =COUNT(E33,G33,I33,K33,M33) -> 5 | E33: 31 | F33: =IF(E33="","",ROUND(((E33-Q$7)/Q$8)*Q$18+Q$17,1)) -> 27.1 | G33: 13 | H33: =IF(G33="","",ROUND(((G33-Q$9)/Q$10)*Q$18+Q$17,1)) -> 12 | I33: 25.9 | J33: =IF(I33="","",ROUND(((I33-Q$11)/Q$12)*Q$18+Q$17,1)) -> 26.4 | K33: 993 | L33: =IF(K33="","",ROUND(((K33-Q$13)/Q$14)*Q$18+Q$17,1)) -> 24.7 | M33: 28 | N33: =IF(M33="","",ROUND(((M33-Q$15)/Q$16)*Q$18+Q$17,1)) -> 28 | T33: WR | U33: Terry McLaurin | V33: =IFERROR(MIN(ROUND(MAX(0,AVERAGE(Y33,AA33,AC33,AE33,AG33)),1),23.6),"") -> 23.1 | W33: =COUNT(X33,Z33,AB33,AD33,AF33) -> 5 | X33: 29 | Y33: =IF(X33="","",ROUND(((X33-AJ$7)/AJ$8)*AJ$18+AJ$17,1)) -> 26.1 | Z33: 12 | AA33: =IF(Z33="","",ROUND(((Z33-AJ$9)/AJ$10)*AJ$18+AJ$17,1)) -> 12.7 | AB33: 24.2 | AC33: =IF(AB33="","",ROUND(((AB33-AJ$11)/AJ$12)*AJ$18+AJ$17,1)) -> 26.8 | AD33: 928.9 | AE33: =IF(AD33="","",ROUND(((AD33-AJ$13)/AJ$14)*AJ$18+AJ$17,1)) -> 22.9 | AF33: 27 | AG33: =IF(AF33="","",ROUND(((AF33-AJ$15)/AJ$16)*AJ$18+AJ$17,1)) -> 27 | AM33: WR | AN33: Luther Burden III | AO33: =IFERROR(ROUND(MAX(0,AVERAGE(AR33,AT33)),1),"") -> 8.7 | AP33: =COUNT(AQ33,AS33) -> 2 | AQ33: 8 | AR33: =IF(AQ33="","",ROUND(((AQ33-BC$7)/BC$8)*BC$12+BC$11,1)) -> 5.6 | AS33: 30 | AT33: =IF(AS33="","",ROUND(((AS33-BC$9)/BC$10)*BC$12+BC$11,1)) -> 11.8
A34: WR | B34: Luther Burden III | C34: =IFERROR(ROUND(MAX(0,AVERAGE(F34,H34,J34,L34,N34)),1),"") -> 22.9 | D34: =COUNT(E34,G34,I34,K34,M34) -> 5 | E34: 31 | F34: =IF(E34="","",ROUND(((E34-Q$7)/Q$8)*Q$18+Q$17,1)) -> 27.1 | G34: 10 | H34: =IF(G34="","",ROUND(((G34-Q$9)/Q$10)*Q$18+Q$17,1)) -> 7.3 | I34: 24.9 | J34: =IF(I34="","",ROUND(((I34-Q$11)/Q$12)*Q$18+Q$17,1)) -> 24.9 | K34: 970 | L34: =IF(K34="","",ROUND(((K34-Q$13)/Q$14)*Q$18+Q$17,1)) -> 24.1 | M34: 31 | N34: =IF(M34="","",ROUND(((M34-Q$15)/Q$16)*Q$18+Q$17,1)) -> 31 | T34: WR | U34: Luther Burden III | V34: =IFERROR(MIN(ROUND(MAX(0,AVERAGE(Y34,AA34,AC34,AE34,AG34)),1),22.8),"") -> 22.4 | W34: =COUNT(X34,Z34,AB34,AD34,AF34) -> 5 | X34: 29 | Y34: =IF(X34="","",ROUND(((X34-AJ$7)/AJ$8)*AJ$18+AJ$17,1)) -> 26.1 | Z34: 9 | AA34: =IF(Z34="","",ROUND(((Z34-AJ$9)/AJ$10)*AJ$18+AJ$17,1)) -> 8.1 | AB34: 23.3 | AC34: =IF(AB34="","",ROUND(((AB34-AJ$11)/AJ$12)*AJ$18+AJ$17,1)) -> 25.5 | AD34: 907.4 | AE34: =IF(AD34="","",ROUND(((AD34-AJ$13)/AJ$14)*AJ$18+AJ$17,1)) -> 22.3 | AF34: 30 | AG34: =IF(AF34="","",ROUND(((AF34-AJ$15)/AJ$16)*AJ$18+AJ$17,1)) -> 30 | AM34: WR | AN34: Jalen Coker | AO34: =IFERROR(ROUND(MAX(0,AVERAGE(AR34,AT34)),1),"") -> 8.7 | AP34: =COUNT(AQ34,AS34) -> 2 | AQ34: 11 | AR34: =IF(AQ34="","",ROUND(((AQ34-BC$7)/BC$8)*BC$12+BC$11,1)) -> 9.3 | AS34: 26 | AT34: =IF(AS34="","",ROUND(((AS34-BC$9)/BC$10)*BC$12+BC$11,1)) -> 8
A35: WR | B35: Jaylen Waddle | C35: =IFERROR(ROUND(MAX(0,AVERAGE(F35,H35,J35,L35,N35)),1),"") -> 22.5 | D35: =COUNT(E35,G35,I35,K35,M35) -> 5 | E35: 29 | F35: =IF(E35="","",ROUND(((E35-Q$7)/Q$8)*Q$18+Q$17,1)) -> 25.3 | G35: 11 | H35: =IF(G35="","",ROUND(((G35-Q$9)/Q$10)*Q$18+Q$17,1)) -> 8.9 | I35: 26.7 | J35: =IF(I35="","",ROUND(((I35-Q$11)/Q$12)*Q$18+Q$17,1)) -> 27.5 | K35: 959 | L35: =IF(K35="","",ROUND(((K35-Q$13)/Q$14)*Q$18+Q$17,1)) -> 23.8 | M35: 27 | N35: =IF(M35="","",ROUND(((M35-Q$15)/Q$16)*Q$18+Q$17,1)) -> 27 | T35: WR | U35: Jaylen Waddle | V35: =IFERROR(MIN(ROUND(MAX(0,AVERAGE(Y35,AA35,AC35,AE35,AG35)),1),22.4),"") -> 22.4 | W35: =COUNT(X35,Z35,AB35,AD35,AF35) -> 5 | X35: 28 | Y35: =IF(X35="","",ROUND(((X35-AJ$7)/AJ$8)*AJ$18+AJ$17,1)) -> 25.2 | Z35: 10 | AA35: =IF(Z35="","",ROUND(((Z35-AJ$9)/AJ$10)*AJ$18+AJ$17,1)) -> 9.6 | AB35: 25.7 | AC35: =IF(AB35="","",ROUND(((AB35-AJ$11)/AJ$12)*AJ$18+AJ$17,1)) -> 29 | AD35: 923.5 | AE35: =IF(AD35="","",ROUND(((AD35-AJ$13)/AJ$14)*AJ$18+AJ$17,1)) -> 22.8 | AF35: 26 | AG35: =IF(AF35="","",ROUND(((AF35-AJ$15)/AJ$16)*AJ$18+AJ$17,1)) -> 26 | AM35: WR | AN35: Jameson Williams | AO35: =IFERROR(ROUND(MAX(0,AVERAGE(AR35,AT35)),1),"") -> 7.6 | AP35: =COUNT(AQ35,AS35) -> 2 | AQ35: 10 | AR35: =IF(AQ35="","",ROUND(((AQ35-BC$7)/BC$8)*BC$12+BC$11,1)) -> 8.1 | AS35: 25 | AT35: =IF(AS35="","",ROUND(((AS35-BC$9)/BC$10)*BC$12+BC$11,1)) -> 7
A36: WR | B36: Denzel Boston | C36: =IFERROR(ROUND(MAX(0,AVERAGE(F36,H36,J36,L36,N36)),1),"") -> 21.2 | D36: =COUNT(E36,G36,I36,K36,M36) -> 5 | E36: 31 | F36: =IF(E36="","",ROUND(((E36-Q$7)/Q$8)*Q$18+Q$17,1)) -> 27.1 | G36: 8 | H36: =IF(G36="","",ROUND(((G36-Q$9)/Q$10)*Q$18+Q$17,1)) -> 4.2 | I36: 24.2 | J36: =IF(I36="","",ROUND(((I36-Q$11)/Q$12)*Q$18+Q$17,1)) -> 23.9 | K36: 1004 | L36: =IF(K36="","",ROUND(((K36-Q$13)/Q$14)*Q$18+Q$17,1)) -> 25 | M36: 26 | N36: =IF(M36="","",ROUND(((M36-Q$15)/Q$16)*Q$18+Q$17,1)) -> 26 | T36: WR | U36: Denzel Boston | V36: =IFERROR(MIN(ROUND(MAX(0,AVERAGE(Y36,AA36,AC36,AE36,AG36)),1),21.2),"") -> 21.1 | W36: =COUNT(X36,Z36,AB36,AD36,AF36) -> 5 | X36: 29 | Y36: =IF(X36="","",ROUND(((X36-AJ$7)/AJ$8)*AJ$18+AJ$17,1)) -> 26.1 | Z36: 7.5 | AA36: =IF(Z36="","",ROUND(((Z36-AJ$9)/AJ$10)*AJ$18+AJ$17,1)) -> 5.7 | AB36: 22.7 | AC36: =IF(AB36="","",ROUND(((AB36-AJ$11)/AJ$12)*AJ$18+AJ$17,1)) -> 24.6 | AD36: 941.2 | AE36: =IF(AD36="","",ROUND(((AD36-AJ$13)/AJ$14)*AJ$18+AJ$17,1)) -> 23.2 | AF36: 26 | AG36: =IF(AF36="","",ROUND(((AF36-AJ$15)/AJ$16)*AJ$18+AJ$17,1)) -> 26 | AM36: WR | AN36: Jaylen Waddle | AO36: =IFERROR(ROUND(MAX(0,AVERAGE(AR36,AT36)),1),"") -> 7.5 | AP36: =COUNT(AQ36,AS36) -> 2 | AQ36: 9 | AR36: =IF(AQ36="","",ROUND(((AQ36-BC$7)/BC$8)*BC$12+BC$11,1)) -> 6.9 | AS36: 26 | AT36: =IF(AS36="","",ROUND(((AS36-BC$9)/BC$10)*BC$12+BC$11,1)) -> 8
A37: WR | B37: Ladd McConkey | C37: =IFERROR(ROUND(MAX(0,AVERAGE(F37,H37,J37,L37,N37)),1),"") -> 21.2 | D37: =COUNT(E37,G37,I37,K37,M37) -> 5 | E37: 29 | F37: =IF(E37="","",ROUND(((E37-Q$7)/Q$8)*Q$18+Q$17,1)) -> 25.3 | G37: 12 | H37: =IF(G37="","",ROUND(((G37-Q$9)/Q$10)*Q$18+Q$17,1)) -> 10.4 | I37: 18.8 | J37: =IF(I37="","",ROUND(((I37-Q$11)/Q$12)*Q$18+Q$17,1)) -> 16 | K37: 936 | L37: =IF(K37="","",ROUND(((K37-Q$13)/Q$14)*Q$18+Q$17,1)) -> 23.2 | M37: 31 | N37: =IF(M37="","",ROUND(((M37-Q$15)/Q$16)*Q$18+Q$17,1)) -> 31 | T37: WR | U37: Ladd McConkey | V37: =IFERROR(MIN(ROUND(MAX(0,AVERAGE(Y37,AA37,AC37,AE37,AG37)),1),21.1),"") -> 20.8 | W37: =COUNT(X37,Z37,AB37,AD37,AF37) -> 5 | X37: 28 | Y37: =IF(X37="","",ROUND(((X37-AJ$7)/AJ$8)*AJ$18+AJ$17,1)) -> 25.2 | Z37: 11 | AA37: =IF(Z37="","",ROUND(((Z37-AJ$9)/AJ$10)*AJ$18+AJ$17,1)) -> 11.2 | AB37: 17.6 | AC37: =IF(AB37="","",ROUND(((AB37-AJ$11)/AJ$12)*AJ$18+AJ$17,1)) -> 17.2 | AD37: 875.6 | AE37: =IF(AD37="","",ROUND(((AD37-AJ$13)/AJ$14)*AJ$18+AJ$17,1)) -> 21.5 | AF37: 29 | AG37: =IF(AF37="","",ROUND(((AF37-AJ$15)/AJ$16)*AJ$18+AJ$17,1)) -> 29 | AM37: WR | AN37: Emeka Egbuka | AO37: =IFERROR(ROUND(MAX(0,AVERAGE(AR37,AT37)),1),"") -> 7.1 | AP37: =COUNT(AQ37,AS37) -> 2 | AQ37: 10 | AR37: =IF(AQ37="","",ROUND(((AQ37-BC$7)/BC$8)*BC$12+BC$11,1)) -> 8.1 | AS37: 24 | AT37: =IF(AS37="","",ROUND(((AS37-BC$9)/BC$10)*BC$12+BC$11,1)) -> 6.1
A38: WR | B38: Emeka Egbuka | C38: =IFERROR(ROUND(MAX(0,AVERAGE(F38,H38,J38,L38,N38)),1),"") -> 20.7 | D38: =COUNT(E38,G38,I38,K38,M38) -> 5 | E38: 30 | F38: =IF(E38="","",ROUND(((E38-Q$7)/Q$8)*Q$18+Q$17,1)) -> 26.2 | G38: 12 | H38: =IF(G38="","",ROUND(((G38-Q$9)/Q$10)*Q$18+Q$17,1)) -> 10.4 | I38: 24.3 | J38: =IF(I38="","",ROUND(((I38-Q$11)/Q$12)*Q$18+Q$17,1)) -> 24 | K38: 742 | L38: =IF(K38="","",ROUND(((K38-Q$13)/Q$14)*Q$18+Q$17,1)) -> 18.1 | M38: 25 | N38: =IF(M38="","",ROUND(((M38-Q$15)/Q$16)*Q$18+Q$17,1)) -> 25 | T38: WR | U38: Emeka Egbuka | V38: =IFERROR(MIN(ROUND(MAX(0,AVERAGE(Y38,AA38,AC38,AE38,AG38)),1),20.7),"") -> 20.5 | W38: =COUNT(X38,Z38,AB38,AD38,AF38) -> 5 | X38: 28 | Y38: =IF(X38="","",ROUND(((X38-AJ$7)/AJ$8)*AJ$18+AJ$17,1)) -> 25.2 | Z38: 11 | AA38: =IF(Z38="","",ROUND(((Z38-AJ$9)/AJ$10)*AJ$18+AJ$17,1)) -> 11.2 | AB38: 22.7 | AC38: =IF(AB38="","",ROUND(((AB38-AJ$11)/AJ$12)*AJ$18+AJ$17,1)) -> 24.6 | AD38: 692.5 | AE38: =IF(AD38="","",ROUND(((AD38-AJ$13)/AJ$14)*AJ$18+AJ$17,1)) -> 16.7 | AF38: 25 | AG38: =IF(AF38="","",ROUND(((AF38-AJ$15)/AJ$16)*AJ$18+AJ$17,1)) -> 25 | AM38: WR | AN38: Denzel Boston | AO38: =IFERROR(ROUND(MAX(0,AVERAGE(AR38,AT38)),1),"") -> 6.2 | AP38: =COUNT(AQ38,AS38) -> 2 | AQ38: 7 | AR38: =IF(AQ38="","",ROUND(((AQ38-BC$7)/BC$8)*BC$12+BC$11,1)) -> 4.4 | AS38: 26 | AT38: =IF(AS38="","",ROUND(((AS38-BC$9)/BC$10)*BC$12+BC$11,1)) -> 8
A39: WR | B39: Carnell Tate | C39: =IFERROR(ROUND(MAX(0,AVERAGE(F39,H39,J39,L39,N39)),1),"") -> 18.9 | D39: =COUNT(E39,G39,I39,K39,M39) -> 5 | E39: 30 | F39: =IF(E39="","",ROUND(((E39-Q$7)/Q$8)*Q$18+Q$17,1)) -> 26.2 | G39: 8 | H39: =IF(G39="","",ROUND(((G39-Q$9)/Q$10)*Q$18+Q$17,1)) -> 4.2 | I39: 20.2 | J39: =IF(I39="","",ROUND(((I39-Q$11)/Q$12)*Q$18+Q$17,1)) -> 18.1 | K39: 845 | L39: =IF(K39="","",ROUND(((K39-Q$13)/Q$14)*Q$18+Q$17,1)) -> 20.8 | M39: 25 | N39: =IF(M39="","",ROUND(((M39-Q$15)/Q$16)*Q$18+Q$17,1)) -> 25 | T39: WR | U39: Carnell Tate | V39: =IFERROR(MIN(ROUND(MAX(0,AVERAGE(Y39,AA39,AC39,AE39,AG39)),1),18.8),"") -> 18.5 | W39: =COUNT(X39,Z39,AB39,AD39,AF39) -> 5 | X39: 28 | Y39: =IF(X39="","",ROUND(((X39-AJ$7)/AJ$8)*AJ$18+AJ$17,1)) -> 25.2 | Z39: 7 | AA39: =IF(Z39="","",ROUND(((Z39-AJ$9)/AJ$10)*AJ$18+AJ$17,1)) -> 5 | AB39: 18.9 | AC39: =IF(AB39="","",ROUND(((AB39-AJ$11)/AJ$12)*AJ$18+AJ$17,1)) -> 19.1 | AD39: 788.7 | AE39: =IF(AD39="","",ROUND(((AD39-AJ$13)/AJ$14)*AJ$18+AJ$17,1)) -> 19.2 | AF39: 24 | AG39: =IF(AF39="","",ROUND(((AF39-AJ$15)/AJ$16)*AJ$18+AJ$17,1)) -> 24 | AM39: WR | AN39: DK Metcalf | AO39: =IFERROR(ROUND(MAX(0,AVERAGE(AR39,AT39)),1),"") -> 5.3 | AP39: =COUNT(AQ39,AS39) -> 2 | AQ39: 7 | AR39: =IF(AQ39="","",ROUND(((AQ39-BC$7)/BC$8)*BC$12+BC$11,1)) -> 4.4 | AS39: 24 | AT39: =IF(AS39="","",ROUND(((AS39-BC$9)/BC$10)*BC$12+BC$11,1)) -> 6.1
A40: WR | B40: DK Metcalf | C40: =IFERROR(ROUND(MAX(0,AVERAGE(F40,H40,J40,L40,N40)),1),"") -> 18.3 | D40: =COUNT(E40,G40,I40,K40,M40) -> 5 | E40: 28 | F40: =IF(E40="","",ROUND(((E40-Q$7)/Q$8)*Q$18+Q$17,1)) -> 24.4 | G40: 9 | H40: =IF(G40="","",ROUND(((G40-Q$9)/Q$10)*Q$18+Q$17,1)) -> 5.8 | I40: 21.3 | J40: =IF(I40="","",ROUND(((I40-Q$11)/Q$12)*Q$18+Q$17,1)) -> 19.7 | K40: 753 | L40: =IF(K40="","",ROUND(((K40-Q$13)/Q$14)*Q$18+Q$17,1)) -> 18.4 | M40: 23 | N40: =IF(M40="","",ROUND(((M40-Q$15)/Q$16)*Q$18+Q$17,1)) -> 23 | T40: WR | U40: DK Metcalf | V40: =IFERROR(MIN(ROUND(MAX(0,AVERAGE(Y40,AA40,AC40,AE40,AG40)),1),18.2),"") -> 18 | W40: =COUNT(X40,Z40,AB40,AD40,AF40) -> 5 | X40: 26 | Y40: =IF(X40="","",ROUND(((X40-AJ$7)/AJ$8)*AJ$18+AJ$17,1)) -> 23.4 | Z40: 8 | AA40: =IF(Z40="","",ROUND(((Z40-AJ$9)/AJ$10)*AJ$18+AJ$17,1)) -> 6.5 | AB40: 19.8 | AC40: =IF(AB40="","",ROUND(((AB40-AJ$11)/AJ$12)*AJ$18+AJ$17,1)) -> 20.4 | AD40: 699.2 | AE40: =IF(AD40="","",ROUND(((AD40-AJ$13)/AJ$14)*AJ$18+AJ$17,1)) -> 16.9 | AF40: 23 | AG40: =IF(AF40="","",ROUND(((AF40-AJ$15)/AJ$16)*AJ$18+AJ$17,1)) -> 23 | AM40: WR | AN40: Carnell Tate | AO40: =IFERROR(ROUND(MAX(0,AVERAGE(AR40,AT40)),1),"") -> 3.7 | AP40: =COUNT(AQ40,AS40) -> 2 | AQ40: 6 | AR40: =IF(AQ40="","",ROUND(((AQ40-BC$7)/BC$8)*BC$12+BC$11,1)) -> 3.2 | AS40: 22 | AT40: =IF(AS40="","",ROUND(((AS40-BC$9)/BC$10)*BC$12+BC$11,1)) -> 4.2
A41: WR | B41: Rome Odunze | C41: =IFERROR(ROUND(MAX(0,AVERAGE(F41,H41,J41,L41,N41)),1),"") -> 17.7 | D41: =COUNT(E41,G41,I41,K41,M41) -> 5 | E41: 28 | F41: =IF(E41="","",ROUND(((E41-Q$7)/Q$8)*Q$18+Q$17,1)) -> 24.4 | G41: 8 | H41: =IF(G41="","",ROUND(((G41-Q$9)/Q$10)*Q$18+Q$17,1)) -> 4.2 | I41: 24.6 | J41: =IF(I41="","",ROUND(((I41-Q$11)/Q$12)*Q$18+Q$17,1)) -> 24.5 | K41: 599 | L41: =IF(K41="","",ROUND(((K41-Q$13)/Q$14)*Q$18+Q$17,1)) -> 14.3 | M41: 21 | N41: =IF(M41="","",ROUND(((M41-Q$15)/Q$16)*Q$18+Q$17,1)) -> 21 | T41: WR | U41: Rome Odunze | V41: =IFERROR(MIN(ROUND(MAX(0,AVERAGE(Y41,AA41,AC41,AE41,AG41)),1),17.6),"") -> 17.3 | W41: =COUNT(X41,Z41,AB41,AD41,AF41) -> 5 | X41: 26 | Y41: =IF(X41="","",ROUND(((X41-AJ$7)/AJ$8)*AJ$18+AJ$17,1)) -> 23.4 | Z41: 7 | AA41: =IF(Z41="","",ROUND(((Z41-AJ$9)/AJ$10)*AJ$18+AJ$17,1)) -> 5 | AB41: 22.8 | AC41: =IF(AB41="","",ROUND(((AB41-AJ$11)/AJ$12)*AJ$18+AJ$17,1)) -> 24.8 | AD41: 556.2 | AE41: =IF(AD41="","",ROUND(((AD41-AJ$13)/AJ$14)*AJ$18+AJ$17,1)) -> 13.1 | AF41: 20 | AG41: =IF(AF41="","",ROUND(((AF41-AJ$15)/AJ$16)*AJ$18+AJ$17,1)) -> 20 | AM41: WR | AN41: Stefon Diggs | AO41: =IFERROR(ROUND(MAX(0,AVERAGE(AR41,AT41)),1),"") -> 3.2 | AP41: =COUNT(AQ41,AS41) -> 2 | AQ41: 6 | AR41: =IF(AQ41="","",ROUND(((AQ41-BC$7)/BC$8)*BC$12+BC$11,1)) -> 3.2 | AS41: 21 | AT41: =IF(AS41="","",ROUND(((AS41-BC$9)/BC$10)*BC$12+BC$11,1)) -> 3.2
A42: WR | B42: Deebo Samuel Sr. | C42: =IFERROR(ROUND(MAX(0,AVERAGE(F42,H42,J42,L42,N42)),1),"") -> 16.9 | D42: =COUNT(E42,G42,I42,K42,M42) -> 4 | E42: 18 | F42: =IF(E42="","",ROUND(((E42-Q$7)/Q$8)*Q$18+Q$17,1)) -> 15.3 | H42: =IF(G42="","",ROUND(((G42-Q$9)/Q$10)*Q$18+Q$17,1)) | I42: 16.5 | J42: =IF(I42="","",ROUND(((I42-Q$11)/Q$12)*Q$18+Q$17,1)) -> 12.7 | K42: 947 | L42: =IF(K42="","",ROUND(((K42-Q$13)/Q$14)*Q$18+Q$17,1)) -> 23.5 | M42: 16 | N42: =IF(M42="","",ROUND(((M42-Q$15)/Q$16)*Q$18+Q$17,1)) -> 16 | T42: WR | U42: Deebo Samuel Sr. | V42: =IFERROR(MIN(ROUND(MAX(0,AVERAGE(Y42,AA42,AC42,AE42,AG42)),1),16.8),"") -> 16.8 | W42: =COUNT(X42,Z42,AB42,AD42,AF42) -> 4 | X42: 16 | Y42: =IF(X42="","",ROUND(((X42-AJ$7)/AJ$8)*AJ$18+AJ$17,1)) -> 14.3 | AA42: =IF(Z42="","",ROUND(((Z42-AJ$9)/AJ$10)*AJ$18+AJ$17,1)) | AB42: 16.5 | AC42: =IF(AB42="","",ROUND(((AB42-AJ$11)/AJ$12)*AJ$18+AJ$17,1)) -> 15.6 | AD42: 947 | AE42: =IF(AD42="","",ROUND(((AD42-AJ$13)/AJ$14)*AJ$18+AJ$17,1)) -> 23.4 | AF42: 16 | AG42: =IF(AF42="","",ROUND(((AF42-AJ$15)/AJ$16)*AJ$18+AJ$17,1)) -> 16 | AM42: WR | AN42: Rome Odunze | AO42: =IFERROR(ROUND(MAX(0,AVERAGE(AR42,AT42)),1),"") -> 2.3 | AP42: =COUNT(AQ42,AS42) -> 2 | AQ42: 6 | AR42: =IF(AQ42="","",ROUND(((AQ42-BC$7)/BC$8)*BC$12+BC$11,1)) -> 3.2 | AS42: 19 | AT42: =IF(AS42="","",ROUND(((AS42-BC$9)/BC$10)*BC$12+BC$11,1)) -> 1.3
A43: WR | B43: Romeo Doubs | C43: =IFERROR(ROUND(MAX(0,AVERAGE(F43,H43,J43,L43,N43)),1),"") -> 15 | D43: =COUNT(E43,G43,I43,K43,M43) -> 4 | E43: 16 | F43: =IF(E43="","",ROUND(((E43-Q$7)/Q$8)*Q$18+Q$17,1)) -> 13.5 | H43: =IF(G43="","",ROUND(((G43-Q$9)/Q$10)*Q$18+Q$17,1)) | I43: 18.2 | J43: =IF(I43="","",ROUND(((I43-Q$11)/Q$12)*Q$18+Q$17,1)) -> 15.1 | K43: 606 | L43: =IF(K43="","",ROUND(((K43-Q$13)/Q$14)*Q$18+Q$17,1)) -> 14.5 | M43: 17 | N43: =IF(M43="","",ROUND(((M43-Q$15)/Q$16)*Q$18+Q$17,1)) -> 17 | T43: WR | U43: Romeo Doubs | V43: =IFERROR(MIN(ROUND(MAX(0,AVERAGE(Y43,AA43,AC43,AE43,AG43)),1),15),"") -> 14.6 | W43: =COUNT(X43,Z43,AB43,AD43,AF43) -> 4 | X43: 14 | Y43: =IF(X43="","",ROUND(((X43-AJ$7)/AJ$8)*AJ$18+AJ$17,1)) -> 12.5 | AA43: =IF(Z43="","",ROUND(((Z43-AJ$9)/AJ$10)*AJ$18+AJ$17,1)) | AB43: 17.1 | AC43: =IF(AB43="","",ROUND(((AB43-AJ$11)/AJ$12)*AJ$18+AJ$17,1)) -> 16.5 | AD43: 570.4 | AE43: =IF(AD43="","",ROUND(((AD43-AJ$13)/AJ$14)*AJ$18+AJ$17,1)) -> 13.5 | AF43: 16 | AG43: =IF(AF43="","",ROUND(((AF43-AJ$15)/AJ$16)*AJ$18+AJ$17,1)) -> 16 | AM43: WR | AN43: Marvin Harrison Jr. | AO43: =IFERROR(ROUND(MAX(0,AVERAGE(AR43,AT43)),1),"") -> 0.7 | AP43: =COUNT(AQ43,AS43) -> 2 | AQ43: 5 | AR43: =IF(AQ43="","",ROUND(((AQ43-BC$7)/BC$8)*BC$12+BC$11,1)) -> 1.9 | AS43: 17 | AT43: =IF(AS43="","",ROUND(((AS43-BC$9)/BC$10)*BC$12+BC$11,1)) -> -0.6
A44: WR | B44: Stefon Diggs | C44: =IFERROR(ROUND(MAX(0,AVERAGE(F44,H44,J44,L44,N44)),1),"") -> 14.7 | D44: =COUNT(E44,G44,I44,K44,M44) -> 5 | E44: 20 | F44: =IF(E44="","",ROUND(((E44-Q$7)/Q$8)*Q$18+Q$17,1)) -> 17.1 | G44: 8 | H44: =IF(G44="","",ROUND(((G44-Q$9)/Q$10)*Q$18+Q$17,1)) -> 4.2 | I44: 19.7 | J44: =IF(I44="","",ROUND(((I44-Q$11)/Q$12)*Q$18+Q$17,1)) -> 17.3 | K44: 591 | L44: =IF(K44="","",ROUND(((K44-Q$13)/Q$14)*Q$18+Q$17,1)) -> 14.1 | M44: 21 | N44: =IF(M44="","",ROUND(((M44-Q$15)/Q$16)*Q$18+Q$17,1)) -> 21 | T44: WR | U44: Stefon Diggs | V44: =IFERROR(MIN(ROUND(MAX(0,AVERAGE(Y44,AA44,AC44,AE44,AG44)),1),14.7),"") -> 14.4 | W44: =COUNT(X44,Z44,AB44,AD44,AF44) -> 5 | X44: 18 | Y44: =IF(X44="","",ROUND(((X44-AJ$7)/AJ$8)*AJ$18+AJ$17,1)) -> 16.1 | Z44: 7 | AA44: =IF(Z44="","",ROUND(((Z44-AJ$9)/AJ$10)*AJ$18+AJ$17,1)) -> 5 | AB44: 17.7 | AC44: =IF(AB44="","",ROUND(((AB44-AJ$11)/AJ$12)*AJ$18+AJ$17,1)) -> 17.4 | AD44: 531.9 | AE44: =IF(AD44="","",ROUND(((AD44-AJ$13)/AJ$14)*AJ$18+AJ$17,1)) -> 12.5 | AF44: 21 | AG44: =IF(AF44="","",ROUND(((AF44-AJ$15)/AJ$16)*AJ$18+AJ$17,1)) -> 21 | AM44: WR | AN44: Tyreek Hill | AO44: =IFERROR(ROUND(MAX(0,AVERAGE(AR44,AT44)),1),"") -> 0 | AP44: =COUNT(AQ44,AS44) -> 2 | AQ44: 5 | AR44: =IF(AQ44="","",ROUND(((AQ44-BC$7)/BC$8)*BC$12+BC$11,1)) -> 1.9 | AS44: 15 | AT44: =IF(AS44="","",ROUND(((AS44-BC$9)/BC$10)*BC$12+BC$11,1)) -> -2.5
A45: WR | B45: Malik Washington | C45: =IFERROR(ROUND(MAX(0,AVERAGE(F45,H45,J45,L45,N45)),1),"") -> 13.5 | D45: =COUNT(E45,G45,I45,K45,M45) -> 4 | E45: 16 | F45: =IF(E45="","",ROUND(((E45-Q$7)/Q$8)*Q$18+Q$17,1)) -> 13.5 | H45: =IF(G45="","",ROUND(((G45-Q$9)/Q$10)*Q$18+Q$17,1)) | I45: 16.8 | J45: =IF(I45="","",ROUND(((I45-Q$11)/Q$12)*Q$18+Q$17,1)) -> 13.1 | K45: 517 | L45: =IF(K45="","",ROUND(((K45-Q$13)/Q$14)*Q$18+Q$17,1)) -> 12.2 | M45: 15 | N45: =IF(M45="","",ROUND(((M45-Q$15)/Q$16)*Q$18+Q$17,1)) -> 15 | T45: WR | U45: Malik Washington | V45: =IFERROR(MIN(ROUND(MAX(0,AVERAGE(Y45,AA45,AC45,AE45,AG45)),1),13.4),"") -> 12 | W45: =COUNT(X45,Z45,AB45,AD45,AF45) -> 4 | X45: 14 | Y45: =IF(X45="","",ROUND(((X45-AJ$7)/AJ$8)*AJ$18+AJ$17,1)) -> 12.5 | AA45: =IF(Z45="","",ROUND(((Z45-AJ$9)/AJ$10)*AJ$18+AJ$17,1)) | AB45: 14.7 | AC45: =IF(AB45="","",ROUND(((AB45-AJ$11)/AJ$12)*AJ$18+AJ$17,1)) -> 13 | AD45: 452.4 | AE45: =IF(AD45="","",ROUND(((AD45-AJ$13)/AJ$14)*AJ$18+AJ$17,1)) -> 10.4 | AF45: 12 | AG45: =IF(AF45="","",ROUND(((AF45-AJ$15)/AJ$16)*AJ$18+AJ$17,1)) -> 12 | AM45: WR | AN45: Jordyn Tyson | AO45: =IFERROR(ROUND(MAX(0,AVERAGE(AR45,AT45)),1),"") -> 0 | AP45: =COUNT(AQ45,AS45) -> 2 | AQ45: 5 | AR45: =IF(AQ45="","",ROUND(((AQ45-BC$7)/BC$8)*BC$12+BC$11,1)) -> 1.9 | AS45: 12 | AT45: =IF(AS45="","",ROUND(((AS45-BC$9)/BC$10)*BC$12+BC$11,1)) -> -5.3
A46: WR | B46: Jordyn Tyson | C46: =IFERROR(ROUND(MAX(0,AVERAGE(F46,H46,J46,L46,N46)),1),"") -> 12.9 | D46: =COUNT(E46,G46,I46,K46,M46) -> 5 | E46: 27 | F46: =IF(E46="","",ROUND(((E46-Q$7)/Q$8)*Q$18+Q$17,1)) -> 23.4 | G46: 5 | H46: =IF(G46="","",ROUND(((G46-Q$9)/Q$10)*Q$18+Q$17,1)) -> -0.5 | I46: 14.4 | J46: =IF(I46="","",ROUND(((I46-Q$11)/Q$12)*Q$18+Q$17,1)) -> 9.6 | K46: 822 | L46: =IF(K46="","",ROUND(((K46-Q$13)/Q$14)*Q$18+Q$17,1)) -> 20.2 | M46: 12 | N46: =IF(M46="","",ROUND(((M46-Q$15)/Q$16)*Q$18+Q$17,1)) -> 12 | T46: WR | U46: Jordyn Tyson | V46: =IFERROR(MIN(ROUND(MAX(0,AVERAGE(Y46,AA46,AC46,AE46,AG46)),1),12.9),"") -> 12.9 | W46: =COUNT(X46,Z46,AB46,AD46,AF46) -> 5 | X46: 25 | Y46: =IF(X46="","",ROUND(((X46-AJ$7)/AJ$8)*AJ$18+AJ$17,1)) -> 22.5 | Z46: 5 | AA46: =IF(Z46="","",ROUND(((Z46-AJ$9)/AJ$10)*AJ$18+AJ$17,1)) -> 1.8 | AB46: 14.4 | AC46: =IF(AB46="","",ROUND(((AB46-AJ$11)/AJ$12)*AJ$18+AJ$17,1)) -> 12.6 | AD46: 822 | AE46: =IF(AD46="","",ROUND(((AD46-AJ$13)/AJ$14)*AJ$18+AJ$17,1)) -> 20.1 | AF46: 12 | AG46: =IF(AF46="","",ROUND(((AF46-AJ$15)/AJ$16)*AJ$18+AJ$17,1)) -> 12 | AM46: WR | AN46: Jordan Addison | AO46: =IFERROR(ROUND(MAX(0,AVERAGE(AR46,AT46)),1),"") -> 0 | AP46: =COUNT(AQ46,AS46) -> 2 | AQ46: 6 | AR46: =IF(AQ46="","",ROUND(((AQ46-BC$7)/BC$8)*BC$12+BC$11,1)) -> 3.2 | AS46: 9 | AT46: =IF(AS46="","",ROUND(((AS46-BC$9)/BC$10)*BC$12+BC$11,1)) -> -8.2
A47: WR | B47: Josh Downs | C47: =IFERROR(ROUND(MAX(0,AVERAGE(F47,H47,J47,L47,N47)),1),"") -> 12.9 | D47: =COUNT(E47,G47,I47,K47,M47) -> 5 | E47: 18 | F47: =IF(E47="","",ROUND(((E47-Q$7)/Q$8)*Q$18+Q$17,1)) -> 15.3 | G47: 6 | H47: =IF(G47="","",ROUND(((G47-Q$9)/Q$10)*Q$18+Q$17,1)) -> 1.1 | I47: 21.1 | J47: =IF(I47="","",ROUND(((I47-Q$11)/Q$12)*Q$18+Q$17,1)) -> 19.4 | K47: 614 | L47: =IF(K47="","",ROUND(((K47-Q$13)/Q$14)*Q$18+Q$17,1)) -> 14.7 | M47: 14 | N47: =IF(M47="","",ROUND(((M47-Q$15)/Q$16)*Q$18+Q$17,1)) -> 14 | T47: WR | U47: Josh Downs | V47: =IFERROR(MIN(ROUND(MAX(0,AVERAGE(Y47,AA47,AC47,AE47,AG47)),1),12.8),"") -> 12.7 | W47: =COUNT(X47,Z47,AB47,AD47,AF47) -> 5 | X47: 16 | Y47: =IF(X47="","",ROUND(((X47-AJ$7)/AJ$8)*AJ$18+AJ$17,1)) -> 14.3 | Z47: 5.6 | AA47: =IF(Z47="","",ROUND(((Z47-AJ$9)/AJ$10)*AJ$18+AJ$17,1)) -> 2.8 | AB47: 19.6 | AC47: =IF(AB47="","",ROUND(((AB47-AJ$11)/AJ$12)*AJ$18+AJ$17,1)) -> 20.1 | AD47: 570.1 | AE47: =IF(AD47="","",ROUND(((AD47-AJ$13)/AJ$14)*AJ$18+AJ$17,1)) -> 13.5 | AF47: 13 | AG47: =IF(AF47="","",ROUND(((AF47-AJ$15)/AJ$16)*AJ$18+AJ$17,1)) -> 13
A48: WR | B48: Jakobi Meyers | C48: =IFERROR(ROUND(MAX(0,AVERAGE(F48,H48,J48,L48,N48)),1),"") -> 12.8 | D48: =COUNT(E48,G48,I48,K48,M48) -> 4 | E48: 12 | F48: =IF(E48="","",ROUND(((E48-Q$7)/Q$8)*Q$18+Q$17,1)) -> 9.9 | H48: =IF(G48="","",ROUND(((G48-Q$9)/Q$10)*Q$18+Q$17,1)) | I48: 17.5 | J48: =IF(I48="","",ROUND(((I48-Q$11)/Q$12)*Q$18+Q$17,1)) -> 14.1 | K48: 484 | L48: =IF(K48="","",ROUND(((K48-Q$13)/Q$14)*Q$18+Q$17,1)) -> 11.3 | M48: 16 | N48: =IF(M48="","",ROUND(((M48-Q$15)/Q$16)*Q$18+Q$17,1)) -> 16 | T48: WR | U48: Jakobi Meyers | V48: =IFERROR(MIN(ROUND(MAX(0,AVERAGE(Y48,AA48,AC48,AE48,AG48)),1),12.8),"") -> 12.5 | W48: =COUNT(X48,Z48,AB48,AD48,AF48) -> 4 | X48: 10 | Y48: =IF(X48="","",ROUND(((X48-AJ$7)/AJ$8)*AJ$18+AJ$17,1)) -> 8.9 | AA48: =IF(Z48="","",ROUND(((Z48-AJ$9)/AJ$10)*AJ$18+AJ$17,1)) | AB48: 16.4 | AC48: =IF(AB48="","",ROUND(((AB48-AJ$11)/AJ$12)*AJ$18+AJ$17,1)) -> 15.5 | AD48: 453.8 | AE48: =IF(AD48="","",ROUND(((AD48-AJ$13)/AJ$14)*AJ$18+AJ$17,1)) -> 10.4 | AF48: 15 | AG48: =IF(AF48="","",ROUND(((AF48-AJ$15)/AJ$16)*AJ$18+AJ$17,1)) -> 15
A49: WR | B49: Jordan Addison | C49: =IFERROR(ROUND(MAX(0,AVERAGE(F49,H49,J49,L49,N49)),1),"") -> 12.7 | D49: =COUNT(E49,G49,I49,K49,M49) -> 5 | E49: 17 | F49: =IF(E49="","",ROUND(((E49-Q$7)/Q$8)*Q$18+Q$17,1)) -> 14.4 | G49: 8 | H49: =IF(G49="","",ROUND(((G49-Q$9)/Q$10)*Q$18+Q$17,1)) -> 4.2 | I49: 18.9 | J49: =IF(I49="","",ROUND(((I49-Q$11)/Q$12)*Q$18+Q$17,1)) -> 16.2 | K49: 810 | L49: =IF(K49="","",ROUND(((K49-Q$13)/Q$14)*Q$18+Q$17,1)) -> 19.9 | M49: 9 | N49: =IF(M49="","",ROUND(((M49-Q$15)/Q$16)*Q$18+Q$17,1)) -> 9 | T49: WR | U49: Jordan Addison | V49: =IFERROR(MIN(ROUND(MAX(0,AVERAGE(Y49,AA49,AC49,AE49,AG49)),1),12.7),"") -> 12.1 | W49: =COUNT(X49,Z49,AB49,AD49,AF49) -> 5 | X49: 15 | Y49: =IF(X49="","",ROUND(((X49-AJ$7)/AJ$8)*AJ$18+AJ$17,1)) -> 13.4 | Z49: 7 | AA49: =IF(Z49="","",ROUND(((Z49-AJ$9)/AJ$10)*AJ$18+AJ$17,1)) -> 5 | AB49: 16.7 | AC49: =IF(AB49="","",ROUND(((AB49-AJ$11)/AJ$12)*AJ$18+AJ$17,1)) -> 15.9 | AD49: 714.7 | AE49: =IF(AD49="","",ROUND(((AD49-AJ$13)/AJ$14)*AJ$18+AJ$17,1)) -> 17.3 | AF49: 9 | AG49: =IF(AF49="","",ROUND(((AF49-AJ$15)/AJ$16)*AJ$18+AJ$17,1)) -> 9
A50: WR | B50: Wan'Dale Robinson | C50: =IFERROR(ROUND(MAX(0,AVERAGE(F50,H50,J50,L50,N50)),1),"") -> 12.3 | D50: =COUNT(E50,G50,I50,K50,M50) -> 4 | E50: 13 | F50: =IF(E50="","",ROUND(((E50-Q$7)/Q$8)*Q$18+Q$17,1)) -> 10.8 | H50: =IF(G50="","",ROUND(((G50-Q$9)/Q$10)*Q$18+Q$17,1)) | I50: 16.1 | J50: =IF(I50="","",ROUND(((I50-Q$11)/Q$12)*Q$18+Q$17,1)) -> 12.1 | K50: 522 | L50: =IF(K50="","",ROUND(((K50-Q$13)/Q$14)*Q$18+Q$17,1)) -> 12.3 | M50: 14 | N50: =IF(M50="","",ROUND(((M50-Q$15)/Q$16)*Q$18+Q$17,1)) -> 14 | T50: WR | U50: Wan'Dale Robinson | V50: =IFERROR(MIN(ROUND(MAX(0,AVERAGE(Y50,AA50,AC50,AE50,AG50)),1),12.2),"") -> 10.6 | W50: =COUNT(X50,Z50,AB50,AD50,AF50) -> 4 | X50: 11 | Y50: =IF(X50="","",ROUND(((X50-AJ$7)/AJ$8)*AJ$18+AJ$17,1)) -> 9.8 | AA50: =IF(Z50="","",ROUND(((Z50-AJ$9)/AJ$10)*AJ$18+AJ$17,1)) | AB50: 13.6 | AC50: =IF(AB50="","",ROUND(((AB50-AJ$11)/AJ$12)*AJ$18+AJ$17,1)) -> 11.4 | AD50: 441.7 | AE50: =IF(AD50="","",ROUND(((AD50-AJ$13)/AJ$14)*AJ$18+AJ$17,1)) -> 10.1 | AF50: 11 | AG50: =IF(AF50="","",ROUND(((AF50-AJ$15)/AJ$16)*AJ$18+AJ$17,1)) -> 11
A51: WR | B51: KC Concepcion Jr. | C51: =IFERROR(ROUND(MAX(0,AVERAGE(F51,H51,J51,L51,N51)),1),"") -> 11.3 | D51: =COUNT(E51,G51,I51,K51,M51) -> 4 | E51: 15 | F51: =IF(E51="","",ROUND(((E51-Q$7)/Q$8)*Q$18+Q$17,1)) -> 12.6 | H51: =IF(G51="","",ROUND(((G51-Q$9)/Q$10)*Q$18+Q$17,1)) | I51: 17.2 | J51: =IF(I51="","",ROUND(((I51-Q$11)/Q$12)*Q$18+Q$17,1)) -> 13.7 | K51: 469 | L51: =IF(K51="","",ROUND(((K51-Q$13)/Q$14)*Q$18+Q$17,1)) -> 10.9 | M51: 8 | N51: =IF(M51="","",ROUND(((M51-Q$15)/Q$16)*Q$18+Q$17,1)) -> 8 | T51: WR | U51: KC Concepcion Jr. | V51: =IFERROR(MIN(ROUND(MAX(0,AVERAGE(Y51,AA51,AC51,AE51,AG51)),1),11.2),"") -> 11.2 | W51: =COUNT(X51,Z51,AB51,AD51,AF51) -> 4 | X51: 13 | Y51: =IF(X51="","",ROUND(((X51-AJ$7)/AJ$8)*AJ$18+AJ$17,1)) -> 11.6 | AA51: =IF(Z51="","",ROUND(((Z51-AJ$9)/AJ$10)*AJ$18+AJ$17,1)) | AB51: 17.2 | AC51: =IF(AB51="","",ROUND(((AB51-AJ$11)/AJ$12)*AJ$18+AJ$17,1)) -> 16.7 | AD51: 469 | AE51: =IF(AD51="","",ROUND(((AD51-AJ$13)/AJ$14)*AJ$18+AJ$17,1)) -> 10.8 | AF51: 8 | AG51: =IF(AF51="","",ROUND(((AF51-AJ$15)/AJ$16)*AJ$18+AJ$17,1)) -> 8
A52: WR | B52: Khalil Shakir | C52: =IFERROR(ROUND(MAX(0,AVERAGE(F52,H52,J52,L52,N52)),1),"") -> 10.7 | D52: =COUNT(E52,G52,I52,K52,M52) -> 4 | E52: 12 | F52: =IF(E52="","",ROUND(((E52-Q$7)/Q$8)*Q$18+Q$17,1)) -> 9.9 | H52: =IF(G52="","",ROUND(((G52-Q$9)/Q$10)*Q$18+Q$17,1)) | I52: 18.7 | J52: =IF(I52="","",ROUND(((I52-Q$11)/Q$12)*Q$18+Q$17,1)) -> 15.9 | K52: 474 | L52: =IF(K52="","",ROUND(((K52-Q$13)/Q$14)*Q$18+Q$17,1)) -> 11 | M52: 6 | N52: =IF(M52="","",ROUND(((M52-Q$15)/Q$16)*Q$18+Q$17,1)) -> 6 | T52: WR | U52: Khalil Shakir | V52: =IFERROR(MIN(ROUND(MAX(0,AVERAGE(Y52,AA52,AC52,AE52,AG52)),1),10.6),"") -> 9.3 | W52: =COUNT(X52,Z52,AB52,AD52,AF52) -> 4 | X52: 10 | Y52: =IF(X52="","",ROUND(((X52-AJ$7)/AJ$8)*AJ$18+AJ$17,1)) -> 8.9 | AA52: =IF(Z52="","",ROUND(((Z52-AJ$9)/AJ$10)*AJ$18+AJ$17,1)) | AB52: 15.6 | AC52: =IF(AB52="","",ROUND(((AB52-AJ$11)/AJ$12)*AJ$18+AJ$17,1)) -> 14.3 | AD52: 395 | AE52: =IF(AD52="","",ROUND(((AD52-AJ$13)/AJ$14)*AJ$18+AJ$17,1)) -> 8.8 | AF52: 5 | AG52: =IF(AF52="","",ROUND(((AF52-AJ$15)/AJ$16)*AJ$18+AJ$17,1)) -> 5
A53: WR | B53: Adonai Mitchell | C53: =IFERROR(ROUND(MAX(0,AVERAGE(F53,H53,J53,L53,N53)),1),"") -> 10.1 | D53: =COUNT(E53,G53,I53,K53,M53) -> 4 | E53: 14 | F53: =IF(E53="","",ROUND(((E53-Q$7)/Q$8)*Q$18+Q$17,1)) -> 11.7 | H53: =IF(G53="","",ROUND(((G53-Q$9)/Q$10)*Q$18+Q$17,1)) | I53: 15.8 | J53: =IF(I53="","",ROUND(((I53-Q$11)/Q$12)*Q$18+Q$17,1)) -> 11.6 | K53: 393 | L53: =IF(K53="","",ROUND(((K53-Q$13)/Q$14)*Q$18+Q$17,1)) -> 8.9 | M53: 8 | N53: =IF(M53="","",ROUND(((M53-Q$15)/Q$16)*Q$18+Q$17,1)) -> 8 | T53: WR | U53: Adonai Mitchell | V53: =IFERROR(MIN(ROUND(MAX(0,AVERAGE(Y53,AA53,AC53,AE53,AG53)),1),10),"") -> 10 | W53: =COUNT(X53,Z53,AB53,AD53,AF53) -> 4 | X53: 12 | Y53: =IF(X53="","",ROUND(((X53-AJ$7)/AJ$8)*AJ$18+AJ$17,1)) -> 10.7 | AA53: =IF(Z53="","",ROUND(((Z53-AJ$9)/AJ$10)*AJ$18+AJ$17,1)) | AB53: 15.8 | AC53: =IF(AB53="","",ROUND(((AB53-AJ$11)/AJ$12)*AJ$18+AJ$17,1)) -> 14.6 | AD53: 393 | AE53: =IF(AD53="","",ROUND(((AD53-AJ$13)/AJ$14)*AJ$18+AJ$17,1)) -> 8.8 | AF53: 8 | AG53: =IF(AF53="","",ROUND(((AF53-AJ$15)/AJ$16)*AJ$18+AJ$17,1)) -> 8
A54: WR | B54: Devaughn Vele | C54: =IFERROR(ROUND(MAX(0,AVERAGE(F54,H54,J54,L54,N54)),1),"") -> 9.6 | D54: =COUNT(E54,G54,I54,K54,M54) -> 5 | E54: 14 | F54: =IF(E54="","",ROUND(((E54-Q$7)/Q$8)*Q$18+Q$17,1)) -> 11.7 | G54: 6 | H54: =IF(G54="","",ROUND(((G54-Q$9)/Q$10)*Q$18+Q$17,1)) -> 1.1 | I54: 13.9 | J54: =IF(I54="","",ROUND(((I54-Q$11)/Q$12)*Q$18+Q$17,1)) -> 8.9 | K54: 526 | L54: =IF(K54="","",ROUND(((K54-Q$13)/Q$14)*Q$18+Q$17,1)) -> 12.4 | M54: 14 | N54: =IF(M54="","",ROUND(((M54-Q$15)/Q$16)*Q$18+Q$17,1)) -> 14 | T54: WR | U54: Devaughn Vele | V54: =IFERROR(MIN(ROUND(MAX(0,AVERAGE(Y54,AA54,AC54,AE54,AG54)),1),9.6),"") -> 9.6 | W54: =COUNT(X54,Z54,AB54,AD54,AF54) -> 5 | X54: 12 | Y54: =IF(X54="","",ROUND(((X54-AJ$7)/AJ$8)*AJ$18+AJ$17,1)) -> 10.7 | Z54: 6 | AA54: =IF(Z54="","",ROUND(((Z54-AJ$9)/AJ$10)*AJ$18+AJ$17,1)) -> 3.4 | AB54: 13.9 | AC54: =IF(AB54="","",ROUND(((AB54-AJ$11)/AJ$12)*AJ$18+AJ$17,1)) -> 11.9 | AD54: 526 | AE54: =IF(AD54="","",ROUND(((AD54-AJ$13)/AJ$14)*AJ$18+AJ$17,1)) -> 12.3 | AF54: 14 | AG54: =IF(AF54="","",ROUND(((AF54-AJ$15)/AJ$16)*AJ$18+AJ$17,1)) -> 14
A55: WR | B55: Kendrick Bourne | C55: =IFERROR(ROUND(MAX(0,AVERAGE(F55,H55,J55,L55,N55)),1),"") -> 9.1 | D55: =COUNT(E55,G55,I55,K55,M55) -> 3 | E55: 14 | F55: =IF(E55="","",ROUND(((E55-Q$7)/Q$8)*Q$18+Q$17,1)) -> 11.7 | H55: =IF(G55="","",ROUND(((G55-Q$9)/Q$10)*Q$18+Q$17,1)) | J55: =IF(I55="","",ROUND(((I55-Q$11)/Q$12)*Q$18+Q$17,1)) | K55: 384 | L55: =IF(K55="","",ROUND(((K55-Q$13)/Q$14)*Q$18+Q$17,1)) -> 8.7 | M55: 7 | N55: =IF(M55="","",ROUND(((M55-Q$15)/Q$16)*Q$18+Q$17,1)) -> 7 | T55: WR | U55: Kendrick Bourne | V55: =IFERROR(MIN(ROUND(MAX(0,AVERAGE(Y55,AA55,AC55,AE55,AG55)),1),9.1),"") -> 7.9 | W55: =COUNT(X55,Z55,AB55,AD55,AF55) -> 3 | X55: 12 | Y55: =IF(X55="","",ROUND(((X55-AJ$7)/AJ$8)*AJ$18+AJ$17,1)) -> 10.7 | AA55: =IF(Z55="","",ROUND(((Z55-AJ$9)/AJ$10)*AJ$18+AJ$17,1)) | AC55: =IF(AB55="","",ROUND(((AB55-AJ$11)/AJ$12)*AJ$18+AJ$17,1)) | AD55: 329.1 | AE55: =IF(AD55="","",ROUND(((AD55-AJ$13)/AJ$14)*AJ$18+AJ$17,1)) -> 7.1 | AF55: 6 | AG55: =IF(AF55="","",ROUND(((AF55-AJ$15)/AJ$16)*AJ$18+AJ$17,1)) -> 6
A56: WR | B56: Germie Bernard | C56: =IFERROR(ROUND(MAX(0,AVERAGE(F56,H56,J56,L56,N56)),1),"") -> 9.1 | D56: =COUNT(E56,G56,I56,K56,M56) -> 4 | E56: 24 | F56: =IF(E56="","",ROUND(((E56-Q$7)/Q$8)*Q$18+Q$17,1)) -> 20.7 | H56: =IF(G56="","",ROUND(((G56-Q$9)/Q$10)*Q$18+Q$17,1)) | I56: 7.4 | J56: =IF(I56="","",ROUND(((I56-Q$11)/Q$12)*Q$18+Q$17,1)) -> -0.6 | K56: 403 | L56: =IF(K56="","",ROUND(((K56-Q$13)/Q$14)*Q$18+Q$17,1)) -> 9.2 | M56: 7 | N56: =IF(M56="","",ROUND(((M56-Q$15)/Q$16)*Q$18+Q$17,1)) -> 7 | T56: WR | U56: Germie Bernard | V56: =IFERROR(MIN(ROUND(MAX(0,AVERAGE(Y56,AA56,AC56,AE56,AG56)),1),9),"") -> 9 | W56: =COUNT(X56,Z56,AB56,AD56,AF56) -> 4 | X56: 22 | Y56: =IF(X56="","",ROUND(((X56-AJ$7)/AJ$8)*AJ$18+AJ$17,1)) -> 19.8 | AA56: =IF(Z56="","",ROUND(((Z56-AJ$9)/AJ$10)*AJ$18+AJ$17,1)) | AB56: 7.4 | AC56: =IF(AB56="","",ROUND(((AB56-AJ$11)/AJ$12)*AJ$18+AJ$17,1)) -> 2.4 | AD56: 403 | AE56: =IF(AD56="","",ROUND(((AD56-AJ$13)/AJ$14)*AJ$18+AJ$17,1)) -> 9.1 | AF56: 7 | AG56: =IF(AF56="","",ROUND(((AF56-AJ$15)/AJ$16)*AJ$18+AJ$17,1)) -> 7
